Workbook

Sheet Posicion
A1: Cuenta | B1: Fecha Cierre | C1: Saldo
A2: Cuenta A | B2: 42673 | C2: 3510
A3: Cuenta B | B3: 42673 | C3: 875
A4: Cuenta C | B4: 42671 | C4: 4450
A5: Cuenta D | B5: 42668 | C5: 21034
A6: Cuenta E | B6: 42673 | C6: 12779

Sheet Movtos
A1: Cuenta | B1: Fecha Movto | C1: Importe
A2: Cuenta A | B2: 42644 | C2: -80.3
A3: Cuenta A | B3: 42646 | C3: -139.46
A4: Cuenta A | B4: 42649 | C4: -154.25
A5: Cuenta A | B5: 42651 | C5: -119
A6: Cuenta A | B6: 42654 | C6: -80.3
A7: Cuenta A | B7: 42656 | C7: -22.43
A8: Cuenta A | B8: 42659 | C8: -6.35
A9: Cuenta A | B9: 42661 | C9: 1.602
A10: Cuenta A | B10: 42664 | C10: 67.6
A11: Cuenta A | B11: 42666 | C11: 30.822
A12: Cuenta A | B12: 42673 | C12: -405
A13: Cuenta B | B13: 42645 | C13: -65.51
... A52: Cuenta E | B52: 42673 | C52: 45.25

Sheet Resultado
A1: =+Movtos!A1 -> Cuenta | B1: =+Movtos!B1 -> Fecha Movto | C1: =+Movtos!C1 -> Importe | D1: Posición
A2: =+Movtos!A2 -> Cuenta A | B2: =+Movtos!B2 -> 42644 | C2: =+Movtos!C2 -> -80.3
A3: =+Movtos!A3 -> Cuenta A | B3: =+Movtos!B3 -> 42646 | C3: =+Movtos!C3 -> -139.46
A4: =+Movtos!A4 -> Cuenta A | B4: =+Movtos!B4 -> 42649 | C4: =+Movtos!C4 -> -154.25
A5: =+Movtos!A5 -> Cuenta A | B5: =+Movtos!B5 -> 42651 | C5: =+Movtos!C5 -> -119
A6: =+Movtos!A6 -> Cuenta A | B6: =+Movtos!B6 -> 42654 | C6: =+Movtos!C6 -> -80.3
A7: =+Movtos!A7 -> Cuenta A | B7: =+Movtos!B7 -> 42656 | C7: =+Movtos!C7 -> -22.43
A8: =+Movtos!A8 -> Cuenta A | B8: =+Movtos!B8 -> 42659 | C8: =+Movtos!C8 -> -6.35
A9: =+Movtos!A9 -> Cuenta A | B9: =+Movtos!B9 -> 42661 | C9: =+Movtos!C9 -> 1.602
A10: =+Movtos!A10 -> Cuenta A | B10: =+Movtos!B10 -> 42664 | C10: =+Movtos!C10 -> 67.6
A11: =+Movtos!A11 -> Cuenta A | B11: =+Movtos!B11 -> 42666 | C11: =+Movtos!C11 -> 30.822
A12: =+Movtos!A12 -> Cuenta A | B12: =+Movtos!B12 -> 42673 | C12: =+Movtos!C12 -> -405
A13: =+Movtos!A13 -> Cuenta B | B13: =+Movtos!B13 -> 42645 | C13: =+Movtos!C13 -> -65.51
... A52: =+Movtos!A52 -> Cuenta E | B52: =+Movtos!B52 -> 42673 | C52: =+Movtos!C52 -> 45.25
