Workbook
Name EQUIPE: [1]!Equipes[Equipe]
Name EquipeGraf: '[1]Análise Equipe'!$B$8
Name MacroSitrack: [1]!SitrackONOFF[Sitrack]
Name SitrackVBA: '[1]Inf Gerais'!#REF!

Sheet MIP
A1: MIP - Diário das equipes | S1: Tempo padrão / tipo protocolo
S2: TP-1 | T2: TP-2 | U2: TP-3 | V2: TP > 3 (por ponto)
A3: Responsáveis: Vinicius Dantas e Rafael Resende | S3: =VLOOKUP(S2,[1]!UltTP[#Data],2,FALSE) -> 0.025025853 | T3: =VLOOKUP(T2,[1]!UltTP[#Data],2,FALSE) -> 0.043908766 | U3: =VLOOKUP(U2,[1]!UltTP[#Data],2,FALSE) -> 0.062791679 | V3: =VLOOKUP(V2,[1]!UltTP[#Data],2,FALSE) -> 0.020248011
D4: P. aut.
D5: Desativado | I5: Qnt protocolos / tipo | M5: Horários | AA5: Indicadores / Equipe
B6: Sem | C6: Data | D6: Turno | E6: Equipe | F6: Previsto / Realizado | G6: Placa | H6: Qnt Colab | I6: PT-1 | J6: PT-2 | K6: PT-3 | L6: PT > 3 Pontos | M6: P.E | N6: S.B | O6: U.P | P6: P.S | Q6: HH AC extra | R6: Observação | S6: Pontos | T6: HH AC TOT | U6: HH AC IN/OUT | V6: # | W6: Exc | X6: HH disponível | Y6: HH Produtivo Total | Z6: HH Trabalhado | AA6: Eficiência | AB6: Produtividade | AC6: Utilização | AD6: Colaborador 1 | AE6: Colaborador 2 | AF6: Qntd de paradas | AG6: Hora inserção | AH6: Comentário sistema | AI6: S.B Sitrack | AJ6: C.B Sitrack | AK6: Distorção | AL6: Distância Sitrack | AM6: Tempo parado | AN6: % tempo parado | AO6: Rota | AP6: Sem_fin | AQ6: Sem_fin Sit
B7: =WEEKNUM(MIP[[#This Row],[Data]]) -> 19 | C7: 42863 | E7: EDILTON / CLAUDINEY | F7: Previsto | H7: 2 | I7: 8 | J7: 2 | K7: 0 | L7: 0 | M7: 0.625 | N7: 0.64583333 | O7: =18/24/60 -> 0.0125 | P7: =48/24/60 -> 0.033333333 | S7: =MIP[[#This Row],[PT-1]]+MIP[[#This Row],[PT-2]]*2+MIP[[#This Row],[PT-3]]*3+MIP[[#This Row],[PT > 3 Pontos]] -> 12 | T7: =IF(MIP[[#This Row],[P.S]]-MIP[[#This Row],[U.P]]>=0,MIP[[#This Row],[P.S]]-MIP[[#This Row],[U.P]]+MIP[[#This Row],[S.B]]-MIP[[#This Row],[P.E]],1+MIP[[#This Row],[P.S]]-MIP[[#This Row],[U.P]]+MIP[[#This Row],[S.B]]-MIP[[#This Row],[P.E]])+MIP[[#This Row],[HH AC extra]] -> 0.041666667 | U7: =IF(MIP[[#This Row],[P.S]]-MIP[[#This Row],[U.P]]>=0,MIP[[#This Row],[P.S]]-MIP[[#This Row],[U.P]]+MIP[[#This Row],[S.B]]-MIP[[#This Row],[P.E]],1+MIP[[#This Row],[P.S]]-MIP[[#This Row],[U.P]]+MIP[[#This Row],[S.B]]-MIP[[#This Row],[P.E]]) -> 0.041666667 | V7: =MIP[[#This Row],[Eficiência]] -> 0.88622879 | W7: =SUMIFS([1]!Excecoes[Coluna1],[1]!Excecoes[Dia],MIP[[#This Row],[Data]],[1]!Excecoes[Equipe],MIP[[#This Row],[Equipe]],[1]!Excecoes[Previsto / Realizado],MIP[[#This Row],[Previsto / Realizado]])+IF(MIP[[#This Row],[HH AC TOT]]>0.5,1,0)+IF(AND(OR(ISBLANK(MIP[[#This Row],[P.E]]),ISBLANK(MIP[[#This Row],[S.B]]),ISBLANK(MIP[[#This Row],[U.P]]),ISBLANK(MIP[[#This Row],[P.S]])),ISTEXT(MIP[[#This Row],[Equipe]])),1,IF(MIP[[#This Row],[P.E]]>MIP[[#This Row],[S.B]],1,0)+IF([1]Excessões!$H$6="Ativadas",IF(MIP[[#This Row],[HH AC TOT]]<0.0083,1,0)+IF(OR(MIP[[#This Row],[Eficiência]]>2,MIP[[#This Row],[Eficiência]]<0.3),1,0),0)) -> 0 | X7: =IF(MIP[[#This Row],[P.S]]-MIP[[#This Row],[P.E]]<0,1+MIP[[#This Row],[P.S]]-MIP[[#This Row],[P.E]]-1/24,MIP[[#This Row],[P.S]]-MIP[[#This Row],[P.E]]-1/24) -> 0.36666667 | Y7: =MIP[[#This Row],[PT-1]]*$S$3+MIP[[#This Row],[PT-2]]*$T$3+MIP[[#This Row],[PT-3]]*$U$3+MIP[[#This Row],[PT > 3 Pontos]]*$V$3 -> 0.28802436 | Z7: =MIP[[#This Row],[HH disponível]]-MIP[[#This Row],[HH AC TOT]] -> 0.325 | AA7: =MIP[[#This Row],[HH Produtivo Total]]/MIP[[#This Row],[HH Trabalhado]] -> 0.88622879 | AB7: =MIP[[#This Row],[HH Produtivo Total]]/MIP[[#This Row],[HH disponível]] -> 0.78552097 | AC7: =MIP[[#This Row],[HH Trabalhado]]/MIP[[#This Row],[HH disponível]] -> 0.88636364 | AD7: =LEFT(MIP[[#This Row],[Equipe]], SEARCH("/",MIP[[#This Row],[Equipe]],1)-1) -> EDILTON | AE7: =RIGHT(MIP[[#This Row],[Equipe]], LEN(MIP[[#This Row],[Equipe]])-SEARCH("/",MIP[[#This Row],[Equipe]],1)) -> CLAUDINEY | AF7: =COUNTIFS('[1]Tempo parado'!H:H,">="&MIP[[#This Row],[S.B Sitrack]],'[1]Tempo parado'!I:I,"<="&MIP[[#This Row],[C.B Sitrack]],'[1]Tempo parado'!B:B,MIP[[#This Row],[Placa]]) -> 0 | AK7: =IF(OR(MIP[[#This Row],[S.B Sitrack]]="",MIP[[#This Row],[C.B Sitrack]]=""),"-",IF(TIME(HOUR(MIP[[#This Row],[C.B Sitrack]]),MINUTE(MIP[[#This Row],[C.B Sitrack]]),SECOND(HOUR(MIP[[#This Row],[C.B Sitrack]])))-(MIP[[#This Row],[U.P]]-TRUNC(MIP[[#This Row],[U.P]],0))<0,(TIME(HOUR(MIP[[#This Row],[C.B Sitrack]]),MINUTE(MIP[[#This Row],[C.B Sitrack]]),SECOND(HOUR(MIP[[#This Row],[C.B Sitrack]])))-(MIP[[#This Row],[U.P]]-TRUNC(MIP[[#This Row],[U.P]],0)))*(-1),TIME(HOUR(MIP[[#This Row],[C.B Sitrack]]),MINUTE(MIP[[#This Row],[C.B Sitrack]]),SECOND(HOUR(MIP[[#This Row],[C.B Sitrack]])))-(MIP[[#This Row],[U.P]]-TRUNC(MIP[[#This Row],[U.P]],0)))+IF(TIME(HOUR(MIP[[#This Row],[S.B Sitrack]]),MINUTE(MIP[[#This Row],[S.B Sitrack]]),SECOND(HOUR(MIP[[#This Row],[S.B Sitrack]])))-(MIP[[#This Row],[S.B]]-TRUNC(MIP[[#This Row],[S.B]],0))<0,(TIME(HOUR(MIP[[#This Row],[S.B Sitrack]]),MINUTE(MIP[[#This Row],[S.B Sitrack]]),SECOND(HOUR(MIP[[#This Row],[S.B Sitrack]])))-(MIP[[#This Row],[S.B]]-TRUNC(MIP[[#This Row],[S.B]],0)))*(-1),TIME(HOUR(MIP[[#This Row],[S.B Sitrack]]),MINUTE(MIP[[#This Row],[S.B Sitrack]]),SECOND(HOUR(MIP[[#This Row],[S.B Sitrack]])))-(MIP[[#This Row],[S.B]]-TRUNC(MIP[[#This Row],[S.B]],0)))) -> - | AL7: =SUMIFS([1]!Tempoviagem[DISTANCIA (KM)],[1]!Tempoviagem[DATA INICIO],">="&MIP[[#This Row],[S.B Sitrack]],[1]!Tempoviagem[DATA FIM],"<="&MIP[[#This Row],[C.B Sitrack]],[1]!Tempoviagem[PLACA],MIP[[#This Row],[Placa]],[1]!Tempoviagem[DISTANCIA (KM)],">0",[1]!Tempoviagem[VELOCIDADE MÉDIA (KM/H)],"<150") -> 0 | AM7: =SUMIFS('[1]Tempo parado'!J:J,'[1]Tempo parado'!H:H,">="&MIP[[#This Row],[S.B Sitrack]],'[1]Tempo parado'!I:I,"<="&MIP[[#This Row],[C.B Sitrack]],'[1]Tempo parado'!B:B,MIP[[#This Row],[Placa]]) -> 0 | AN7: =IFERROR(MIP[[#This Row],[Tempo parado]]/(MIP[[#This Row],[C.B Sitrack]]-MIP[[#This Row],[S.B Sitrack]]),"") | AP7: =IF(AND(MIP[Exc]=0,MIP[Previsto / Realizado]="Realizado"),MIP[Sem],0) -> 0 | AQ7: =IF(AND(MIP[Exc]=0,MIP[Previsto / Realizado]="Realizado",ISBLANK(MIP[[#This Row],[S.B Sitrack]])=FALSE,ISBLANK(MIP[[#This Row],[C.B Sitrack]])=FALSE),MIP[Sem],0) -> 0
B8: =WEEKNUM(MIP[[#This Row],[Data]]) -> 19 | C8: 42863 | E8: EDILTON / CLAUDINEY | F8: Realizado | H8: 2 | I8: 8 | J8: 1 | K8: 0 | L8: 0 | M8: 0.625 | N8: 0.7 | O8: =1 -> 1 | P8: =1/24/60*48 -> 0.033333333 | R8: Implantação do novo procedimento de reposição de materiais. | S8: =MIP[[#This Row],[PT-1]]+MIP[[#This Row],[PT-2]]*2+MIP[[#This Row],[PT-3]]*3+MIP[[#This Row],[PT > 3 Pontos]] -> 10 | T8: =IF(MIP[[#This Row],[P.S]]-MIP[[#This Row],[U.P]]>=0,MIP[[#This Row],[P.S]]-MIP[[#This Row],[U.P]]+MIP[[#This Row],[S.B]]-MIP[[#This Row],[P.E]],1+MIP[[#This Row],[P.S]]-MIP[[#This Row],[U.P]]+MIP[[#This Row],[S.B]]-MIP[[#This Row],[P.E]])+MIP[[#This Row],[HH AC extra]] -> 0.10833333 | U8: =IF(MIP[[#This Row],[P.S]]-MIP[[#This Row],[U.P]]>=0,MIP[[#This Row],[P.S]]-MIP[[#This Row],[U.P]]+MIP[[#This Row],[S.B]]-MIP[[#This Row],[P.E]],1+MIP[[#This Row],[P.S]]-MIP[[#This Row],[U.P]]+MIP[[#This Row],[S.B]]-MIP[[#This Row],[P.E]]) -> 0.10833333 | V8: =MIP[[#This Row],[Eficiência]] -> 0.94496357 | W8: =SUMIFS([1]!Excecoes[Coluna1],[1]!Excecoes[Dia],MIP[[#This Row],[Data]],[1]!Excecoes[Equipe],MIP[[#This Row],[Equipe]],[1]!Excecoes[Previsto / Realizado],MIP[[#This Row],[Previsto / Realizado]])+IF(MIP[[#This Row],[HH AC TOT]]>0.5,1,0)+IF(AND(OR(ISBLANK(MIP[[#This Row],[P.E]]),ISBLANK(MIP[[#This Row],[S.B]]),ISBLANK(MIP[[#This Row],[U.P]]),ISBLANK(MIP[[#This Row],[P.S]])),ISTEXT(MIP[[#This Row],[Equipe]])),1,IF(MIP[[#This Row],[P.E]]>MIP[[#This Row],[S.B]],1,0)+IF([1]Excessões!$H$6="Ativadas",IF(MIP[[#This Row],[HH AC TOT]]<0.0083,1,0)+IF(OR(MIP[[#This Row],[Eficiência]]>2,MIP[[#This Row],[Eficiência]]<0.3),1,0),0)) -> 0 | X8: =IF(MIP[[#This Row],[P.S]]-MIP[[#This Row],[P.E]]<0,1+MIP[[#This Row],[P.S]]-MIP[[#This Row],[P.E]]-1/24,MIP[[#This Row],[P.S]]-MIP[[#This Row],[P.E]]-1/24) -> 0.36666667 | Y8: =MIP[[#This Row],[PT-1]]*$S$3+MIP[[#This Row],[PT-2]]*$T$3+MIP[[#This Row],[PT-3]]*$U$3+MIP[[#This Row],[PT > 3 Pontos]]*$V$3 -> 0.24411559 | Z8: =MIP[[#This Row],[HH disponível]]-MIP[[#This Row],[HH AC TOT]] -> 0.25833333 | AA8: =MIP[[#This Row],[HH Produtivo Total]]/MIP[[#This Row],[HH Trabalhado]] -> 0.94496357 | AB8: =MIP[[#This Row],[HH Produtivo Total]]/MIP[[#This Row],[HH disponível]] -> 0.66576979 | AC8: =MIP[[#This Row],[HH Trabalhado]]/MIP[[#This Row],[HH disponível]] -> 0.70454545 | AD8: =LEFT(MIP[[#This Row],[Equipe]], SEARCH("/",MIP[[#This Row],[Equipe]],1)-1) -> EDILTON | AE8: =RIGHT(MIP[[#This Row],[Equipe]], LEN(MIP[[#This Row],[Equipe]])-SEARCH("/",MIP[[#This Row],[Equipe]],1)) -> CLAUDINEY | AF8: =COUNTIFS('[1]Tempo parado'!H:H,">="&MIP[[#This Row],[S.B Sitrack]],'[1]Tempo parado'!I:I,"<="&MIP[[#This Row],[C.B Sitrack]],'[1]Tempo parado'!B:B,MIP[[#This Row],[Placa]]) -> 0 | AK8: =IF(OR(MIP[[#This Row],[S.B Sitrack]]="",MIP[[#This Row],[C.B Sitrack]]=""),"-",IF(TIME(HOUR(MIP[[#This Row],[C.B Sitrack]]),MINUTE(MIP[[#This Row],[C.B Sitrack]]),SECOND(HOUR(MIP[[#This Row],[C.B Sitrack]])))-(MIP[[#This Row],[U.P]]-TRUNC(MIP[[#This Row],[U.P]],0))<0,(TIME(HOUR(MIP[[#This Row],[C.B Sitrack]]),MINUTE(MIP[[#This Row],[C.B Sitrack]]),SECOND(HOUR(MIP[[#This Row],[C.B Sitrack]])))-(MIP[[#This Row],[U.P]]-TRUNC(MIP[[#This Row],[U.P]],0)))*(-1),TIME(HOUR(MIP[[#This Row],[C.B Sitrack]]),MINUTE(MIP[[#This Row],[C.B Sitrack]]),SECOND(HOUR(MIP[[#This Row],[C.B Sitrack]])))-(MIP[[#This Row],[U.P]]-TRUNC(MIP[[#This Row],[U.P]],0)))+IF(TIME(HOUR(MIP[[#This Row],[S.B Sitrack]]),MINUTE(MIP[[#This Row],[S.B Sitrack]]),SECOND(HOUR(MIP[[#This Row],[S.B Sitrack]])))-(MIP[[#This Row],[S.B]]-TRUNC(MIP[[#This Row],[S.B]],0))<0,(TIME(HOUR(MIP[[#This Row],[S.B Sitrack]]),MINUTE(MIP[[#This Row],[S.B Sitrack]]),SECOND(HOUR(MIP[[#This Row],[S.B Sitrack]])))-(MIP[[#This Row],[S.B]]-TRUNC(MIP[[#This Row],[S.B]],0)))*(-1),TIME(HOUR(MIP[[#This Row],[S.B Sitrack]]),MINUTE(MIP[[#This Row],[S.B Sitrack]]),SECOND(HOUR(MIP[[#This Row],[S.B Sitrack]])))-(MIP[[#This Row],[S.B]]-TRUNC(MIP[[#This Row],[S.B]],0)))) -> - | AL8: =SUMIFS([1]!Tempoviagem[DISTANCIA (KM)],[1]!Tempoviagem[DATA INICIO],">="&MIP[[#This Row],[S.B Sitrack]],[1]!Tempoviagem[DATA FIM],"<="&MIP[[#This Row],[C.B Sitrack]],[1]!Tempoviagem[PLACA],MIP[[#This Row],[Placa]],[1]!Tempoviagem[DISTANCIA (KM)],">0",[1]!Tempoviagem[VELOCIDADE MÉDIA (KM/H)],"<150") -> 0 | AM8: =SUMIFS('[1]Tempo parado'!J:J,'[1]Tempo parado'!H:H,">="&MIP[[#This Row],[S.B Sitrack]],'[1]Tempo parado'!I:I,"<="&MIP[[#This Row],[C.B Sitrack]],'[1]Tempo parado'!B:B,MIP[[#This Row],[Placa]]) -> 0 | AN8: =IFERROR(MIP[[#This Row],[Tempo parado]]/(MIP[[#This Row],[C.B Sitrack]]-MIP[[#This Row],[S.B Sitrack]]),"") | AP8: =IF(AND(MIP[Exc]=0,MIP[Previsto / Realizado]="Realizado"),MIP[Sem],0) -> 19 | AQ8: =IF(AND(MIP[Exc]=0,MIP[Previsto / Realizado]="Realizado",ISBLANK(MIP[[#This Row],[S.B Sitrack]])=FALSE,ISBLANK(MIP[[#This Row],[C.B Sitrack]])=FALSE),MIP[Sem],0) -> 0
B9: =WEEKNUM(MIP[[#This Row],[Data]]) -> 19 | C9: 42863 | E9: ADEMÁRIO / ANDERSON | F9: Previsto | H9: 2 | I9: 8 | J9: 2 | K9: 1 | L9: 0 | M9: 0.625 | N9: 0.64583333 | O9: =18/24/60 -> 0.0125 | P9: =48/24/60 -> 0.033333333 | S9: =MIP[[#This Row],[PT-1]]+MIP[[#This Row],[PT-2]]*2+MIP[[#This Row],[PT-3]]*3+MIP[[#This Row],[PT > 3 Pontos]] -> 15 | T9: =IF(MIP[[#This Row],[P.S]]-MIP[[#This Row],[U.P]]>=0,MIP[[#This Row],[P.S]]-MIP[[#This Row],[U.P]]+MIP[[#This Row],[S.B]]-MIP[[#This Row],[P.E]],1+MIP[[#This Row],[P.S]]-MIP[[#This Row],[U.P]]+MIP[[#This Row],[S.B]]-MIP[[#This Row],[P.E]])+MIP[[#This Row],[HH AC extra]] -> 0.041666667 | U9: =IF(MIP[[#This Row],[P.S]]-MIP[[#This Row],[U.P]]>=0,MIP[[#This Row],[P.S]]-MIP[[#This Row],[U.P]]+MIP[[#This Row],[S.B]]-MIP[[#This Row],[P.E]],1+MIP[[#This Row],[P.S]]-MIP[[#This Row],[U.P]]+MIP[[#This Row],[S.B]]-MIP[[#This Row],[P.E]]) -> 0.041666667 | V9: =MIP[[#This Row],[Eficiência]] -> 1.079434 | W9: =SUMIFS([1]!Excecoes[Coluna1],[1]!Excecoes[Dia],MIP[[#This Row],[Data]],[1]!Excecoes[Equipe],MIP[[#This Row],[Equipe]],[1]!Excecoes[Previsto / Realizado],MIP[[#This Row],[Previsto / Realizado]])+IF(MIP[[#This Row],[HH AC TOT]]>0.5,1,0)+IF(AND(OR(ISBLANK(MIP[[#This Row],[P.E]]),ISBLANK(MIP[[#This Row],[S.B]]),ISBLANK(MIP[[#This Row],[U.P]]),ISBLANK(MIP[[#This Row],[P.S]])),ISTEXT(MIP[[#This Row],[Equipe]])),1,IF(MIP[[#This Row],[P.E]]>MIP[[#This Row],[S.B]],1,0)+IF([1]Excessões!$H$6="Ativadas",IF(MIP[[#This Row],[HH AC TOT]]<0.0083,1,0)+IF(OR(MIP[[#This Row],[Eficiência]]>2,MIP[[#This Row],[Eficiência]]<0.3),1,0),0)) -> 0 | X9: =IF(MIP[[#This Row],[P.S]]-MIP[[#This Row],[P.E]]<0,1+MIP[[#This Row],[P.S]]-MIP[[#This Row],[P.E]]-1/24,MIP[[#This Row],[P.S]]-MIP[[#This Row],[P.E]]-1/24) -> 0.36666667 | Y9: =MIP[[#This Row],[PT-1]]*$S$3+MIP[[#This Row],[PT-2]]*$T$3+MIP[[#This Row],[PT-3]]*$U$3+MIP[[#This Row],[PT > 3 Pontos]]*$V$3 -> 0.35081604 | Z9: =MIP[[#This Row],[HH disponível]]-MIP[[#This Row],[HH AC TOT]] -> 0.325 | AA9: =MIP[[#This Row],[HH Produtivo Total]]/MIP[[#This Row],[HH Trabalhado]] -> 1.079434 | AB9: =MIP[[#This Row],[HH Produtivo Total]]/MIP[[#This Row],[HH disponível]] -> 0.956771 | AC9: =MIP[[#This Row],[HH Trabalhado]]/MIP[[#This Row],[HH disponível]] -> 0.88636364 | AD9: =LEFT(MIP[[#This Row],[Equipe]], SEARCH("/",MIP[[#This Row],[Equipe]],1)-1) -> ADEMÁRIO | AE9: =RIGHT(MIP[[#This Row],[Equipe]], LEN(MIP[[#This Row],[Equipe]])-SEARCH("/",MIP[[#This Row],[Equipe]],1)) -> ANDERSON | AF9: =COUNTIFS('[1]Tempo parado'!H:H,">="&MIP[[#This Row],[S.B Sitrack]],'[1]Tempo parado'!I:I,"<="&MIP[[#This Row],[C.B Sitrack]],'[1]Tempo parado'!B:B,MIP[[#This Row],[Placa]]) -> 0 | AK9: =IF(OR(MIP[[#This Row],[S.B Sitrack]]="",MIP[[#This Row],[C.B Sitrack]]=""),"-",IF(TIME(HOUR(MIP[[#This Row],[C.B Sitrack]]),MINUTE(MIP[[#This Row],[C.B Sitrack]]),SECOND(HOUR(MIP[[#This Row],[C.B Sitrack]])))-(MIP[[#This Row],[U.P]]-TRUNC(MIP[[#This Row],[U.P]],0))<0,(TIME(HOUR(MIP[[#This Row],[C.B Sitrack]]),MINUTE(MIP[[#This Row],[C.B Sitrack]]),SECOND(HOUR(MIP[[#This Row],[C.B Sitrack]])))-(MIP[[#This Row],[U.P]]-TRUNC(MIP[[#This Row],[U.P]],0)))*(-1),TIME(HOUR(MIP[[#This Row],[C.B Sitrack]]),MINUTE(MIP[[#This Row],[C.B Sitrack]]),SECOND(HOUR(MIP[[#This Row],[C.B Sitrack]])))-(MIP[[#This Row],[U.P]]-TRUNC(MIP[[#This Row],[U.P]],0)))+IF(TIME(HOUR(MIP[[#This Row],[S.B Sitrack]]),MINUTE(MIP[[#This Row],[S.B Sitrack]]),SECOND(HOUR(MIP[[#This Row],[S.B Sitrack]])))-(MIP[[#This Row],[S.B]]-TRUNC(MIP[[#This Row],[S.B]],0))<0,(TIME(HOUR(MIP[[#This Row],[S.B Sitrack]]),MINUTE(MIP[[#This Row],[S.B Sitrack]]),SECOND(HOUR(MIP[[#This Row],[S.B Sitrack]])))-(MIP[[#This Row],[S.B]]-TRUNC(MIP[[#This Row],[S.B]],0)))*(-1),TIME(HOUR(MIP[[#This Row],[S.B Sitrack]]),MINUTE(MIP[[#This Row],[S.B Sitrack]]),SECOND(HOUR(MIP[[#This Row],[S.B Sitrack]])))-(MIP[[#This Row],[S.B]]-TRUNC(MIP[[#This Row],[S.B]],0)))) -> - | AL9: =SUMIFS([1]!Tempoviagem[DISTANCIA (KM)],[1]!Tempoviagem[DATA INICIO],">="&MIP[[#This Row],[S.B Sitrack]],[1]!Tempoviagem[DATA FIM],"<="&MIP[[#This Row],[C.B Sitrack]],[1]!Tempoviagem[PLACA],MIP[[#This Row],[Placa]],[1]!Tempoviagem[DISTANCIA (KM)],">0",[1]!Tempoviagem[VELOCIDADE MÉDIA (KM/H)],"<150") -> 0 | AM9: =SUMIFS('[1]Tempo parado'!J:J,'[1]Tempo parado'!H:H,">="&MIP[[#This Row],[S.B Sitrack]],'[1]Tempo parado'!I:I,"<="&MIP[[#This Row],[C.B Sitrack]],'[1]Tempo parado'!B:B,MIP[[#This Row],[Placa]]) -> 0 | AN9: =IFERROR(MIP[[#This Row],[Tempo parado]]/(MIP[[#This Row],[C.B Sitrack]]-MIP[[#This Row],[S.B Sitrack]]),"") | AP9: =IF(AND(MIP[Exc]=0,MIP[Previsto / Realizado]="Realizado"),MIP[Sem],0) -> 0 | AQ9: =IF(AND(MIP[Exc]=0,MIP[Previsto / Realizado]="Realizado",ISBLANK(MIP[[#This Row],[S.B Sitrack]])=FALSE,ISBLANK(MIP[[#This Row],[C.B Sitrack]])=FALSE),MIP[Sem],0) -> 0
B10: =WEEKNUM(MIP[[#This Row],[Data]]) -> 19 | C10: 42863 | E10: ADEMÁRIO / ANDERSON | F10: Realizado | H10: 2 | I10: 8 | J10: 2 | K10: 0 | L10: 0 | M10: 0.625 | N10: 0.7 | O10: 0.9875 | P10: =48/24/60 -> 0.033333333 | R10: Implantação do novo procedimento de reposição de materiais. | S10: =MIP[[#This Row],[PT-1]]+MIP[[#This Row],[PT-2]]*2+MIP[[#This Row],[PT-3]]*3+MIP[[#This Row],[PT > 3 Pontos]] -> 12 | T10: =IF(MIP[[#This Row],[P.S]]-MIP[[#This Row],[U.P]]>=0,MIP[[#This Row],[P.S]]-MIP[[#This Row],[U.P]]+MIP[[#This Row],[S.B]]-MIP[[#This Row],[P.E]],1+MIP[[#This Row],[P.S]]-MIP[[#This Row],[U.P]]+MIP[[#This Row],[S.B]]-MIP[[#This Row],[P.E]])+MIP[[#This Row],[HH AC extra]] -> 0.12083333 | U10: =IF(MIP[[#This Row],[P.S]]-MIP[[#This Row],[U.P]]>=0,MIP[[#This Row],[P.S]]-MIP[[#This Row],[U.P]]+MIP[[#This Row],[S.B]]-MIP[[#This Row],[P.E]],1+MIP[[#This Row],[P.S]]-MIP[[#This Row],[U.P]]+MIP[[#This Row],[S.B]]-MIP[[#This Row],[P.E]]) -> 0.12083333 | V10: =MIP[[#This Row],[Eficiência]] -> 1.1716245 | W10: =SUMIFS([1]!Excecoes[Coluna1],[1]!Excecoes[Dia],MIP[[#This Row],[Data]],[1]!Excecoes[Equipe],MIP[[#This Row],[Equipe]],[1]!Excecoes[Previsto / Realizado],MIP[[#This Row],[Previsto / Realizado]])+IF(MIP[[#This Row],[HH AC TOT]]>0.5,1,0)+IF(AND(OR(ISBLANK(MIP[[#This Row],[P.E]]),ISBLANK(MIP[[#This Row],[S.B]]),ISBLANK(MIP[[#This Row],[U.P]]),ISBLANK(MIP[[#This Row],[P.S]])),ISTEXT(MIP[[#This Row],[Equipe]])),1,IF(MIP[[#This Row],[P.E]]>MIP[[#This Row],[S.B]],1,0)+IF([1]Excessões!$H$6="Ativadas",IF(MIP[[#This Row],[HH AC TOT]]<0.0083,1,0)+IF(OR(MIP[[#This Row],[Eficiência]]>2,MIP[[#This Row],[Eficiência]]<0.3),1,0),0)) -> 0 | X10: =IF(MIP[[#This Row],[P.S]]-MIP[[#This Row],[P.E]]<0,1+MIP[[#This Row],[P.S]]-MIP[[#This Row],[P.E]]-1/24,MIP[[#This Row],[P.S]]-MIP[[#This Row],[P.E]]-1/24) -> 0.36666667 | Y10: =MIP[[#This Row],[PT-1]]*$S$3+MIP[[#This Row],[PT-2]]*$T$3+MIP[[#This Row],[PT-3]]*$U$3+MIP[[#This Row],[PT > 3 Pontos]]*$V$3 -> 0.28802436 | Z10: =MIP[[#This Row],[HH disponível]]-MIP[[#This Row],[HH AC TOT]] -> 0.24583333 | AA10: =MIP[[#This Row],[HH Produtivo Total]]/MIP[[#This Row],[HH Trabalhado]] -> 1.1716245 | AB10: =MIP[[#This Row],[HH Produtivo Total]]/MIP[[#This Row],[HH disponível]] -> 0.78552097 | AC10: =MIP[[#This Row],[HH Trabalhado]]/MIP[[#This Row],[HH disponível]] -> 0.67045455 | AD10: =LEFT(MIP[[#This Row],[Equipe]], SEARCH("/",MIP[[#This Row],[Equipe]],1)-1) -> ADEMÁRIO | AE10: =RIGHT(MIP[[#This Row],[Equipe]], LEN(MIP[[#This Row],[Equipe]])-SEARCH("/",MIP[[#This Row],[Equipe]],1)) -> ANDERSON | AF10: =COUNTIFS('[1]Tempo parado'!H:H,">="&MIP[[#This Row],[S.B Sitrack]],'[1]Tempo parado'!I:I,"<="&MIP[[#This Row],[C.B Sitrack]],'[1]Tempo parado'!B:B,MIP[[#This Row],[Placa]]) -> 0 | AK10: =IF(OR(MIP[[#This Row],[S.B Sitrack]]="",MIP[[#This Row],[C.B Sitrack]]=""),"-",IF(TIME(HOUR(MIP[[#This Row],[C.B Sitrack]]),MINUTE(MIP[[#This Row],[C.B Sitrack]]),SECOND(HOUR(MIP[[#This Row],[C.B Sitrack]])))-(MIP[[#This Row],[U.P]]-TRUNC(MIP[[#This Row],[U.P]],0))<0,(TIME(HOUR(MIP[[#This Row],[C.B Sitrack]]),MINUTE(MIP[[#This Row],[C.B Sitrack]]),SECOND(HOUR(MIP[[#This Row],[C.B Sitrack]])))-(MIP[[#This Row],[U.P]]-TRUNC(MIP[[#This Row],[U.P]],0)))*(-1),TIME(HOUR(MIP[[#This Row],[C.B Sitrack]]),MINUTE(MIP[[#This Row],[C.B Sitrack]]),SECOND(HOUR(MIP[[#This Row],[C.B Sitrack]])))-(MIP[[#This Row],[U.P]]-TRUNC(MIP[[#This Row],[U.P]],0)))+IF(TIME(HOUR(MIP[[#This Row],[S.B Sitrack]]),MINUTE(MIP[[#This Row],[S.B Sitrack]]),SECOND(HOUR(MIP[[#This Row],[S.B Sitrack]])))-(MIP[[#This Row],[S.B]]-TRUNC(MIP[[#This Row],[S.B]],0))<0,(TIME(HOUR(MIP[[#This Row],[S.B Sitrack]]),MINUTE(MIP[[#This Row],[S.B Sitrack]]),SECOND(HOUR(MIP[[#This Row],[S.B Sitrack]])))-(MIP[[#This Row],[S.B]]-TRUNC(MIP[[#This Row],[S.B]],0)))*(-1),TIME(HOUR(MIP[[#This Row],[S.B Sitrack]]),MINUTE(MIP[[#This Row],[S.B Sitrack]]),SECOND(HOUR(MIP[[#This Row],[S.B Sitrack]])))-(MIP[[#This Row],[S.B]]-TRUNC(MIP[[#This Row],[S.B]],0)))) -> - | AL10: =SUMIFS([1]!Tempoviagem[DISTANCIA (KM)],[1]!Tempoviagem[DATA INICIO],">="&MIP[[#This Row],[S.B Sitrack]],[1]!Tempoviagem[DATA FIM],"<="&MIP[[#This Row],[C.B Sitrack]],[1]!Tempoviagem[PLACA],MIP[[#This Row],[Placa]],[1]!Tempoviagem[DISTANCIA (KM)],">0",[1]!Tempoviagem[VELOCIDADE MÉDIA (KM/H)],"<150") -> 0 | AM10: =SUMIFS('[1]Tempo parado'!J:J,'[1]Tempo parado'!H:H,">="&MIP[[#This Row],[S.B Sitrack]],'[1]Tempo parado'!I:I,"<="&MIP[[#This Row],[C.B Sitrack]],'[1]Tempo parado'!B:B,MIP[[#This Row],[Placa]]) -> 0 | AN10: =IFERROR(MIP[[#This Row],[Tempo parado]]/(MIP[[#This Row],[C.B Sitrack]]-MIP[[#This Row],[S.B Sitrack]]),"") | AP10: =IF(AND(MIP[Exc]=0,MIP[Previsto / Realizado]="Realizado"),MIP[Sem],0) -> 19 | AQ10: =IF(AND(MIP[Exc]=0,MIP[Previsto / Realizado]="Realizado",ISBLANK(MIP[[#This Row],[S.B Sitrack]])=FALSE,ISBLANK(MIP[[#This Row],[C.B Sitrack]])=FALSE),MIP[Sem],0) -> 0
B11: =WEEKNUM(MIP[[#This Row],[Data]]) -> 19 | C11: 42864 | E11: JOILSON / VALDEI | F11: Previsto | H11: 2 | I11: 7 | J11: 4 | K11: 0 | L11: 0 | M11: 0.25 | N11: 0.27083333 | O11: 0.6375 | P11: 0.65833333 | S11: =MIP[[#This Row],[PT-1]]+MIP[[#This Row],[PT-2]]*2+MIP[[#This Row],[PT-3]]*3+MIP[[#This Row],[PT > 3 Pontos]] -> 15 | T11: =IF(MIP[[#This Row],[P.S]]-MIP[[#This Row],[U.P]]>=0,MIP[[#This Row],[P.S]]-MIP[[#This Row],[U.P]]+MIP[[#This Row],[S.B]]-MIP[[#This Row],[P.E]],1+MIP[[#This Row],[P.S]]-MIP[[#This Row],[U.P]]+MIP[[#This Row],[S.B]]-MIP[[#This Row],[P.E]])+MIP[[#This Row],[HH AC extra]] -> 0.041666667 | U11: =IF(MIP[[#This Row],[P.S]]-MIP[[#This Row],[U.P]]>=0,MIP[[#This Row],[P.S]]-MIP[[#This Row],[U.P]]+MIP[[#This Row],[S.B]]-MIP[[#This Row],[P.E]],1+MIP[[#This Row],[P.S]]-MIP[[#This Row],[U.P]]+MIP[[#This Row],[S.B]]-MIP[[#This Row],[P.E]]) -> 0.041666667 | V11: =MIP[[#This Row],[Eficiência]] -> 1.079434 | W11: =SUMIFS([1]!Excecoes[Coluna1],[1]!Excecoes[Dia],MIP[[#This Row],[Data]],[1]!Excecoes[Equipe],MIP[[#This Row],[Equipe]],[1]!Excecoes[Previsto / Realizado],MIP[[#This Row],[Previsto / Realizado]])+IF(MIP[[#This Row],[HH AC TOT]]>0.5,1,0)+IF(AND(OR(ISBLANK(MIP[[#This Row],[P.E]]),ISBLANK(MIP[[#This Row],[S.B]]),ISBLANK(MIP[[#This Row],[U.P]]),ISBLANK(MIP[[#This Row],[P.S]])),ISTEXT(MIP[[#This Row],[Equipe]])),1,IF(MIP[[#This Row],[P.E]]>MIP[[#This Row],[S.B]],1,0)+IF([1]Excessões!$H$6="Ativadas",IF(MIP[[#This Row],[HH AC TOT]]<0.0083,1,0)+IF(OR(MIP[[#This Row],[Eficiência]]>2,MIP[[#This Row],[Eficiência]]<0.3),1,0),0)) -> 0 | X11: =IF(MIP[[#This Row],[P.S]]-MIP[[#This Row],[P.E]]<0,1+MIP[[#This Row],[P.S]]-MIP[[#This Row],[P.E]]-1/24,MIP[[#This Row],[P.S]]-MIP[[#This Row],[P.E]]-1/24) -> 0.36666667 | Y11: =MIP[[#This Row],[PT-1]]*$S$3+MIP[[#This Row],[PT-2]]*$T$3+MIP[[#This Row],[PT-3]]*$U$3+MIP[[#This Row],[PT > 3 Pontos]]*$V$3 -> 0.35081604 | Z11: =MIP[[#This Row],[HH disponível]]-MIP[[#This Row],[HH AC TOT]] -> 0.325 | AA11: =MIP[[#This Row],[HH Produtivo Total]]/MIP[[#This Row],[HH Trabalhado]] -> 1.079434 | AB11: =MIP[[#This Row],[HH Produtivo Total]]/MIP[[#This Row],[HH disponível]] -> 0.956771 | AC11: =MIP[[#This Row],[HH Trabalhado]]/MIP[[#This Row],[HH disponível]] -> 0.88636364 | AD11: =LEFT(MIP[[#This Row],[Equipe]], SEARCH("/",MIP[[#This Row],[Equipe]],1)-1) -> JOILSON | AE11: =RIGHT(MIP[[#This Row],[Equipe]], LEN(MIP[[#This Row],[Equipe]])-SEARCH("/",MIP[[#This Row],[Equipe]],1)) -> VALDEI | AF11: =COUNTIFS('[1]Tempo parado'!H:H,">="&MIP[[#This Row],[S.B Sitrack]],'[1]Tempo parado'!I:I,"<="&MIP[[#This Row],[C.B Sitrack]],'[1]Tempo parado'!B:B,MIP[[#This Row],[Placa]]) -> 0 | AK11: =IF(OR(MIP[[#This Row],[S.B Sitrack]]="",MIP[[#This Row],[C.B Sitrack]]=""),"-",IF(TIME(HOUR(MIP[[#This Row],[C.B Sitrack]]),MINUTE(MIP[[#This Row],[C.B Sitrack]]),SECOND(HOUR(MIP[[#This Row],[C.B Sitrack]])))-(MIP[[#This Row],[U.P]]-TRUNC(MIP[[#This Row],[U.P]],0))<0,(TIME(HOUR(MIP[[#This Row],[C.B Sitrack]]),MINUTE(MIP[[#This Row],[C.B Sitrack]]),SECOND(HOUR(MIP[[#This Row],[C.B Sitrack]])))-(MIP[[#This Row],[U.P]]-TRUNC(MIP[[#This Row],[U.P]],0)))*(-1),TIME(HOUR(MIP[[#This Row],[C.B Sitrack]]),MINUTE(MIP[[#This Row],[C.B Sitrack]]),SECOND(HOUR(MIP[[#This Row],[C.B Sitrack]])))-(MIP[[#This Row],[U.P]]-TRUNC(MIP[[#This Row],[U.P]],0)))+IF(TIME(HOUR(MIP[[#This Row],[S.B Sitrack]]),MINUTE(MIP[[#This Row],[S.B Sitrack]]),SECOND(HOUR(MIP[[#This Row],[S.B Sitrack]])))-(MIP[[#This Row],[S.B]]-TRUNC(MIP[[#This Row],[S.B]],0))<0,(TIME(HOUR(MIP[[#This Row],[S.B Sitrack]]),MINUTE(MIP[[#This Row],[S.B Sitrack]]),SECOND(HOUR(MIP[[#This Row],[S.B Sitrack]])))-(MIP[[#This Row],[S.B]]-TRUNC(MIP[[#This Row],[S.B]],0)))*(-1),TIME(HOUR(MIP[[#This Row],[S.B Sitrack]]),MINUTE(MIP[[#This Row],[S.B Sitrack]]),SECOND(HOUR(MIP[[#This Row],[S.B Sitrack]])))-(MIP[[#This Row],[S.B]]-TRUNC(MIP[[#This Row],[S.B]],0)))) -> - | AL11: =SUMIFS([1]!Tempoviagem[DISTANCIA (KM)],[1]!Tempoviagem[DATA INICIO],">="&MIP[[#This Row],[S.B Sitrack]],[1]!Tempoviagem[DATA FIM],"<="&MIP[[#This Row],[C.B Sitrack]],[1]!Tempoviagem[PLACA],MIP[[#This Row],[Placa]],[1]!Tempoviagem[DISTANCIA (KM)],">0",[1]!Tempoviagem[VELOCIDADE MÉDIA (KM/H)],"<150") -> 0 | AM11: =SUMIFS('[1]Tempo parado'!J:J,'[1]Tempo parado'!H:H,">="&MIP[[#This Row],[S.B Sitrack]],'[1]Tempo parado'!I:I,"<="&MIP[[#This Row],[C.B Sitrack]],'[1]Tempo parado'!B:B,MIP[[#This Row],[Placa]]) -> 0 | AN11: =IFERROR(MIP[[#This Row],[Tempo parado]]/(MIP[[#This Row],[C.B Sitrack]]-MIP[[#This Row],[S.B Sitrack]]),"") | AP11: =IF(AND(MIP[Exc]=0,MIP[Previsto / Realizado]="Realizado"),MIP[Sem],0) -> 0 | AQ11: =IF(AND(MIP[Exc]=0,MIP[Previsto / Realizado]="Realizado",ISBLANK(MIP[[#This Row],[S.B Sitrack]])=FALSE,ISBLANK(MIP[[#This Row],[C.B Sitrack]])=FALSE),MIP[Sem],0) -> 0
B12: =WEEKNUM(MIP[[#This Row],[Data]]) -> 19 | C12: 42864 | E12: JOILSON / VALDEI | F12: Realizado | H12: 2 | I12: 6 | J12: 1 | K12: 0 | L12: 0 | M12: 0.25763889 | N12: 0.29861111 | O12: 0.60625 | P12: 0.67777778 | R12: Investigando o motivo da chegada mais cedo a base. | S12: =MIP[[#This Row],[PT-1]]+MIP[[#This Row],[PT-2]]*2+MIP[[#This Row],[PT-3]]*3+MIP[[#This Row],[PT > 3 Pontos]] -> 8 | T12: =IF(MIP[[#This Row],[P.S]]-MIP[[#This Row],[U.P]]>=0,MIP[[#This Row],[P.S]]-MIP[[#This Row],[U.P]]+MIP[[#This Row],[S.B]]-MIP[[#This Row],[P.E]],1+MIP[[#This Row],[P.S]]-MIP[[#This Row],[U.P]]+MIP[[#This Row],[S.B]]-MIP[[#This Row],[P.E]])+MIP[[#This Row],[HH AC extra]] -> 0.1125 | U12: =IF(MIP[[#This Row],[P.S]]-MIP[[#This Row],[U.P]]>=0,MIP[[#This Row],[P.S]]-MIP[[#This Row],[U.P]]+MIP[[#This Row],[S.B]]-MIP[[#This Row],[P.E]],1+MIP[[#This Row],[P.S]]-MIP[[#This Row],[U.P]]+MIP[[#This Row],[S.B]]-MIP[[#This Row],[P.E]]) -> 0.1125 | V12: =MIP[[#This Row],[Eficiência]] -> 0.72963967 | W12: =SUMIFS([1]!Excecoes[Coluna1],[1]!Excecoes[Dia],MIP[[#This Row],[Data]],[1]!Excecoes[Equipe],MIP[[#This Row],[Equipe]],[1]!Excecoes[Previsto / Realizado],MIP[[#This Row],[Previsto / Realizado]])+IF(MIP[[#This Row],[HH AC TOT]]>0.5,1,0)+IF(AND(OR(ISBLANK(MIP[[#This Row],[P.E]]),ISBLANK(MIP[[#This Row],[S.B]]),ISBLANK(MIP[[#This Row],[U.P]]),ISBLANK(MIP[[#This Row],[P.S]])),ISTEXT(MIP[[#This Row],[Equipe]])),1,IF(MIP[[#This Row],[P.E]]>MIP[[#This Row],[S.B]],1,0)+IF([1]Excessões!$H$6="Ativadas",IF(MIP[[#This Row],[HH AC TOT]]<0.0083,1,0)+IF(OR(MIP[[#This Row],[Eficiência]]>2,MIP[[#This Row],[Eficiência]]<0.3),1,0),0)) -> 0 | X12: =IF(MIP[[#This Row],[P.S]]-MIP[[#This Row],[P.E]]<0,1+MIP[[#This Row],[P.S]]-MIP[[#This Row],[P.E]]-1/24,MIP[[#This Row],[P.S]]-MIP[[#This Row],[P.E]]-1/24) -> 0.37847222 | Y12: =MIP[[#This Row],[PT-1]]*$S$3+MIP[[#This Row],[PT-2]]*$T$3+MIP[[#This Row],[PT-3]]*$U$3+MIP[[#This Row],[PT > 3 Pontos]]*$V$3 -> 0.19406388 | Z12: =MIP[[#This Row],[HH disponível]]-MIP[[#This Row],[HH AC TOT]] -> 0.26597222 | AA12: =MIP[[#This Row],[HH Produtivo Total]]/MIP[[#This Row],[HH Trabalhado]] -> 0.72963967 | AB12: =MIP[[#This Row],[HH Produtivo Total]]/MIP[[#This Row],[HH disponível]] -> 0.51275595 | AC12: =MIP[[#This Row],[HH Trabalhado]]/MIP[[#This Row],[HH disponível]] -> 0.70275229 | AD12: =LEFT(MIP[[#This Row],[Equipe]], SEARCH("/",MIP[[#This Row],[Equipe]],1)-1) -> JOILSON | AE12: =RIGHT(MIP[[#This Row],[Equipe]], LEN(MIP[[#This Row],[Equipe]])-SEARCH("/",MIP[[#This Row],[Equipe]],1)) -> VALDEI | AF12: =COUNTIFS('[1]Tempo parado'!H:H,">="&MIP[[#This Row],[S.B Sitrack]],'[1]Tempo parado'!I:I,"<="&MIP[[#This Row],[C.B Sitrack]],'[1]Tempo parado'!B:B,MIP[[#This Row],[Placa]]) -> 0 | AK12: =IF(OR(MIP[[#This Row],[S.B Sitrack]]="",MIP[[#This Row],[C.B Sitrack]]=""),"-",IF(TIME(HOUR(MIP[[#This Row],[C.B Sitrack]]),MINUTE(MIP[[#This Row],[C.B Sitrack]]),SECOND(HOUR(MIP[[#This Row],[C.B Sitrack]])))-(MIP[[#This Row],[U.P]]-TRUNC(MIP[[#This Row],[U.P]],0))<0,(TIME(HOUR(MIP[[#This Row],[C.B Sitrack]]),MINUTE(MIP[[#This Row],[C.B Sitrack]]),SECOND(HOUR(MIP[[#This Row],[C.B Sitrack]])))-(MIP[[#This Row],[U.P]]-TRUNC(MIP[[#This Row],[U.P]],0)))*(-1),TIME(HOUR(MIP[[#This Row],[C.B Sitrack]]),MINUTE(MIP[[#This Row],[C.B Sitrack]]),SECOND(HOUR(MIP[[#This Row],[C.B Sitrack]])))-(MIP[[#This Row],[U.P]]-TRUNC(MIP[[#This Row],[U.P]],0)))+IF(TIME(HOUR(MIP[[#This Row],[S.B Sitrack]]),MINUTE(MIP[[#This Row],[S.B Sitrack]]),SECOND(HOUR(MIP[[#This Row],[S.B Sitrack]])))-(MIP[[#This Row],[S.B]]-TRUNC(MIP[[#This Row],[S.B]],0))<0,(TIME(HOUR(MIP[[#This Row],[S.B Sitrack]]),MINUTE(MIP[[#This Row],[S.B Sitrack]]),SECOND(HOUR(MIP[[#This Row],[S.B Sitrack]])))-(MIP[[#This Row],[S.B]]-TRUNC(MIP[[#This Row],[S.B]],0)))*(-1),TIME(HOUR(MIP[[#This Row],[S.B Sitrack]]),MINUTE(MIP[[#This Row],[S.B Sitrack]]),SECOND(HOUR(MIP[[#This Row],[S.B Sitrack]])))-(MIP[[#This Row],[S.B]]-TRUNC(MIP[[#This Row],[S.B]],0)))) -> - | AL12: =SUMIFS([1]!Tempoviagem[DISTANCIA (KM)],[1]!Tempoviagem[DATA INICIO],">="&MIP[[#This Row],[S.B Sitrack]],[1]!Tempoviagem[DATA FIM],"<="&MIP[[#This Row],[C.B Sitrack]],[1]!Tempoviagem[PLACA],MIP[[#This Row],[Placa]],[1]!Tempoviagem[DISTANCIA (KM)],">0",[1]!Tempoviagem[VELOCIDADE MÉDIA (KM/H)],"<150") -> 0 | AM12: =SUMIFS('[1]Tempo parado'!J:J,'[1]Tempo parado'!H:H,">="&MIP[[#This Row],[S.B Sitrack]],'[1]Tempo parado'!I:I,"<="&MIP[[#This Row],[C.B Sitrack]],'[1]Tempo parado'!B:B,MIP[[#This Row],[Placa]]) -> 0 | AN12: =IFERROR(MIP[[#This Row],[Tempo parado]]/(MIP[[#This Row],[C.B Sitrack]]-MIP[[#This Row],[S.B Sitrack]]),"") | AP12: =IF(AND(MIP[Exc]=0,MIP[Previsto / Realizado]="Realizado"),MIP[Sem],0) -> 19 | AQ12: =IF(AND(MIP[Exc]=0,MIP[Previsto / Realizado]="Realizado",ISBLANK(MIP[[#This Row],[S.B Sitrack]])=FALSE,ISBLANK(MIP[[#This Row],[C.B Sitrack]])=FALSE),MIP[Sem],0) -> 0
B13: =WEEKNUM(MIP[[#This Row],[Data]]) -> 19 | C13: 42864 | E13: ADEMÁRIO / ANDERSON | F13: Previsto | H13: 2 | I13: 4 | J13: 2 | K13: 2 | L13: 0 | M13: 0.625 | N13: 0.64583333 | O13: =18/24/60 -> 0.0125 | P13: =48/24/60 -> 0.033333333 | S13: =MIP[[#This Row],[PT-1]]+MIP[[#This Row],[PT-2]]*2+MIP[[#This Row],[PT-3]]*3+MIP[[#This Row],[PT > 3 Pontos]] -> 14 | T13: =IF(MIP[[#This Row],[P.S]]-MIP[[#This Row],[U.P]]>=0,MIP[[#This Row],[P.S]]-MIP[[#This Row],[U.P]]+MIP[[#This Row],[S.B]]-MIP[[#This Row],[P.E]],1+MIP[[#This Row],[P.S]]-MIP[[#This Row],[U.P]]+MIP[[#This Row],[S.B]]-MIP[[#This Row],[P.E]])+MIP[[#This Row],[HH AC extra]] -> 0.041666667 | U13: =IF(MIP[[#This Row],[P.S]]-MIP[[#This Row],[U.P]]>=0,MIP[[#This Row],[P.S]]-MIP[[#This Row],[U.P]]+MIP[[#This Row],[S.B]]-MIP[[#This Row],[P.E]],1+MIP[[#This Row],[P.S]]-MIP[[#This Row],[U.P]]+MIP[[#This Row],[S.B]]-MIP[[#This Row],[P.E]]) -> 0.041666667 | V13: =MIP[[#This Row],[Eficiência]] -> 0.96462862 | W13: =SUMIFS([1]!Excecoes[Coluna1],[1]!Excecoes[Dia],MIP[[#This Row],[Data]],[1]!Excecoes[Equipe],MIP[[#This Row],[Equipe]],[1]!Excecoes[Previsto / Realizado],MIP[[#This Row],[Previsto / Realizado]])+IF(MIP[[#This Row],[HH AC TOT]]>0.5,1,0)+IF(AND(OR(ISBLANK(MIP[[#This Row],[P.E]]),ISBLANK(MIP[[#This Row],[S.B]]),ISBLANK(MIP[[#This Row],[U.P]]),ISBLANK(MIP[[#This Row],[P.S]])),ISTEXT(MIP[[#This Row],[Equipe]])),1,IF(MIP[[#This Row],[P.E]]>MIP[[#This Row],[S.B]],1,0)+IF([1]Excessões!$H$6="Ativadas",IF(MIP[[#This Row],[HH AC TOT]]<0.0083,1,0)+IF(OR(MIP[[#This Row],[Eficiência]]>2,MIP[[#This Row],[Eficiência]]<0.3),1,0),0)) -> 0 | X13: =IF(MIP[[#This Row],[P.S]]-MIP[[#This Row],[P.E]]<0,1+MIP[[#This Row],[P.S]]-MIP[[#This Row],[P.E]]-1/24,MIP[[#This Row],[P.S]]-MIP[[#This Row],[P.E]]-1/24) -> 0.36666667 | Y13: =MIP[[#This Row],[PT-1]]*$S$3+MIP[[#This Row],[PT-2]]*$T$3+MIP[[#This Row],[PT-3]]*$U$3+MIP[[#This Row],[PT > 3 Pontos]]*$V$3 -> 0.3135043 | Z13: =MIP[[#This Row],[HH disponível]]-MIP[[#This Row],[HH AC TOT]] -> 0.325 | AA13: =MIP[[#This Row],[HH Produtivo Total]]/MIP[[#This Row],[HH Trabalhado]] -> 0.96462862 | AB13: =MIP[[#This Row],[HH Produtivo Total]]/MIP[[#This Row],[HH disponível]] -> 0.85501173 | AC13: =MIP[[#This Row],[HH Trabalhado]]/MIP[[#This Row],[HH disponível]] -> 0.88636364 | AD13: =LEFT(MIP[[#This Row],[Equipe]], SEARCH("/",MIP[[#This Row],[Equipe]],1)-1) -> ADEMÁRIO | AE13: =RIGHT(MIP[[#This Row],[Equipe]], LEN(MIP[[#This Row],[Equipe]])-SEARCH("/",MIP[[#This Row],[Equipe]],1)) -> ANDERSON | AF13: =COUNTIFS('[1]Tempo parado'!H:H,">="&MIP[[#This Row],[S.B Sitrack]],'[1]Tempo parado'!I:I,"<="&MIP[[#This Row],[C.B Sitrack]],'[1]Tempo parado'!B:B,MIP[[#This Row],[Placa]]) -> 0 | AK13: =IF(OR(MIP[[#This Row],[S.B Sitrack]]="",MIP[[#This Row],[C.B Sitrack]]=""),"-",IF(TIME(HOUR(MIP[[#This Row],[C.B Sitrack]]),MINUTE(MIP[[#This Row],[C.B Sitrack]]),SECOND(HOUR(MIP[[#This Row],[C.B Sitrack]])))-(MIP[[#This Row],[U.P]]-TRUNC(MIP[[#This Row],[U.P]],0))<0,(TIME(HOUR(MIP[[#This Row],[C.B Sitrack]]),MINUTE(MIP[[#This Row],[C.B Sitrack]]),SECOND(HOUR(MIP[[#This Row],[C.B Sitrack]])))-(MIP[[#This Row],[U.P]]-TRUNC(MIP[[#This Row],[U.P]],0)))*(-1),TIME(HOUR(MIP[[#This Row],[C.B Sitrack]]),MINUTE(MIP[[#This Row],[C.B Sitrack]]),SECOND(HOUR(MIP[[#This Row],[C.B Sitrack]])))-(MIP[[#This Row],[U.P]]-TRUNC(MIP[[#This Row],[U.P]],0)))+IF(TIME(HOUR(MIP[[#This Row],[S.B Sitrack]]),MINUTE(MIP[[#This Row],[S.B Sitrack]]),SECOND(HOUR(MIP[[#This Row],[S.B Sitrack]])))-(MIP[[#This Row],[S.B]]-TRUNC(MIP[[#This Row],[S.B]],0))<0,(TIME(HOUR(MIP[[#This Row],[S.B Sitrack]]),MINUTE(MIP[[#This Row],[S.B Sitrack]]),SECOND(HOUR(MIP[[#This Row],[S.B Sitrack]])))-(MIP[[#This Row],[S.B]]-TRUNC(MIP[[#This Row],[S.B]],0)))*(-1),TIME(HOUR(MIP[[#This Row],[S.B Sitrack]]),MINUTE(MIP[[#This Row],[S.B Sitrack]]),SECOND(HOUR(MIP[[#This Row],[S.B Sitrack]])))-(MIP[[#This Row],[S.B]]-TRUNC(MIP[[#This Row],[S.B]],0)))) -> - | AL13: =SUMIFS([1]!Tempoviagem[DISTANCIA (KM)],[1]!Tempoviagem[DATA INICIO],">="&MIP[[#This Row],[S.B Sitrack]],[1]!Tempoviagem[DATA FIM],"<="&MIP[[#This Row],[C.B Sitrack]],[1]!Tempoviagem[PLACA],MIP[[#This Row],[Placa]],[1]!Tempoviagem[DISTANCIA (KM)],">0",[1]!Tempoviagem[VELOCIDADE MÉDIA (KM/H)],"<150") -> 0 | AM13: =SUMIFS('[1]Tempo parado'!J:J,'[1]Tempo parado'!H:H,">="&MIP[[#This Row],[S.B Sitrack]],'[1]Tempo parado'!I:I,"<="&MIP[[#This Row],[C.B Sitrack]],'[1]Tempo parado'!B:B,MIP[[#This Row],[Placa]]) -> 0 | AN13: =IFERROR(MIP[[#This Row],[Tempo parado]]/(MIP[[#This Row],[C.B Sitrack]]-MIP[[#This Row],[S.B Sitrack]]),"") | AP13: =IF(AND(MIP[Exc]=0,MIP[Previsto / Realizado]="Realizado"),MIP[Sem],0) -> 0 | AQ13: =IF(AND(MIP[Exc]=0,MIP[Previsto / Realizado]="Realizado",ISBLANK(MIP[[#This Row],[S.B Sitrack]])=FALSE,ISBLANK(MIP[[#This Row],[C.B Sitrack]])=FALSE),MIP[Sem],0) -> 0
B14: =WEEKNUM(MIP[[#This Row],[Data]]) -> 19 | C14: 42864 | E14: ADEMÁRIO / ANDERSON | F14: Realizado | H14: 2 | I14: 4 | J14: 2 | K14: 2 | L14: 0 | M14: 0.65277778 | N14: 0.68125 | O14: =25/24/60 -> 0.017361111 | P14: =53/24/60 -> 0.036805556 | S14: =MIP[[#This Row],[PT-1]]+MIP[[#This Row],[PT-2]]*2+MIP[[#This Row],[PT-3]]*3+MIP[[#This Row],[PT > 3 Pontos]] -> 14 | T14: =IF(MIP[[#This Row],[P.S]]-MIP[[#This Row],[U.P]]>=0,MIP[[#This Row],[P.S]]-MIP[[#This Row],[U.P]]+MIP[[#This Row],[S.B]]-MIP[[#This Row],[P.E]],1+MIP[[#This Row],[P.S]]-MIP[[#This Row],[U.P]]+MIP[[#This Row],[S.B]]-MIP[[#This Row],[P.E]])+MIP[[#This Row],[HH AC extra]] -> 0.047916667 | U14: =IF(MIP[[#This Row],[P.S]]-MIP[[#This Row],[U.P]]>=0,MIP[[#This Row],[P.S]]-MIP[[#This Row],[U.P]]+MIP[[#This Row],[S.B]]-MIP[[#This Row],[P.E]],1+MIP[[#This Row],[P.S]]-MIP[[#This Row],[U.P]]+MIP[[#This Row],[S.B]]-MIP[[#This Row],[P.E]]) -> 0.047916667 | V14: =MIP[[#This Row],[Eficiência]] -> 1.0647316 | W14: =SUMIFS([1]!Excecoes[Coluna1],[1]!Excecoes[Dia],MIP[[#This Row],[Data]],[1]!Excecoes[Equipe],MIP[[#This Row],[Equipe]],[1]!Excecoes[Previsto / Realizado],MIP[[#This Row],[Previsto / Realizado]])+IF(MIP[[#This Row],[HH AC TOT]]>0.5,1,0)+IF(AND(OR(ISBLANK(MIP[[#This Row],[P.E]]),ISBLANK(MIP[[#This Row],[S.B]]),ISBLANK(MIP[[#This Row],[U.P]]),ISBLANK(MIP[[#This Row],[P.S]])),ISTEXT(MIP[[#This Row],[Equipe]])),1,IF(MIP[[#This Row],[P.E]]>MIP[[#This Row],[S.B]],1,0)+IF([1]Excessões!$H$6="Ativadas",IF(MIP[[#This Row],[HH AC TOT]]<0.0083,1,0)+IF(OR(MIP[[#This Row],[Eficiência]]>2,MIP[[#This Row],[Eficiência]]<0.3),1,0),0)) -> 0 | X14: =IF(MIP[[#This Row],[P.S]]-MIP[[#This Row],[P.E]]<0,1+MIP[[#This Row],[P.S]]-MIP[[#This Row],[P.E]]-1/24,MIP[[#This Row],[P.S]]-MIP[[#This Row],[P.E]]-1/24) -> 0.34236111 | Y14: =MIP[[#This Row],[PT-1]]*$S$3+MIP[[#This Row],[PT-2]]*$T$3+MIP[[#This Row],[PT-3]]*$U$3+MIP[[#This Row],[PT > 3 Pontos]]*$V$3 -> 0.3135043 | Z14: =MIP[[#This Row],[HH disponível]]-MIP[[#This Row],[HH AC TOT]] -> 0.29444444 | AA14: =MIP[[#This Row],[HH Produtivo Total]]/MIP[[#This Row],[HH Trabalhado]] -> 1.0647316 | AB14: =MIP[[#This Row],[HH Produtivo Total]]/MIP[[#This Row],[HH disponível]] -> 0.91571236 | AC14: =MIP[[#This Row],[HH Trabalhado]]/MIP[[#This Row],[HH disponível]] -> 0.86004057 | AD14: =LEFT(MIP[[#This Row],[Equipe]], SEARCH("/",MIP[[#This Row],[Equipe]],1)-1) -> ADEMÁRIO | AE14: =RIGHT(MIP[[#This Row],[Equipe]], LEN(MIP[[#This Row],[Equipe]])-SEARCH("/",MIP[[#This Row],[Equipe]],1)) -> ANDERSON | AF14: =COUNTIFS('[1]Tempo parado'!H:H,">="&MIP[[#This Row],[S.B Sitrack]],'[1]Tempo parado'!I:I,"<="&MIP[[#This Row],[C.B Sitrack]],'[1]Tempo parado'!B:B,MIP[[#This Row],[Placa]]) -> 0 | AK14: =IF(OR(MIP[[#This Row],[S.B Sitrack]]="",MIP[[#This Row],[C.B Sitrack]]=""),"-",IF(TIME(HOUR(MIP[[#This Row],[C.B Sitrack]]),MINUTE(MIP[[#This Row],[C.B Sitrack]]),SECOND(HOUR(MIP[[#This Row],[C.B Sitrack]])))-(MIP[[#This Row],[U.P]]-TRUNC(MIP[[#This Row],[U.P]],0))<0,(TIME(HOUR(MIP[[#This Row],[C.B Sitrack]]),MINUTE(MIP[[#This Row],[C.B Sitrack]]),SECOND(HOUR(MIP[[#This Row],[C.B Sitrack]])))-(MIP[[#This Row],[U.P]]-TRUNC(MIP[[#This Row],[U.P]],0)))*(-1),TIME(HOUR(MIP[[#This Row],[C.B Sitrack]]),MINUTE(MIP[[#This Row],[C.B Sitrack]]),SECOND(HOUR(MIP[[#This Row],[C.B Sitrack]])))-(MIP[[#This Row],[U.P]]-TRUNC(MIP[[#This Row],[U.P]],0)))+IF(TIME(HOUR(MIP[[#This Row],[S.B Sitrack]]),MINUTE(MIP[[#This Row],[S.B Sitrack]]),SECOND(HOUR(MIP[[#This Row],[S.B Sitrack]])))-(MIP[[#This Row],[S.B]]-TRUNC(MIP[[#This Row],[S.B]],0))<0,(TIME(HOUR(MIP[[#This Row],[S.B Sitrack]]),MINUTE(MIP[[#This Row],[S.B Sitrack]]),SECOND(HOUR(MIP[[#This Row],[S.B Sitrack]])))-(MIP[[#This Row],[S.B]]-TRUNC(MIP[[#This Row],[S.B]],0)))*(-1),TIME(HOUR(MIP[[#This Row],[S.B Sitrack]]),MINUTE(MIP[[#This Row],[S.B Sitrack]]),SECOND(HOUR(MIP[[#This Row],[S.B Sitrack]])))-(MIP[[#This Row],[S.B]]-TRUNC(MIP[[#This Row],[S.B]],0)))) -> - | AL14: =SUMIFS([1]!Tempoviagem[DISTANCIA (KM)],[1]!Tempoviagem[DATA INICIO],">="&MIP[[#This Row],[S.B Sitrack]],[1]!Tempoviagem[DATA FIM],"<="&MIP[[#This Row],[C.B Sitrack]],[1]!Tempoviagem[PLACA],MIP[[#This Row],[Placa]],[1]!Tempoviagem[DISTANCIA (KM)],">0",[1]!Tempoviagem[VELOCIDADE MÉDIA (KM/H)],"<150") -> 0 | AM14: =SUMIFS('[1]Tempo parado'!J:J,'[1]Tempo parado'!H:H,">="&MIP[[#This Row],[S.B Sitrack]],'[1]Tempo parado'!I:I,"<="&MIP[[#This Row],[C.B Sitrack]],'[1]Tempo parado'!B:B,MIP[[#This Row],[Placa]]) -> 0 | AN14: =IFERROR(MIP[[#This Row],[Tempo parado]]/(MIP[[#This Row],[C.B Sitrack]]-MIP[[#This Row],[S.B Sitrack]]),"") | AP14: =IF(AND(MIP[Exc]=0,MIP[Previsto / Realizado]="Realizado"),MIP[Sem],0) -> 19 | AQ14: =IF(AND(MIP[Exc]=0,MIP[Previsto / Realizado]="Realizado",ISBLANK(MIP[[#This Row],[S.B Sitrack]])=FALSE,ISBLANK(MIP[[#This Row],[C.B Sitrack]])=FALSE),MIP[Sem],0) -> 0
B15: =WEEKNUM(MIP[[#This Row],[Data]]) -> 19 | C15: 42865 | E15: JOILSON / VALDEI | F15: Previsto | H15: 2 | I15: 6 | J15: 3 | K15: 1 | L15: 0 | M15: 0.25 | N15: 0.27083333 | O15: 0.6375 | P15: 0.65833333 | S15: =MIP[[#This Row],[PT-1]]+MIP[[#This Row],[PT-2]]*2+MIP[[#This Row],[PT-3]]*3+MIP[[#This Row],[PT > 3 Pontos]] -> 15 | T15: =IF(MIP[[#This Row],[P.S]]-MIP[[#This Row],[U.P]]>=0,MIP[[#This Row],[P.S]]-MIP[[#This Row],[U.P]]+MIP[[#This Row],[S.B]]-MIP[[#This Row],[P.E]],1+MIP[[#This Row],[P.S]]-MIP[[#This Row],[U.P]]+MIP[[#This Row],[S.B]]-MIP[[#This Row],[P.E]])+MIP[[#This Row],[HH AC extra]] -> 0.041666667 | U15: =IF(MIP[[#This Row],[P.S]]-MIP[[#This Row],[U.P]]>=0,MIP[[#This Row],[P.S]]-MIP[[#This Row],[U.P]]+MIP[[#This Row],[S.B]]-MIP[[#This Row],[P.E]],1+MIP[[#This Row],[P.S]]-MIP[[#This Row],[U.P]]+MIP[[#This Row],[S.B]]-MIP[[#This Row],[P.E]]) -> 0.041666667 | V15: =MIP[[#This Row],[Eficiência]] -> 1.0605326 | W15: =SUMIFS([1]!Excecoes[Coluna1],[1]!Excecoes[Dia],MIP[[#This Row],[Data]],[1]!Excecoes[Equipe],MIP[[#This Row],[Equipe]],[1]!Excecoes[Previsto / Realizado],MIP[[#This Row],[Previsto / Realizado]])+IF(MIP[[#This Row],[HH AC TOT]]>0.5,1,0)+IF(AND(OR(ISBLANK(MIP[[#This Row],[P.E]]),ISBLANK(MIP[[#This Row],[S.B]]),ISBLANK(MIP[[#This Row],[U.P]]),ISBLANK(MIP[[#This Row],[P.S]])),ISTEXT(MIP[[#This Row],[Equipe]])),1,IF(MIP[[#This Row],[P.E]]>MIP[[#This Row],[S.B]],1,0)+IF([1]Excessões!$H$6="Ativadas",IF(MIP[[#This Row],[HH AC TOT]]<0.0083,1,0)+IF(OR(MIP[[#This Row],[Eficiência]]>2,MIP[[#This Row],[Eficiência]]<0.3),1,0),0)) -> 0 | X15: =IF(MIP[[#This Row],[P.S]]-MIP[[#This Row],[P.E]]<0,1+MIP[[#This Row],[P.S]]-MIP[[#This Row],[P.E]]-1/24,MIP[[#This Row],[P.S]]-MIP[[#This Row],[P.E]]-1/24) -> 0.36666667 | Y15: =MIP[[#This Row],[PT-1]]*$S$3+MIP[[#This Row],[PT-2]]*$T$3+MIP[[#This Row],[PT-3]]*$U$3+MIP[[#This Row],[PT > 3 Pontos]]*$V$3 -> 0.3446731 | Z15: =MIP[[#This Row],[HH disponível]]-MIP[[#This Row],[HH AC TOT]] -> 0.325 | AA15: =MIP[[#This Row],[HH Produtivo Total]]/MIP[[#This Row],[HH Trabalhado]] -> 1.0605326 | AB15: =MIP[[#This Row],[HH Produtivo Total]]/MIP[[#This Row],[HH disponível]] -> 0.94001753 | AC15: =MIP[[#This Row],[HH Trabalhado]]/MIP[[#This Row],[HH disponível]] -> 0.88636364 | AD15: =LEFT(MIP[[#This Row],[Equipe]], SEARCH("/",MIP[[#This Row],[Equipe]],1)-1) -> JOILSON | AE15: =RIGHT(MIP[[#This Row],[Equipe]], LEN(MIP[[#This Row],[Equipe]])-SEARCH("/",MIP[[#This Row],[Equipe]],1)) -> VALDEI | AF15: =COUNTIFS('[1]Tempo parado'!H:H,">="&MIP[[#This Row],[S.B Sitrack]],'[1]Tempo parado'!I:I,"<="&MIP[[#This Row],[C.B Sitrack]],'[1]Tempo parado'!B:B,MIP[[#This Row],[Placa]]) -> 0 | AK15: =IF(OR(MIP[[#This Row],[S.B Sitrack]]="",MIP[[#This Row],[C.B Sitrack]]=""),"-",IF(TIME(HOUR(MIP[[#This Row],[C.B Sitrack]]),MINUTE(MIP[[#This Row],[C.B Sitrack]]),SECOND(HOUR(MIP[[#This Row],[C.B Sitrack]])))-(MIP[[#This Row],[U.P]]-TRUNC(MIP[[#This Row],[U.P]],0))<0,(TIME(HOUR(MIP[[#This Row],[C.B Sitrack]]),MINUTE(MIP[[#This Row],[C.B Sitrack]]),SECOND(HOUR(MIP[[#This Row],[C.B Sitrack]])))-(MIP[[#This Row],[U.P]]-TRUNC(MIP[[#This Row],[U.P]],0)))*(-1),TIME(HOUR(MIP[[#This Row],[C.B Sitrack]]),MINUTE(MIP[[#This Row],[C.B Sitrack]]),SECOND(HOUR(MIP[[#This Row],[C.B Sitrack]])))-(MIP[[#This Row],[U.P]]-TRUNC(MIP[[#This Row],[U.P]],0)))+IF(TIME(HOUR(MIP[[#This Row],[S.B Sitrack]]),MINUTE(MIP[[#This Row],[S.B Sitrack]]),SECOND(HOUR(MIP[[#This Row],[S.B Sitrack]])))-(MIP[[#This Row],[S.B]]-TRUNC(MIP[[#This Row],[S.B]],0))<0,(TIME(HOUR(MIP[[#This Row],[S.B Sitrack]]),MINUTE(MIP[[#This Row],[S.B Sitrack]]),SECOND(HOUR(MIP[[#This Row],[S.B Sitrack]])))-(MIP[[#This Row],[S.B]]-TRUNC(MIP[[#This Row],[S.B]],0)))*(-1),TIME(HOUR(MIP[[#This Row],[S.B Sitrack]]),MINUTE(MIP[[#This Row],[S.B Sitrack]]),SECOND(HOUR(MIP[[#This Row],[S.B Sitrack]])))-(MIP[[#This Row],[S.B]]-TRUNC(MIP[[#This Row],[S.B]],0)))) -> - | AL15: =SUMIFS([1]!Tempoviagem[DISTANCIA (KM)],[1]!Tempoviagem[DATA INICIO],">="&MIP[[#This Row],[S.B Sitrack]],[1]!Tempoviagem[DATA FIM],"<="&MIP[[#This Row],[C.B Sitrack]],[1]!Tempoviagem[PLACA],MIP[[#This Row],[Placa]],[1]!Tempoviagem[DISTANCIA (KM)],">0",[1]!Tempoviagem[VELOCIDADE MÉDIA (KM/H)],"<150") -> 0 | AM15: =SUMIFS('[1]Tempo parado'!J:J,'[1]Tempo parado'!H:H,">="&MIP[[#This Row],[S.B Sitrack]],'[1]Tempo parado'!I:I,"<="&MIP[[#This Row],[C.B Sitrack]],'[1]Tempo parado'!B:B,MIP[[#This Row],[Placa]]) -> 0 | AN15: =IFERROR(MIP[[#This Row],[Tempo parado]]/(MIP[[#This Row],[C.B Sitrack]]-MIP[[#This Row],[S.B Sitrack]]),"") | AP15: =IF(AND(MIP[Exc]=0,MIP[Previsto / Realizado]="Realizado"),MIP[Sem],0) -> 0 | AQ15: =IF(AND(MIP[Exc]=0,MIP[Previsto / Realizado]="Realizado",ISBLANK(MIP[[#This Row],[S.B Sitrack]])=FALSE,ISBLANK(MIP[[#This Row],[C.B Sitrack]])=FALSE),MIP[Sem],0) -> 0
B16: =WEEKNUM(MIP[[#This Row],[Data]]) -> 19 | C16: 42865 | E16: JOILSON / VALDEI | F16: Realizado | H16: 2 | I16: 4 | J16: 2 | K16: 1 | L16: 0 | M16: 0.25 | N16: 0.28055556 | O16: 0.53194444 | P16: 0.65833333 | R16: Um dos colaboradores precisou ir ao médico logo após o almoço (12:46) | S16: =MIP[[#This Row],[PT-1]]+MIP[[#This Row],[PT-2]]*2+MIP[[#This Row],[PT-3]]*3+MIP[[#This Row],[PT > 3 Pontos]] -> 11 | T16: =IF(MIP[[#This Row],[P.S]]-MIP[[#This Row],[U.P]]>=0,MIP[[#This Row],[P.S]]-MIP[[#This Row],[U.P]]+MIP[[#This Row],[S.B]]-MIP[[#This Row],[P.E]],1+MIP[[#This Row],[P.S]]-MIP[[#This Row],[U.P]]+MIP[[#This Row],[S.B]]-MIP[[#This Row],[P.E]])+MIP[[#This Row],[HH AC extra]] -> 0.15694444 | U16: =IF(MIP[[#This Row],[P.S]]-MIP[[#This Row],[U.P]]>=0,MIP[[#This Row],[P.S]]-MIP[[#This Row],[U.P]]+MIP[[#This Row],[S.B]]-MIP[[#This Row],[P.E]],1+MIP[[#This Row],[P.S]]-MIP[[#This Row],[U.P]]+MIP[[#This Row],[S.B]]-MIP[[#This Row],[P.E]]) -> 0.15694444 | V16: =MIP[[#This Row],[Eficiência]] -> 1.1954509 | W16: =SUMIFS([1]!Excecoes[Coluna1],[1]!Excecoes[Dia],MIP[[#This Row],[Data]],[1]!Excecoes[Equipe],MIP[[#This Row],[Equipe]],[1]!Excecoes[Previsto / Realizado],MIP[[#This Row],[Previsto / Realizado]])+IF(MIP[[#This Row],[HH AC TOT]]>0.5,1,0)+IF(AND(OR(ISBLANK(MIP[[#This Row],[P.E]]),ISBLANK(MIP[[#This Row],[S.B]]),ISBLANK(MIP[[#This Row],[U.P]]),ISBLANK(MIP[[#This Row],[P.S]])),ISTEXT(MIP[[#This Row],[Equipe]])),1,IF(MIP[[#This Row],[P.E]]>MIP[[#This Row],[S.B]],1,0)+IF([1]Excessões!$H$6="Ativadas",IF(MIP[[#This Row],[HH AC TOT]]<0.0083,1,0)+IF(OR(MIP[[#This Row],[Eficiência]]>2,MIP[[#This Row],[Eficiência]]<0.3),1,0),0)) -> 0 | X16: =IF(MIP[[#This Row],[P.S]]-MIP[[#This Row],[P.E]]<0,1+MIP[[#This Row],[P.S]]-MIP[[#This Row],[P.E]]-1/24,MIP[[#This Row],[P.S]]-MIP[[#This Row],[P.E]]-1/24) -> 0.36666667 | Y16: =MIP[[#This Row],[PT-1]]*$S$3+MIP[[#This Row],[PT-2]]*$T$3+MIP[[#This Row],[PT-3]]*$U$3+MIP[[#This Row],[PT > 3 Pontos]]*$V$3 -> 0.25071262 | Z16: =MIP[[#This Row],[HH disponível]]-MIP[[#This Row],[HH AC TOT]] -> 0.20972222 | AA16: =MIP[[#This Row],[HH Produtivo Total]]/MIP[[#This Row],[HH Trabalhado]] -> 1.1954509 | AB16: =MIP[[#This Row],[HH Produtivo Total]]/MIP[[#This Row],[HH disponível]] -> 0.6837617 | AC16: =MIP[[#This Row],[HH Trabalhado]]/MIP[[#This Row],[HH disponível]] -> 0.5719697 | AD16: =LEFT(MIP[[#This Row],[Equipe]], SEARCH("/",MIP[[#This Row],[Equipe]],1)-1) -> JOILSON | AE16: =RIGHT(MIP[[#This Row],[Equipe]], LEN(MIP[[#This Row],[Equipe]])-SEARCH("/",MIP[[#This Row],[Equipe]],1)) -> VALDEI | AF16: =COUNTIFS('[1]Tempo parado'!H:H,">="&MIP[[#This Row],[S.B Sitrack]],'[1]Tempo parado'!I:I,"<="&MIP[[#This Row],[C.B Sitrack]],'[1]Tempo parado'!B:B,MIP[[#This Row],[Placa]]) -> 0 | AK16: =IF(OR(MIP[[#This Row],[S.B Sitrack]]="",MIP[[#This Row],[C.B Sitrack]]=""),"-",IF(TIME(HOUR(MIP[[#This Row],[C.B Sitrack]]),MINUTE(MIP[[#This Row],[C.B Sitrack]]),SECOND(HOUR(MIP[[#This Row],[C.B Sitrack]])))-(MIP[[#This Row],[U.P]]-TRUNC(MIP[[#This Row],[U.P]],0))<0,(TIME(HOUR(MIP[[#This Row],[C.B Sitrack]]),MINUTE(MIP[[#This Row],[C.B Sitrack]]),SECOND(HOUR(MIP[[#This Row],[C.B Sitrack]])))-(MIP[[#This Row],[U.P]]-TRUNC(MIP[[#This Row],[U.P]],0)))*(-1),TIME(HOUR(MIP[[#This Row],[C.B Sitrack]]),MINUTE(MIP[[#This Row],[C.B Sitrack]]),SECOND(HOUR(MIP[[#This Row],[C.B Sitrack]])))-(MIP[[#This Row],[U.P]]-TRUNC(MIP[[#This Row],[U.P]],0)))+IF(TIME(HOUR(MIP[[#This Row],[S.B Sitrack]]),MINUTE(MIP[[#This Row],[S.B Sitrack]]),SECOND(HOUR(MIP[[#This Row],[S.B Sitrack]])))-(MIP[[#This Row],[S.B]]-TRUNC(MIP[[#This Row],[S.B]],0))<0,(TIME(HOUR(MIP[[#This Row],[S.B Sitrack]]),MINUTE(MIP[[#This Row],[S.B Sitrack]]),SECOND(HOUR(MIP[[#This Row],[S.B Sitrack]])))-(MIP[[#This Row],[S.B]]-TRUNC(MIP[[#This Row],[S.B]],0)))*(-1),TIME(HOUR(MIP[[#This Row],[S.B Sitrack]]),MINUTE(MIP[[#This Row],[S.B Sitrack]]),SECOND(HOUR(MIP[[#This Row],[S.B Sitrack]])))-(MIP[[#This Row],[S.B]]-TRUNC(MIP[[#This Row],[S.B]],0)))) -> - | AL16: =SUMIFS([1]!Tempoviagem[DISTANCIA (KM)],[1]!Tempoviagem[DATA INICIO],">="&MIP[[#This Row],[S.B Sitrack]],[1]!Tempoviagem[DATA FIM],"<="&MIP[[#This Row],[C.B Sitrack]],[1]!Tempoviagem[PLACA],MIP[[#This Row],[Placa]],[1]!Tempoviagem[DISTANCIA (KM)],">0",[1]!Tempoviagem[VELOCIDADE MÉDIA (KM/H)],"<150") -> 0 | AM16: =SUMIFS('[1]Tempo parado'!J:J,'[1]Tempo parado'!H:H,">="&MIP[[#This Row],[S.B Sitrack]],'[1]Tempo parado'!I:I,"<="&MIP[[#This Row],[C.B Sitrack]],'[1]Tempo parado'!B:B,MIP[[#This Row],[Placa]]) -> 0 | AN16: =IFERROR(MIP[[#This Row],[Tempo parado]]/(MIP[[#This Row],[C.B Sitrack]]-MIP[[#This Row],[S.B Sitrack]]),"") | AP16: =IF(AND(MIP[Exc]=0,MIP[Previsto / Realizado]="Realizado"),MIP[Sem],0) -> 19 | AQ16: =IF(AND(MIP[Exc]=0,MIP[Previsto / Realizado]="Realizado",ISBLANK(MIP[[#This Row],[S.B Sitrack]])=FALSE,ISBLANK(MIP[[#This Row],[C.B Sitrack]])=FALSE),MIP[Sem],0) -> 0
B17: =WEEKNUM(MIP[[#This Row],[Data]]) -> 19 | C17: 42865 | E17: ADEMÁRIO / ANDERSON | F17: Previsto | H17: 2 | I17: 6 | J17: 4 | K17: 0 | L17: 0 | M17: 0.625 | N17: 0.64583333 | O17: =1+18/24/60 -> 1.0125 | P17: =1+48/24/60 -> 1.0333333 | S17: =MIP[[#This Row],[PT-1]]+MIP[[#This Row],[PT-2]]*2+MIP[[#This Row],[PT-3]]*3+MIP[[#This Row],[PT > 3 Pontos]] -> 14 | T17: =IF(MIP[[#This Row],[P.S]]-MIP[[#This Row],[U.P]]>=0,MIP[[#This Row],[P.S]]-MIP[[#This Row],[U.P]]+MIP[[#This Row],[S.B]]-MIP[[#This Row],[P.E]],1+MIP[[#This Row],[P.S]]-MIP[[#This Row],[U.P]]+MIP[[#This Row],[S.B]]-MIP[[#This Row],[P.E]])+MIP[[#This Row],[HH AC extra]] -> 0.041666667 | U17: =IF(MIP[[#This Row],[P.S]]-MIP[[#This Row],[U.P]]>=0,MIP[[#This Row],[P.S]]-MIP[[#This Row],[U.P]]+MIP[[#This Row],[S.B]]-MIP[[#This Row],[P.E]],1+MIP[[#This Row],[P.S]]-MIP[[#This Row],[U.P]]+MIP[[#This Row],[S.B]]-MIP[[#This Row],[P.E]]) -> 0.041666667 | V17: =MIP[[#This Row],[Eficiência]] -> 1.0024313 | W17: =SUMIFS([1]!Excecoes[Coluna1],[1]!Excecoes[Dia],MIP[[#This Row],[Data]],[1]!Excecoes[Equipe],MIP[[#This Row],[Equipe]],[1]!Excecoes[Previsto / Realizado],MIP[[#This Row],[Previsto / Realizado]])+IF(MIP[[#This Row],[HH AC TOT]]>0.5,1,0)+IF(AND(OR(ISBLANK(MIP[[#This Row],[P.E]]),ISBLANK(MIP[[#This Row],[S.B]]),ISBLANK(MIP[[#This Row],[U.P]]),ISBLANK(MIP[[#This Row],[P.S]])),ISTEXT(MIP[[#This Row],[Equipe]])),1,IF(MIP[[#This Row],[P.E]]>MIP[[#This Row],[S.B]],1,0)+IF([1]Excessões!$H$6="Ativadas",IF(MIP[[#This Row],[HH AC TOT]]<0.0083,1,0)+IF(OR(MIP[[#This Row],[Eficiência]]>2,MIP[[#This Row],[Eficiência]]<0.3),1,0),0)) -> 0 | X17: =IF(MIP[[#This Row],[P.S]]-MIP[[#This Row],[P.E]]<0,1+MIP[[#This Row],[P.S]]-MIP[[#This Row],[P.E]]-1/24,MIP[[#This Row],[P.S]]-MIP[[#This Row],[P.E]]-1/24) -> 0.36666667 | Y17: =MIP[[#This Row],[PT-1]]*$S$3+MIP[[#This Row],[PT-2]]*$T$3+MIP[[#This Row],[PT-3]]*$U$3+MIP[[#This Row],[PT > 3 Pontos]]*$V$3 -> 0.32579018 | Z17: =MIP[[#This Row],[HH disponível]]-MIP[[#This Row],[HH AC TOT]] -> 0.325 | AA17: =MIP[[#This Row],[HH Produtivo Total]]/MIP[[#This Row],[HH Trabalhado]] -> 1.0024313 | AB17: =MIP[[#This Row],[HH Produtivo Total]]/MIP[[#This Row],[HH disponível]] -> 0.88851868 | AC17: =MIP[[#This Row],[HH Trabalhado]]/MIP[[#This Row],[HH disponível]] -> 0.88636364 | AD17: =LEFT(MIP[[#This Row],[Equipe]], SEARCH("/",MIP[[#This Row],[Equipe]],1)-1) -> ADEMÁRIO | AE17: =RIGHT(MIP[[#This Row],[Equipe]], LEN(MIP[[#This Row],[Equipe]])-SEARCH("/",MIP[[#This Row],[Equipe]],1)) -> ANDERSON | AF17: =COUNTIFS('[1]Tempo parado'!H:H,">="&MIP[[#This Row],[S.B Sitrack]],'[1]Tempo parado'!I:I,"<="&MIP[[#This Row],[C.B Sitrack]],'[1]Tempo parado'!B:B,MIP[[#This Row],[Placa]]) -> 0 | AK17: =IF(OR(MIP[[#This Row],[S.B Sitrack]]="",MIP[[#This Row],[C.B Sitrack]]=""),"-",IF(TIME(HOUR(MIP[[#This Row],[C.B Sitrack]]),MINUTE(MIP[[#This Row],[C.B Sitrack]]),SECOND(HOUR(MIP[[#This Row],[C.B Sitrack]])))-(MIP[[#This Row],[U.P]]-TRUNC(MIP[[#This Row],[U.P]],0))<0,(TIME(HOUR(MIP[[#This Row],[C.B Sitrack]]),MINUTE(MIP[[#This Row],[C.B Sitrack]]),SECOND(HOUR(MIP[[#This Row],[C.B Sitrack]])))-(MIP[[#This Row],[U.P]]-TRUNC(MIP[[#This Row],[U.P]],0)))*(-1),TIME(HOUR(MIP[[#This Row],[C.B Sitrack]]),MINUTE(MIP[[#This Row],[C.B Sitrack]]),SECOND(HOUR(MIP[[#This Row],[C.B Sitrack]])))-(MIP[[#This Row],[U.P]]-TRUNC(MIP[[#This Row],[U.P]],0)))+IF(TIME(HOUR(MIP[[#This Row],[S.B Sitrack]]),MINUTE(MIP[[#This Row],[S.B Sitrack]]),SECOND(HOUR(MIP[[#This Row],[S.B Sitrack]])))-(MIP[[#This Row],[S.B]]-TRUNC(MIP[[#This Row],[S.B]],0))<0,(TIME(HOUR(MIP[[#This Row],[S.B Sitrack]]),MINUTE(MIP[[#This Row],[S.B Sitrack]]),SECOND(HOUR(MIP[[#This Row],[S.B Sitrack]])))-(MIP[[#This Row],[S.B]]-TRUNC(MIP[[#This Row],[S.B]],0)))*(-1),TIME(HOUR(MIP[[#This Row],[S.B Sitrack]]),MINUTE(MIP[[#This Row],[S.B Sitrack]]),SECOND(HOUR(MIP[[#This Row],[S.B Sitrack]])))-(MIP[[#This Row],[S.B]]-TRUNC(MIP[[#This Row],[S.B]],0)))) -> - | AL17: =SUMIFS([1]!Tempoviagem[DISTANCIA (KM)],[1]!Tempoviagem[DATA INICIO],">="&MIP[[#This Row],[S.B Sitrack]],[1]!Tempoviagem[DATA FIM],"<="&MIP[[#This Row],[C.B Sitrack]],[1]!Tempoviagem[PLACA],MIP[[#This Row],[Placa]],[1]!Tempoviagem[DISTANCIA (KM)],">0",[1]!Tempoviagem[VELOCIDADE MÉDIA (KM/H)],"<150") -> 0 | AM17: =SUMIFS('[1]Tempo parado'!J:J,'[1]Tempo parado'!H:H,">="&MIP[[#This Row],[S.B Sitrack]],'[1]Tempo parado'!I:I,"<="&MIP[[#This Row],[C.B Sitrack]],'[1]Tempo parado'!B:B,MIP[[#This Row],[Placa]]) -> 0 | AN17: =IFERROR(MIP[[#This Row],[Tempo parado]]/(MIP[[#This Row],[C.B Sitrack]]-MIP[[#This Row],[S.B Sitrack]]),"") | AP17: =IF(AND(MIP[Exc]=0,MIP[Previsto / Realizado]="Realizado"),MIP[Sem],0) -> 0 | AQ17: =IF(AND(MIP[Exc]=0,MIP[Previsto / Realizado]="Realizado",ISBLANK(MIP[[#This Row],[S.B Sitrack]])=FALSE,ISBLANK(MIP[[#This Row],[C.B Sitrack]])=FALSE),MIP[Sem],0) -> 0
B18: =WEEKNUM(MIP[[#This Row],[Data]]) -> 19 | C18: 42865 | E18: ADEMÁRIO / ANDERSON | F18: Realizado | H18: 2 | I18: 5 | J18: 4 | K18: 0 | L18: 0 | M18: 0.61736111 | N18: 0.66666667 | O18: =1+35/24/60 -> 1.0243056 | P18: =1+54/24/60 -> 1.0375 | S18: =MIP[[#This Row],[PT-1]]+MIP[[#This Row],[PT-2]]*2+MIP[[#This Row],[PT-3]]*3+MIP[[#This Row],[PT > 3 Pontos]] -> 13 | T18: =IF(MIP[[#This Row],[P.S]]-MIP[[#This Row],[U.P]]>=0,MIP[[#This Row],[P.S]]-MIP[[#This Row],[U.P]]+MIP[[#This Row],[S.B]]-MIP[[#This Row],[P.E]],1+MIP[[#This Row],[P.S]]-MIP[[#This Row],[U.P]]+MIP[[#This Row],[S.B]]-MIP[[#This Row],[P.E]])+MIP[[#This Row],[HH AC extra]] -> 0.0625 | U18: =IF(MIP[[#This Row],[P.S]]-MIP[[#This Row],[U.P]]>=0,MIP[[#This Row],[P.S]]-MIP[[#This Row],[U.P]]+MIP[[#This Row],[S.B]]-MIP[[#This Row],[P.E]],1+MIP[[#This Row],[P.S]]-MIP[[#This Row],[U.P]]+MIP[[#This Row],[S.B]]-MIP[[#This Row],[P.E]]) -> 0.0625 | V18: =MIP[[#This Row],[Eficiência]] -> 0.95186953 | W18: =SUMIFS([1]!Excecoes[Coluna1],[1]!Excecoes[Dia],MIP[[#This Row],[Data]],[1]!Excecoes[Equipe],MIP[[#This Row],[Equipe]],[1]!Excecoes[Previsto / Realizado],MIP[[#This Row],[Previsto / Realizado]])+IF(MIP[[#This Row],[HH AC TOT]]>0.5,1,0)+IF(AND(OR(ISBLANK(MIP[[#This Row],[P.E]]),ISBLANK(MIP[[#This Row],[S.B]]),ISBLANK(MIP[[#This Row],[U.P]]),ISBLANK(MIP[[#This Row],[P.S]])),ISTEXT(MIP[[#This Row],[Equipe]])),1,IF(MIP[[#This Row],[P.E]]>MIP[[#This Row],[S.B]],1,0)+IF([1]Excessões!$H$6="Ativadas",IF(MIP[[#This Row],[HH AC TOT]]<0.0083,1,0)+IF(OR(MIP[[#This Row],[Eficiência]]>2,MIP[[#This Row],[Eficiência]]<0.3),1,0),0)) -> 0 | X18: =IF(MIP[[#This Row],[P.S]]-MIP[[#This Row],[P.E]]<0,1+MIP[[#This Row],[P.S]]-MIP[[#This Row],[P.E]]-1/24,MIP[[#This Row],[P.S]]-MIP[[#This Row],[P.E]]-1/24) -> 0.37847222 | Y18: =MIP[[#This Row],[PT-1]]*$S$3+MIP[[#This Row],[PT-2]]*$T$3+MIP[[#This Row],[PT-3]]*$U$3+MIP[[#This Row],[PT > 3 Pontos]]*$V$3 -> 0.30076433 | Z18: =MIP[[#This Row],[HH disponível]]-MIP[[#This Row],[HH AC TOT]] -> 0.31597222 | AA18: =MIP[[#This Row],[HH Produtivo Total]]/MIP[[#This Row],[HH Trabalhado]] -> 0.95186953 | AB18: =MIP[[#This Row],[HH Produtivo Total]]/MIP[[#This Row],[HH disponível]] -> 0.79468006 | AC18: =MIP[[#This Row],[HH Trabalhado]]/MIP[[#This Row],[HH disponível]] -> 0.83486239 | AD18: =LEFT(MIP[[#This Row],[Equipe]], SEARCH("/",MIP[[#This Row],[Equipe]],1)-1) -> ADEMÁRIO | AE18: =RIGHT(MIP[[#This Row],[Equipe]], LEN(MIP[[#This Row],[Equipe]])-SEARCH("/",MIP[[#This Row],[Equipe]],1)) -> ANDERSON | AF18: =COUNTIFS('[1]Tempo parado'!H:H,">="&MIP[[#This Row],[S.B Sitrack]],'[1]Tempo parado'!I:I,"<="&MIP[[#This Row],[C.B Sitrack]],'[1]Tempo parado'!B:B,MIP[[#This Row],[Placa]]) -> 0 | AK18: =IF(OR(MIP[[#This Row],[S.B Sitrack]]="",MIP[[#This Row],[C.B Sitrack]]=""),"-",IF(TIME(HOUR(MIP[[#This Row],[C.B Sitrack]]),MINUTE(MIP[[#This Row],[C.B Sitrack]]),SECOND(HOUR(MIP[[#This Row],[C.B Sitrack]])))-(MIP[[#This Row],[U.P]]-TRUNC(MIP[[#This Row],[U.P]],0))<0,(TIME(HOUR(MIP[[#This Row],[C.B Sitrack]]),MINUTE(MIP[[#This Row],[C.B Sitrack]]),SECOND(HOUR(MIP[[#This Row],[C.B Sitrack]])))-(MIP[[#This Row],[U.P]]-TRUNC(MIP[[#This Row],[U.P]],0)))*(-1),TIME(HOUR(MIP[[#This Row],[C.B Sitrack]]),MINUTE(MIP[[#This Row],[C.B Sitrack]]),SECOND(HOUR(MIP[[#This Row],[C.B Sitrack]])))-(MIP[[#This Row],[U.P]]-TRUNC(MIP[[#This Row],[U.P]],0)))+IF(TIME(HOUR(MIP[[#This Row],[S.B Sitrack]]),MINUTE(MIP[[#This Row],[S.B Sitrack]]),SECOND(HOUR(MIP[[#This Row],[S.B Sitrack]])))-(MIP[[#This Row],[S.B]]-TRUNC(MIP[[#This Row],[S.B]],0))<0,(TIME(HOUR(MIP[[#This Row],[S.B Sitrack]]),MINUTE(MIP[[#This Row],[S.B Sitrack]]),SECOND(HOUR(MIP[[#This Row],[S.B Sitrack]])))-(MIP[[#This Row],[S.B]]-TRUNC(MIP[[#This Row],[S.B]],0)))*(-1),TIME(HOUR(MIP[[#This Row],[S.B Sitrack]]),MINUTE(MIP[[#This Row],[S.B Sitrack]]),SECOND(HOUR(MIP[[#This Row],[S.B Sitrack]])))-(MIP[[#This Row],[S.B]]-TRUNC(MIP[[#This Row],[S.B]],0)))) -> - | AL18: =SUMIFS([1]!Tempoviagem[DISTANCIA (KM)],[1]!Tempoviagem[DATA INICIO],">="&MIP[[#This Row],[S.B Sitrack]],[1]!Tempoviagem[DATA FIM],"<="&MIP[[#This Row],[C.B Sitrack]],[1]!Tempoviagem[PLACA],MIP[[#This Row],[Placa]],[1]!Tempoviagem[DISTANCIA (KM)],">0",[1]!Tempoviagem[VELOCIDADE MÉDIA (KM/H)],"<150") -> 0 | AM18: =SUMIFS('[1]Tempo parado'!J:J,'[1]Tempo parado'!H:H,">="&MIP[[#This Row],[S.B Sitrack]],'[1]Tempo parado'!I:I,"<="&MIP[[#This Row],[C.B Sitrack]],'[1]Tempo parado'!B:B,MIP[[#This Row],[Placa]]) -> 0 | AN18: =IFERROR(MIP[[#This Row],[Tempo parado]]/(MIP[[#This Row],[C.B Sitrack]]-MIP[[#This Row],[S.B Sitrack]]),"") | AP18: =IF(AND(MIP[Exc]=0,MIP[Previsto / Realizado]="Realizado"),MIP[Sem],0) -> 19 | AQ18: =IF(AND(MIP[Exc]=0,MIP[Previsto / Realizado]="Realizado",ISBLANK(MIP[[#This Row],[S.B Sitrack]])=FALSE,ISBLANK(MIP[[#This Row],[C.B Sitrack]])=FALSE),MIP[Sem],0) -> 0
