Workbook
Name EQUIPE: [1]!Equipes[Equipe]
Name EquipeGraf: '[1]Análise Equipe'!$B$8
Name MacroSitrack: [1]!SitrackONOFF[Sitrack]
Name SitrackVBA: '[1]Inf Gerais'!#REF!

Sheet MIP
A1: MIP - Diário das equipes | S1: Tempo padrão / tipo protocolo
S2: TP-1 | T2: TP-2 | U2: TP-3 | V2: TP > 3 (por ponto)
A3: Responsáveis: Vinicius Dantas e Rafael Resende | S3: =VLOOKUP(S2,[1]!UltTP[#Data],2,FALSE) -> 0.025025853 | T3: =VLOOKUP(T2,[1]!UltTP[#Data],2,FALSE) -> 0.043908766 | U3: =VLOOKUP(U2,[1]!UltTP[#Data],2,FALSE) -> 0.062791679 | V3: =VLOOKUP(V2,[1]!UltTP[#Data],2,FALSE) -> 0.020248011
D4: P. aut.
D5: Desativado | I5: Qnt protocolos / tipo | M5: Horários | AA5: Indicadores / Equipe
B6: Sem | C6: Data | D6: Turno | E6: Equipe | F6: Previsto / Realizado | G6: Placa | H6: Qnt Colab | I6: PT-1 | J6: PT-2 | K6: PT-3 | L6: PT > 3 Pontos | M6: P.E | N6: S.B | O6: U.P | P6: P.S | Q6: HH AC extra | R6: Observação | S6: Pontos | T6: HH AC TOT | U6: HH AC IN/OUT | V6: # | W6: Exc | X6: HH disponível | Y6: HH Produtivo Total | Z6: HH Trabalhado | AA6: Eficiência | AB6: Produtividade | AC6: Utilização | AD6: Colaborador 1 | AE6: Colaborador 2 | AF6: Qntd de paradas | AG6: Hora inserção | AH6: Comentário sistema | AI6: S.B Sitrack | AJ6: C.B Sitrack | AK6: Distorção | AL6: Distância Sitrack | AM6: Tempo parado | AN6: % tempo parado | AO6: Rota | AP6: Sem_fin | AQ6: Sem_fin Sit
B7: =WEEKNUM(MIP[[#This Row],[Data]]) -> 19 | C7: 42863 | E7: EDILTON / CLAUDINEY | F7: Previsto | H7: 2 | I7: 8 | J7: 2 | K7: 0 | L7: 0 | M7: 0.625 | N7: 0.64583333 | O7: =18/24/60 -> 0.0125 | P7: =48/24/60 -> 0.033333333 | S7: =MIP[[#This Row],[PT-1]]+MIP[[#This Row],[PT-2]]*2+MIP[[#This Row],[PT-3]]*3+MIP[[#This Row],[PT > 3 Pontos]] -> 12 | T7: =IF(MIP[[#This Row],[P.S]]-MIP[[#This Row],[U.P]]>=0,MIP[[#This Row],[P.S]]-MIP[[#This Row],[U.P]]+MIP[[#This Row],[S.B]]-MIP[[#This Row],[P.E]],1+MIP[[#This Row],[P.S]]-MIP[[#This Row],[U.P]]+MIP[[#This Row],[S.B]]-MIP[[#This Row],[P.E]])+MIP[[#This Row],[HH AC extra]] -> 0.041666667 | U7: =IF(MIP[[#This Row],[P.S]]-MIP[[#This Row],[U.P]]>=0,MIP[[#This Row],[P.S]]-MIP[[#This Row],[U.P]]+MIP[[#This Row],[S.B]]-MIP[[#This Row],[P.E]],1+MIP[[#This Row],[P.S]]-MIP[[#This Row],[U.P]]+MIP[[#This Row],[S.B]]-MIP[[#This Row],[P.E]]) -> 0.041666667 | V7: =MIP[[#This Row],[Eficiência]] -> 0.88622879 | W7: =SUMIFS([1]!Excecoes[Coluna1],[1]!Excecoes[Dia],MIP[[#This Row],[Data]],[1]!Excecoes[Equipe],MIP[[#This Row],[Equipe]],[1]!Excecoes[Previsto / Realizado],MIP[[#This Row],[Previsto / Realizado]])+IF(MIP[[#This Row],[HH AC TOT]]>0.5,1,0)+IF(AND(OR(ISBLANK(MIP[[#This Row],[P.E]]),ISBLANK(MIP[[#This Row],[S.B]]),ISBLANK(MIP[[#This Row],[U.P]]),ISBLANK(MIP[[#This Row],[P.S]])),ISTEXT(MIP[[#This Row],[Equipe]])),1,IF(MIP[[#This Row],[P.E]]>MIP[[#This Row],[S.B]],1,0)+IF([1]Excessões!$H$6="Ativadas",IF(MIP[[#This Row],[HH AC TOT]]<0.0083,1,0)+IF(OR(MIP[[#This Row],[Eficiência]]>2,MIP[[#This Row],[Eficiência]]<0.3),1,0),0)) -> 0 | X7: =IF(MIP[[#This Row],[P.S]]-MIP[[#This Row],[P.E]]<0,1+MIP[[#This Row],[P.S]]-MIP[[#This Row],[P.E]]-1/24,MIP[[#This Row],[P.S]]-MIP[[#This Row],[P.E]]-1/24) -> 0.36666667 | Y7: =MIP[[#This Row],[PT-1]]*$S$3+MIP[[#This Row],[PT-2]]*$T$3+MIP[[#This Row],[PT-3]]*$U$3+MIP[[#This Row],[PT > 3 Pontos]]*$V$3 -> 0.28802436 | Z7: =MIP[[#This Row],[HH disponível]]-MIP[[#This Row],[HH AC TOT]] -> 0.325 | AA7: =MIP[[#This Row],[HH Produtivo Total]]/MIP[[#This Row],[HH Trabalhado]] -> 0.88622879 | AB7: =MIP[[#This Row],[HH Produtivo Total]]/MIP[[#This Row],[HH disponível]] -> 0.78552097 | AC7: =MIP[[#This Row],[HH Trabalhado]]/MIP[[#This Row],[HH disponível]] -> 0.88636364 | AD7: =LEFT(MIP[[#This Row],[Equipe]], SEARCH("/",MIP[[#This Row],[Equipe]],1)-1) -> EDILTON | AE7: =RIGHT(MIP[[#This Row],[Equipe]], LEN(MIP[[#This Row],[Equipe]])-SEARCH("/",MIP[[#This Row],[Equipe]],1)) -> CLAUDINEY | AF7: =COUNTIFS('[1]Tempo parado'!H:H,">="&MIP[[#This Row],[S.B Sitrack]],'[1]Tempo parado'!I:I,"<="&MIP[[#This Row],[C.B Sitrack]],'[1]Tempo parado'!B:B,MIP[[#This Row],[Placa]]) -> 0 | AK7: =IF(OR(MIP[[#This Row],[S.B Sitrack]]="",MIP[[#This Row],[C.B Sitrack]]=""),"-",IF(TIME(HOUR(MIP[[#This Row],[C.B Sitrack]]),MINUTE(MIP[[#This Row],[C.B Sitrack]]),SECOND(HOUR(MIP[[#This Row],[C.B Sitrack]])))-(MIP[[#This Row],[U.P]]-TRUNC(MIP[[#This Row],[U.P]],0))<0,(TIME(HOUR(MIP[[#This Row],[C.B Sitrack]]),MINUTE(MIP[[#This Row],[C.B Sitrack]]),SECOND(HOUR(MIP[[#This Row],[C.B Sitrack]])))-(MIP[[#This Row],[U.P]]-TRUNC(MIP[[#This Row],[U.P]],0)))*(-1),TIME(HOUR(MIP[[#This Row],[C.B Sitrack]]),MINUTE(MIP[[#This Row],[C.B Sitrack]]),SECOND(HOUR(MIP[[#This Row],[C.B Sitrack]])))-(MIP[[#This Row],[U.P]]-TRUNC(MIP[[#This Row],[U.P]],0)))+IF(TIME(HOUR(MIP[[#This Row],[S.B Sitrack]]),MINUTE(MIP[[#This Row],[S.B Sitrack]]),SECOND(HOUR(MIP[[#This Row],[S.B Sitrack]])))-(MIP[[#This Row],[S.B]]-TRUNC(MIP[[#This Row],[S.B]],0))<0,(TIME(HOUR(MIP[[#This Row],[S.B Sitrack]]),MINUTE(MIP[[#This Row],[S.B Sitrack]]),SECOND(HOUR(MIP[[#This Row],[S.B Sitrack]])))-(MIP[[#This Row],[S.B]]-TRUNC(MIP[[#This Row],[S.B]],0)))*(-1),TIME(HOUR(MIP[[#This Row],[S.B Sitrack]]),MINUTE(MIP[[#This Row],[S.B Sitrack]]),SECOND(HOUR(MIP[[#This Row],[S.B Sitrack]])))-(MIP[[#This Row],[S.B]]-TRUNC(MIP[[#This Row],[S.B]],0)))) -> - | AL7: =SUMIFS([1]!Tempoviagem[DISTANCIA (KM)],[1]!Tempoviagem[DATA INICIO],">="&MIP[[#This Row],[S.B Sitrack]],[1]!Tempoviagem[DATA FIM],"<="&MIP[[#This Row],[C.B Sitrack]],[1]!Tempoviagem[PLACA],MIP[[#This Row],[Placa]],[1]!Tempoviagem[DISTANCIA (KM)],">0",[1]!Tempoviagem[VELOCIDADE MÉDIA (KM/H)],"<150") -> 0 | AM7: =SUMIFS('[1]Tempo parado'!J:J,'[1]Tempo parado'!H:H,">="&MIP[[#This Row],[S.B Sitrack]],'[1]Tempo parado'!I:I,"<="&MIP[[#This Row],[C.B Sitrack]],'[1]Tempo parado'!B:B,MIP[[#This Row],[Placa]]) -> 0 | AN7: =IFERROR(MIP[[#This Row],[Tempo parado]]/(MIP[[#This Row],[C.B Sitrack]]-MIP[[#This Row],[S.B Sitrack]]),"") | AP7: =IF(AND(MIP[Exc]=0,MIP[Previsto / Realizado]="Realizado"),MIP[Sem],0) -> 0 | AQ7: =IF(AND(MIP[Exc]=0,MIP[Previsto / Realizado]="Realizado",ISBLANK(MIP[[#This Row],[S.B Sitrack]])=FALSE,ISBLANK(MIP[[#This Row],[C.B Sitrack]])=FALSE),MIP[Sem],0) -> 0
B8: =WEEKNUM(MIP[[#This Row],[Data]]) -> 19 | C8: 42863 | E8: EDILTON / CLAUDINEY | F8: Realizado | H8: 2 | I8: 8 | J8: 1 | K8: 0 | L8: 0 | M8: 0.625 | N8: 0.7 | O8: =1 -> 1 | P8: =1/24/60*48 -> 0.033333333 | R8: Implantação do novo procedimento de reposição de materiais. | S8: =MIP[[#This Row],[PT-1]]+MIP[[#This Row],[PT-2]]*2+MIP[[#This Row],[PT-3]]*3+MIP[[#This Row],[PT > 3 Pontos]] -> 10 | T8: =IF(MIP[[#This Row],[P.S]]-MIP[[#This Row],[U.P]]>=0,MIP[[#This Row],[P.S]]-MIP[[#This Row],[U.P]]+MIP[[#This Row],[S.B]]-MIP[[#This Row],[P.E]],1+MIP[[#This Row],[P.S]]-MIP[[#This Row],[U.P]]+MIP[[#This Row],[S.B]]-MIP[[#This Row],[P.E]])+MIP[[#This Row],[HH AC extra]] -> 0.10833333 | U8: =IF(MIP[[#This Row],[P.S]]-MIP[[#This Row],[U.P]]>=0,MIP[[#This Row],[P.S]]-MIP[[#This Row],[U.P]]+MIP[[#This Row],[S.B]]-MIP[[#This Row],[P.E]],1+MIP[[#This Row],[P.S]]-MIP[[#This Row],[U.P]]+MIP[[#This Row],[S.B]]-MIP[[#This Row],[P.E]]) -> 0.10833333 | V8: =MIP[[#This Row],[Eficiência]] -> 0.94496357 | W8: =SUMIFS([1]!Excecoes[Coluna1],[1]!Excecoes[Dia],MIP[[#This Row],[Data]],[1]!Excecoes[Equipe],MIP[[#This Row],[Equipe]],[1]!Excecoes[Previsto / Realizado],MIP[[#This Row],[Previsto / Realizado]])+IF(MIP[[#This Row],[HH AC TOT]]>0.5,1,0)+IF(AND(OR(ISBLANK(MIP[[#This Row],[P.E]]),ISBLANK(MIP[[#This Row],[S.B]]),ISBLANK(MIP[[#This Row],[U.P]]),ISBLANK(MIP[[#This Row],[P.S]])),ISTEXT(MIP[[#This Row],[Equipe]])),1,IF(MIP[[#This Row],[P.E]]>MIP[[#This Row],[S.B]],1,0)+IF([1]Excessões!$H$6="Ativadas",IF(MIP[[#This Row],[HH AC TOT]]<0.0083,1,0)+IF(OR(MIP[[#This Row],[Eficiência]]>2,MIP[[#This Row],[Eficiência]]<0.3),1,0),0)) -> 0 | X8: =IF(MIP[[#This Row],[P.S]]-MIP[[#This Row],[P.E]]<0,1+MIP[[#This Row],[P.S]]-MIP[[#This Row],[P.E]]-1/24,MIP[[#This Row],[P.S]]-MIP[[#This Row],[P.E]]-1/24) -> 0.36666667 | Y8: =MIP[[#This Row],[PT-1]]*$S$3+MIP[[#This Row],[PT-2]]*$T$3+MIP[[#This Row],[PT-3]]*$U$3+MIP[[#This Row],[PT > 3 Pontos]]*$V$3 -> 0.24411559 | Z8: =MIP[[#This Row],[HH disponível]]-MIP[[#This Row],[HH AC TOT]] -> 0.25833333 | AA8: =MIP[[#This Row],[HH Produtivo Total]]/MIP[[#This Row],[HH Trabalhado]] -> 0.94496357 | AB8: =MIP[[#This Row],[HH Produtivo Total]]/MIP[[#This Row],[HH disponível]] -> 0.66576979 | AC8: =MIP[[#This Row],[HH Trabalhado]]/MIP[[#This Row],[HH disponível]] -> 0.70454545 | AD8: =LEFT(MIP[[#This Row],[Equipe]], SEARCH("/",MIP[[#This Row],[Equipe]],1)-1) -> EDILTON | AE8: =RIGHT(MIP[[#This Row],[Equipe]], LEN(MIP[[#This Row],[Equipe]])-SEARCH("/",MIP[[#This Row],[Equipe]],1)) -> CLAUDINEY | AF8: =COUNTIFS('[1]Tempo parado'!H:H,">="&MIP[[#This Row],[S.B Sitrack]],'[1]Tempo parado'!I:I,"<="&MIP[[#This Row],[C.B Sitrack]],'[1]Tempo parado'!B:B,MIP[[#This Row],[Placa]]) -> 0 | AK8: =IF(OR(MIP[[#This Row],[S.B Sitrack]]="",MIP[[#This Row],[C.B Sitrack]]=""),"-",IF(TIME(HOUR(MIP[[#This Row],[C.B Sitrack]]),MINUTE(MIP[[#This Row],[C.B Sitrack]]),SECOND(HOUR(MIP[[#This Row],[C.B Sitrack]])))-(MIP[[#This Row],[U.P]]-TRUNC(MIP[[#This Row],[U.P]],0))<0,(TIME(HOUR(MIP[[#This Row],[C.B Sitrack]]),MINUTE(MIP[[#This Row],[C.B Sitrack]]),SECOND(HOUR(MIP[[#This Row],[C.B Sitrack]])))-(MIP[[#This Row],[U.P]]-TRUNC(MIP[[#This Row],[U.P]],0)))*(-1),TIME(HOUR(MIP[[#This Row],[C.B Sitrack]]),MINUTE(MIP[[#This Row],[C.B Sitrack]]),SECOND(HOUR(MIP[[#This Row],[C.B Sitrack]])))-(MIP[[#This Row],[U.P]]-TRUNC(MIP[[#This Row],[U.P]],0)))+IF(TIME(HOUR(MIP[[#This Row],[S.B Sitrack]]),MINUTE(MIP[[#This Row],[S.B Sitrack]]),SECOND(HOUR(MIP[[#This Row],[S.B Sitrack]])))-(MIP[[#This Row],[S.B]]-TRUNC(MIP[[#This Row],[S.B]],0))<0,(TIME(HOUR(MIP[[#This Row],[S.B Sitrack]]),MINUTE(MIP[[#This Row],[S.B Sitrack]]),SECOND(HOUR(MIP[[#This Row],[S.B Sitrack]])))-(MIP[[#This Row],[S.B]]-TRUNC(MIP[[#This Row],[S.B]],0)))*(-1),TIME(HOUR(MIP[[#This Row],[S.B Sitrack]]),MINUTE(MIP[[#This Row],[S.B Sitrack]]),SECOND(HOUR(MIP[[#This Row],[S.B Sitrack]])))-(MIP[[#This Row],[S.B]]-TRUNC(MIP[[#This Row],[S.B]],0)))) -> - | AL8: =SUMIFS([1]!Tempoviagem[DISTANCIA (KM)],[1]!Tempoviagem[DATA INICIO],">="&MIP[[#This Row],[S.B Sitrack]],[1]!Tempoviagem[DATA FIM],"<="&MIP[[#This Row],[C.B Sitrack]],[1]!Tempoviagem[PLACA],MIP[[#This Row],[Placa]],[1]!Tempoviagem[DISTANCIA (KM)],">0",[1]!Tempoviagem[VELOCIDADE MÉDIA (KM/H)],"<150") -> 0 | AM8: =SUMIFS('[1]Tempo parado'!J:J,'[1]Tempo parado'!H:H,">="&MIP[[#This Row],[S.B Sitrack]],'[1]Tempo parado'!I:I,"<="&MIP[[#This Row],[C.B Sitrack]],'[1]Tempo parado'!B:B,MIP[[#This Row],[Placa]]) -> 0 | AN8: =IFERROR(MIP[[#This Row],[Tempo parado]]/(MIP[[#This Row],[C.B Sitrack]]-MIP[[#This Row],[S.B Sitrack]]),"") | AP8: =IF(AND(MIP[Exc]=0,MIP[Previsto / Realizado]="Realizado"),MIP[Sem],0) -> 19 | AQ8: =IF(AND(MIP[Exc]=0,MIP[Previsto / Realizado]="Realizado",ISBLANK(MIP[[#This Row],[S.B Sitrack]])=FALSE,ISBLANK(MIP[[#This Row],[C.B Sitrack]])=FALSE),MIP[Sem],0) -> 0
B9: =WEEKNUM(MIP[[#This Row],[Data]]) -> 19 | C9: 42863 | E9: ADEMÁRIO / ANDERSON | F9: Previsto | H9: 2 | I9: 8 | J9: 2 | K9: 1 | L9: 0 | M9: 0.625 | N9: 0.64583333 | O9: =18/24/60 -> 0.0125 | P9: =48/24/60 -> 0.033333333 | S9: =MIP[[#This Row],[PT-1]]+MIP[[#This Row],[PT-2]]*2+MIP[[#This Row],[PT-3]]*3+MIP[[#This Row],[PT > 3 Pontos]] -> 15 | T9: =IF(MIP[[#This Row],[P.S]]-MIP[[#This Row],[U.P]]>=0,MIP[[#This Row],[P.S]]-MIP[[#This Row],[U.P]]+MIP[[#This Row],[S.B]]-MIP[[#This Row],[P.E]],1+MIP[[#This Row],[P.S]]-MIP[[#This Row],[U.P]]+MIP[[#This Row],[S.B]]-MIP[[#This Row],[P.E]])+MIP[[#This Row],[HH AC extra]] -> 0.041666667 | U9: =IF(MIP[[#This Row],[P.S]]-MIP[[#This Row],[U.P]]>=0,MIP[[#This Row],[P.S]]-MIP[[#This Row],[U.P]]+MIP[[#This Row],[S.B]]-MIP[[#This Row],[P.E]],1+MIP[[#This Row],[P.S]]-MIP[[#This Row],[U.P]]+MIP[[#This Row],[S.B]]-MIP[[#This Row],[P.E]]) -> 0.041666667 | V9: =MIP[[#This Row],[Eficiência]] -> 1.079434 | W9: =SUMIFS([1]!Excecoes[Coluna1],[1]!Excecoes[Dia],MIP[[#This Row],[Data]],[1]!Excecoes[Equipe],MIP[[#This Row],[Equipe]],[1]!Excecoes[Previsto / Realizado],MIP[[#This Row],[Previsto / Realizado]])+IF(MIP[[#This Row],[HH AC TOT]]>0.5,1,0)+IF(AND(OR(ISBLANK(MIP[[#This Row],[P.E]]),ISBLANK(MIP[[#This Row],[S.B]]),ISBLANK(MIP[[#This Row],[U.P]]),ISBLANK(MIP[[#This Row],[P.S]])),ISTEXT(MIP[[#This Row],[Equipe]])),1,IF(MIP[[#This Row],[P.E]]>MIP[[#This Row],[S.B]],1,0)+IF([1]Excessões!$H$6="Ativadas",IF(MIP[[#This Row],[HH AC TOT]]<0.0083,1,0)+IF(OR(MIP[[#This Row],[Eficiência]]>2,MIP[[#This Row],[Eficiência]]<0.3),1,0),0)) -> 0 | X9: =IF(MIP[[#This Row],[P.S]]-MIP[[#This Row],[P.E]]<0,1+MIP[[#This Row],[P.S]]-MIP[[#This Row],[P.E]]-1/24,MIP[[#This Row],[P.S]]-MIP[[#This Row],[P.E]]-1/24) -> 0.36666667 | Y9: =MIP[[#This Row],[PT-1]]*$S$3+MIP[[#This Row],[PT-2]]*$T$3+MIP[[#This Row],[PT-3]]*$U$3+MIP[[#This Row],[PT > 3 Pontos]]*$V$3 -> 0.35081604 | Z9: =MIP[[#This Row],[HH disponível]]-MIP[[#This Row],[HH AC TOT]] -> 0.325 | AA9: =MIP[[#This Row],[HH Produtivo Total]]/MIP[[#This Row],[HH Trabalhado]] -> 1.079434 | AB9: =MIP[[#This Row],[HH Produtivo Total]]/MIP[[#This Row],[HH disponível]] -> 0.956771 | AC9: =MIP[[#This Row],[HH Trabalhado]]/MIP[[#This Row],[HH disponível]] -> 0.88636364 | AD9: =LEFT(MIP[[#This Row],[Equipe]], SEARCH("/",MIP[[#This Row],[Equipe]],1)-1) -> ADEMÁRIO | AE9: =RIGHT(MIP[[#This Row],[Equipe]], LEN(MIP[[#This Row],[Equipe]])-SEARCH("/",MIP[[#This Row],[Equipe]],1)) -> ANDERSON | AF9: =COUNTIFS('[1]Tempo parado'!H:H,">="&MIP[[#This Row],[S.B Sitrack]],'[1]Tempo parado'!I:I,"<="&MIP[[#This Row],[C.B Sitrack]],'[1]Tempo parado'!B:B,MIP[[#This Row],[Placa]]) -> 0 | AK9: =IF(OR(MIP[[#This Row],[S.B Sitrack]]="",MIP[[#This Row],[C.B Sitrack]]=""),"-",IF(TIME(HOUR(MIP[[#This Row],[C.B Sitrack]]),MINUTE(MIP[[#This Row],[C.B Sitrack]]),SECOND(HOUR(MIP[[#This Row],[C.B Sitrack]])))-(MIP[[#This Row],[U.P]]-TRUNC(MIP[[#This Row],[U.P]],0))<0,(TIME(HOUR(MIP[[#This Row],[C.B Sitrack]]),MINUTE(MIP[[#This Row],[C.B Sitrack]]),SECOND(HOUR(MIP[[#This Row],[C.B Sitrack]])))-(MIP[[#This Row],[U.P]]-TRUNC(MIP[[#This Row],[U.P]],0)))*(-1),TIME(HOUR(MIP[[#This Row],[C.B Sitrack]]),MINUTE(MIP[[#This Row],[C.B Sitrack]]),SECOND(HOUR(MIP[[#This Row],[C.B Sitrack]])))-(MIP[[#This Row],[U.P]]-TRUNC(MIP[[#This Row],[U.P]],0)))+IF(TIME(HOUR(MIP[[#This Row],[S.B Sitrack]]),MINUTE(MIP[[#This Row],[S.B Sitrack]]),SECOND(HOUR(MIP[[#This Row],[S.B Sitrack]])))-(MIP[[#This Row],[S.B]]-TRUNC(MIP[[#This Row],[S.B]],0))<0,(TIME(HOUR(MIP[[#This Row],[S.B Sitrack]]),MINUTE(MIP[[#This Row],[S.B Sitrack]]),SECOND(HOUR(MIP[[#This Row],[S.B Sitrack]])))-(MIP[[#This Row],[S.B]]-TRUNC(MIP[[#This Row],[S.B]],0)))*(-1),TIME(HOUR(MIP[[#This Row],[S.B Sitrack]]),MINUTE(MIP[[#This Row],[S.B Sitrack]]),SECOND(HOUR(MIP[[#This Row],[S.B Sitrack]])))-(MIP[[#This Row],[S.B]]-TRUNC(MIP[[#This Row],[S.B]],0)))) -> - | AL9: =SUMIFS([1]!Tempoviagem[DISTANCIA (KM)],[1]!Tempoviagem[DATA INICIO],">="&MIP[[#This Row],[S.B Sitrack]],[1]!Tempoviagem[DATA FIM],"<="&MIP[[#This Row],[C.B Sitrack]],[1]!Tempoviagem[PLACA],MIP[[#This Row],[Placa]],[1]!Tempoviagem[DISTANCIA (KM)],">0",[1]!Tempoviagem[VELOCIDADE MÉDIA (KM/H)],"<150") -> 0 | AM9: =SUMIFS('[1]Tempo parado'!J:J,'[1]Tempo parado'!H:H,">="&MIP[[#This Row],[S.B Sitrack]],'[1]Tempo parado'!I:I,"<="&MIP[[#This Row],[C.B Sitrack]],'[1]Tempo parado'!B:B,MIP[[#This Row],[Placa]]) -> 0 | AN9: =IFERROR(MIP[[#This Row],[Tempo parado]]/(MIP[[#This Row],[C.B Sitrack]]-MIP[[#This Row],[S.B Sitrack]]),"") | AP9: =IF(AND(MIP[Exc]=0,MIP[Previsto / Realizado]="Realizado"),MIP[Sem],0) -> 0 | AQ9: =IF(AND(MIP[Exc]=0,MIP[Previsto / Realizado]="Realizado",ISBLANK(MIP[[#This Row],[S.B Sitrack]])=FALSE,ISBLANK(MIP[[#This Row],[C.B Sitrack]])=FALSE),MIP[Sem],0) -> 0
B10: =WEEKNUM(MIP[[#This Row],[Data]]) -> 19 | C10: 42863 | E10: ADEMÁRIO / ANDERSON | F10: Realizado | H10: 2 | I10: 8 | J10: 2 | K10: 0 | L10: 0 | M10: 0.625 | N10: 0.7 | O10: 0.9875 | P10: =48/24/60 -> 0.033333333 | R10: Implantação do novo procedimento de reposição de materiais. | S10: =MIP[[#This Row],[PT-1]]+MIP[[#This Row],[PT-2]]*2+MIP[[#This Row],[PT-3]]*3+MIP[[#This Row],[PT > 3 Pontos]] -> 12 | T10: =IF(MIP[[#This Row],[P.S]]-MIP[[#This Row],[U.P]]>=0,MIP[[#This Row],[P.S]]-MIP[[#This Row],[U.P]]+MIP[[#This Row],[S.B]]-MIP[[#This Row],[P.E]],1+MIP[[#This Row],[P.S]]-MIP[[#This Row],[U.P]]+MIP[[#This Row],[S.B]]-MIP[[#This Row],[P.E]])+MIP[[#This Row],[HH AC extra]] -> 0.12083333 | U10: =IF(MIP[[#This Row],[P.S]]-MIP[[#This Row],[U.P]]>=0,MIP[[#This Row],[P.S]]-MIP[[#This Row],[U.P]]+MIP[[#This Row],[S.B]]-MIP[[#This Row],[P.E]],1+MIP[[#This Row],[P.S]]-MIP[[#This Row],[U.P]]+MIP[[#This Row],[S.B]]-MIP[[#This Row],[P.E]]) -> 0.12083333 | V10: =MIP[[#This Row],[Eficiência]] -> 1.1716245 | W10: =SUMIFS([1]!Excecoes[Coluna1],[1]!Excecoes[Dia],MIP[[#This Row],[Data]],[1]!Excecoes[Equipe],MIP[[#This Row],[Equipe]],[1]!Excecoes[Previsto / Realizado],MIP[[#This Row],[Previsto / Realizado]])+IF(MIP[[#This Row],[HH AC TOT]]>0.5,1,0)+IF(AND(OR(ISBLANK(MIP[[#This Row],[P.E]]),ISBLANK(MIP[[#This Row],[S.B]]),ISBLANK(MIP[[#This Row],[U.P]]),ISBLANK(MIP[[#This Row],[P.S]])),ISTEXT(MIP[[#This Row],[Equipe]])),1,IF(MIP[[#This Row],[P.E]]>MIP[[#This Row],[S.B]],1,0)+IF([1]Excessões!$H$6="Ativadas",IF(MIP[[#This Row],[HH AC TOT]]<0.0083,1,0)+IF(OR(MIP[[#This Row],[Eficiência]]>2,MIP[[#This Row],[Eficiência]]<0.3),1,0),0)) -> 0 | X10: =IF(MIP[[#This Row],[P.S]]-MIP[[#This Row],[P.E]]<0,1+MIP[[#This Row],[P.S]]-MIP[[#This Row],[P.E]]-1/24,MIP[[#This Row],[P.S]]-MIP[[#This Row],[P.E]]-1/24) -> 0.36666667 | Y10: =MIP[[#This Row],[PT-1]]*$S$3+MIP[[#This Row],[PT-2]]*$T$3+MIP[[#This Row],[PT-3]]*$U$3+MIP[[#This Row],[PT > 3 Pontos]]*$V$3 -> 0.28802436 | Z10: =MIP[[#This Row],[HH disponível]]-MIP[[#This Row],[HH AC TOT]] -> 0.24583333 | AA10: =MIP[[#This Row],[HH Produtivo Total]]/MIP[[#This Row],[HH Trabalhado]] -> 1.1716245 | AB10: =MIP[[#This Row],[HH Produtivo Total]]/MIP[[#This Row],[HH disponível]] -> 0.78552097 | AC10: =MIP[[#This Row],[HH Trabalhado]]/MIP[[#This Row],[HH disponível]] -> 0.67045455 | AD10: =LEFT(MIP[[#This Row],[Equipe]], SEARCH("/",MIP[[#This Row],[Equipe]],1)-1) -> ADEMÁRIO | AE10: =RIGHT(MIP[[#This Row],[Equipe]], LEN(MIP[[#This Row],[Equipe]])-SEARCH("/",MIP[[#This Row],[Equipe]],1)) -> ANDERSON | AF10: =COUNTIFS('[1]Tempo parado'!H:H,">="&MIP[[#This Row],[S.B Sitrack]],'[1]Tempo parado'!I:I,"<="&MIP[[#This Row],[C.B Sitrack]],'[1]Tempo parado'!B:B,MIP[[#This Row],[Placa]]) -> 0 | AK10: =IF(OR(MIP[[#This Row],[S.B Sitrack]]="",MIP[[#This Row],[C.B Sitrack]]=""),"-",IF(TIME(HOUR(MIP[[#This Row],[C.B Sitrack]]),MINUTE(MIP[[#This Row],[C.B Sitrack]]),SECOND(HOUR(MIP[[#This Row],[C.B Sitrack]])))-(MIP[[#This Row],[U.P]]-TRUNC(MIP[[#This Row],[U.P]],0))<0,(TIME(HOUR(MIP[[#This Row],[C.B Sitrack]]),MINUTE(MIP[[#This Row],[C.B Sitrack]]),SECOND(HOUR(MIP[[#This Row],[C.B Sitrack]])))-(MIP[[#This Row],[U.P]]-TRUNC(MIP[[#This Row],[U.P]],0)))*(-1),TIME(HOUR(MIP[[#This Row],[C.B Sitrack]]),MINUTE(MIP[[#This Row],[C.B Sitrack]]),SECOND(HOUR(MIP[[#This Row],[C.B Sitrack]])))-(MIP[[#This Row],[U.P]]-TRUNC(MIP[[#This Row],[U.P]],0)))+IF(TIME(HOUR(MIP[[#This Row],[S.B Sitrack]]),MINUTE(MIP[[#This Row],[S.B Sitrack]]),SECOND(HOUR(MIP[[#This Row],[S.B Sitrack]])))-(MIP[[#This Row],[S.B]]-TRUNC(MIP[[#This Row],[S.B]],0))<0,(TIME(HOUR(MIP[[#This Row],[S.B Sitrack]]),MINUTE(MIP[[#This Row],[S.B Sitrack]]),SECOND(HOUR(MIP[[#This Row],[S.B Sitrack]])))-(MIP[[#This Row],[S.B]]-TRUNC(MIP[[#This Row],[S.B]],0)))*(-1),TIME(HOUR(MIP[[#This Row],[S.B Sitrack]]),MINUTE(MIP[[#This Row],[S.B Sitrack]]),SECOND(HOUR(MIP[[#This Row],[S.B Sitrack]])))-(MIP[[#This Row],[S.B]]-TRUNC(MIP[[#This Row],[S.B]],0)))) -> - | AL10: =SUMIFS([1]!Tempoviagem[DISTANCIA (KM)],[1]!Tempoviagem[DATA INICIO],">="&MIP[[#This Row],[S.B Sitrack]],[1]!Tempoviagem[DATA FIM],"<="&MIP[[#This Row],[C.B Sitrack]],[1]!Tempoviagem[PLACA],MIP[[#This Row],[Placa]],[1]!Tempoviagem[DISTANCIA (KM)],">0",[1]!Tempoviagem[VELOCIDADE MÉDIA (KM/H)],"<150") -> 0 | AM10: =SUMIFS('[1]Tempo parado'!J:J,'[1]Tempo parado'!H:H,">="&MIP[[#This Row],[S.B Sitrack]],'[1]Tempo parado'!I:I,"<="&MIP[[#This Row],[C.B Sitrack]],'[1]Tempo parado'!B:B,MIP[[#This Row],[Placa]]) -> 0 | AN10: =IFERROR(MIP[[#This Row],[Tempo parado]]/(MIP[[#This Row],[C.B Sitrack]]-MIP[[#This Row],[S.B Sitrack]]),"") | AP10: =IF(AND(MIP[Exc]=0,MIP[Previsto / Realizado]="Realizado"),MIP[Sem],0) -> 19 | AQ10: =IF(AND(MIP[Exc]=0,MIP[Previsto / Realizado]="Realizado",ISBLANK(MIP[[#This Row],[S.B Sitrack]])=FALSE,ISBLANK(MIP[[#This Row],[C.B Sitrack]])=FALSE),MIP[Sem],0) -> 0
B11: =WEEKNUM(MIP[[#This Row],[Data]]) -> 19 | C11: 42864 | E11: JOILSON / VALDEI | F11: Previsto | H11: 2 | I11: 7 | J11: 4 | K11: 0 | L11: 0 | M11: 0.25 | N11: 0.27083333 | O11: 0.6375 | P11: 0.65833333 | S11: =MIP[[#This Row],[PT-1]]+MIP[[#This Row],[PT-2]]*2+MIP[[#This Row],[PT-3]]*3+MIP[[#This Row],[PT > 3 Pontos]] -> 15 | T11: =IF(MIP[[#This Row],[P.S]]-MIP[[#This Row],[U.P]]>=0,MIP[[#This Row],[P.S]]-MIP[[#This Row],[U.P]]+MIP[[#This Row],[S.B]]-MIP[[#This Row],[P.E]],1+MIP[[#This Row],[P.S]]-MIP[[#This Row],[U.P]]+MIP[[#This Row],[S.B]]-MIP[[#This Row],[P.E]])+MIP[[#This Row],[HH AC extra]] -> 0.041666667 | U11: =IF(MIP[[#This Row],[P.S]]-MIP[[#This Row],[U.P]]>=0,MIP[[#This Row],[P.S]]-MIP[[#This Row],[U.P]]+MIP[[#This Row],[S.B]]-MIP[[#This Row],[P.E]],1+MIP[[#This Row],[P.S]]-MIP[[#This Row],[U.P]]+MIP[[#This Row],[S.B]]-MIP[[#This Row],[P.E]]) -> 0.041666667 | V11: =MIP[[#This Row],[Eficiência]] -> 1.079434 | W11: =SUMIFS([1]!Excecoes[Coluna1],[1]!Excecoes[Dia],MIP[[#This Row],[Data]],[1]!Excecoes[Equipe],MIP[[#This Row],[Equipe]],[1]!Excecoes[Previsto / Realizado],MIP[[#This Row],[Previsto / Realizado]])+IF(MIP[[#This Row],[HH AC TOT]]>0.5,1,0)+IF(AND(OR(ISBLANK(MIP[[#This Row],[P.E]]),ISBLANK(MIP[[#This Row],[S.B]]),ISBLANK(MIP[[#This Row],[U.P]]),ISBLANK(MIP[[#This Row],[P.S]])),ISTEXT(MIP[[#This Row],[Equipe]])),1,IF(MIP[[#This Row],[P.E]]>MIP[[#This Row],[S.B]],1,0)+IF([1]Excessões!$H$6="Ativadas",IF(MIP[[#This Row],[HH AC TOT]]<0.0083,1,0)+IF(OR(MIP[[#This Row],[Eficiência]]>2,MIP[[#This Row],[Eficiência]]<0.3),1,0),0)) -> 0 | X11: =IF(MIP[[#This Row],[P.S]]-MIP[[#This Row],[P.E]]<0,1+MIP[[#This Row],[P.S]]-MIP[[#This Row],[P.E]]-1/24,MIP[[#This Row],[P.S]]-MIP[[#This Row],[P.E]]-1/24) -> 0.36666667 | Y11: =MIP[[#This Row],[PT-1]]*$S$3+MIP[[#This Row],[PT-2]]*$T$3+MIP[[#This Row],[PT-3]]*$U$3+MIP[[#This Row],[PT > 3 Pontos]]*$V$3 -> 0.35081604 | Z11: =MIP[[#This Row],[HH disponível]]-MIP[[#This Row],[HH AC TOT]] -> 0.325 | AA11: =MIP[[#This Row],[HH Produtivo Total]]/MIP[[#This Row],[HH Trabalhado]] -> 1.079434 | AB11: =MIP[[#This Row],[HH Produtivo Total]]/MIP[[#This Row],[HH disponível]] -> 0.956771 | AC11: =MIP[[#This Row],[HH Trabalhado]]/MIP[[#This Row],[HH disponível]] -> 0.88636364 | AD11: =LEFT(MIP[[#This Row],[Equipe]], SEARCH("/",MIP[[#This Row],[Equipe]],1)-1) -> JOILSON | AE11: =RIGHT(MIP[[#This Row],[Equipe]], LEN(MIP[[#This Row],[Equipe]])-SEARCH("/",MIP[[#This Row],[Equipe]],1)) -> VALDEI | AF11: =COUNTIFS('[1]Tempo parado'!H:H,">="&MIP[[#This Row],[S.B Sitrack]],'[1]Tempo parado'!I:I,"<="&MIP[[#This Row],[C.B Sitrack]],'[1]Tempo parado'!B:B,MIP[[#This Row],[Placa]]) -> 0 | AK11: =IF(OR(MIP[[#This Row],[S.B Sitrack]]="",MIP[[#This Row],[C.B Sitrack]]=""),"-",IF(TIME(HOUR(MIP[[#This Row],[C.B Sitrack]]),MINUTE(MIP[[#This Row],[C.B Sitrack]]),SECOND(HOUR(MIP[[#This Row],[C.B Sitrack]])))-(MIP[[#This Row],[U.P]]-TRUNC(MIP[[#This Row],[U.P]],0))<0,(TIME(HOUR(MIP[[#This Row],[C.B Sitrack]]),MINUTE(MIP[[#This Row],[C.B Sitrack]]),SECOND(HOUR(MIP[[#This Row],[C.B Sitrack]])))-(MIP[[#This Row],[U.P]]-TRUNC(MIP[[#This Row],[U.P]],0)))*(-1),TIME(HOUR(MIP[[#This Row],[C.B Sitrack]]),MINUTE(MIP[[#This Row],[C.B Sitrack]]),SECOND(HOUR(MIP[[#This Row],[C.B Sitrack]])))-(MIP[[#This Row],[U.P]]-TRUNC(MIP[[#This Row],[U.P]],0)))+IF(TIME(HOUR(MIP[[#This Row],[S.B Sitrack]]),MINUTE(MIP[[#This Row],[S.B Sitrack]]),SECOND(HOUR(MIP[[#This Row],[S.B Sitrack]])))-(MIP[[#This Row],[S.B]]-TRUNC(MIP[[#This Row],[S.B]],0))<0,(TIME(HOUR(MIP[[#This Row],[S.B Sitrack]]),MINUTE(MIP[[#This Row],[S.B Sitrack]]),SECOND(HOUR(MIP[[#This Row],[S.B Sitrack]])))-(MIP[[#This Row],[S.B]]-TRUNC(MIP[[#This Row],[S.B]],0)))*(-1),TIME(HOUR(MIP[[#This Row],[S.B Sitrack]]),MINUTE(MIP[[#This Row],[S.B Sitrack]]),SECOND(HOUR(MIP[[#This Row],[S.B Sitrack]])))-(MIP[[#This Row],[S.B]]-TRUNC(MIP[[#This Row],[S.B]],0)))) -> - | AL11: =SUMIFS([1]!Tempoviagem[DISTANCIA (KM)],[1]!Tempoviagem[DATA INICIO],">="&MIP[[#This Row],[S.B Sitrack]],[1]!Tempoviagem[DATA FIM],"<="&MIP[[#This Row],[C.B Sitrack]],[1]!Tempoviagem[PLACA],MIP[[#This Row],[Placa]],[1]!Tempoviagem[DISTANCIA (KM)],">0",[1]!Tempoviagem[VELOCIDADE MÉDIA (KM/H)],"<150") -> 0 | AM11: =SUMIFS('[1]Tempo parado'!J:J,'[1]Tempo parado'!H:H,">="&MIP[[#This Row],[S.B Sitrack]],'[1]Tempo parado'!I:I,"<="&MIP[[#This Row],[C.B Sitrack]],'[1]Tempo parado'!B:B,MIP[[#This Row],[Placa]]) -> 0 | AN11: =IFERROR(MIP[[#This Row],[Tempo parado]]/(MIP[[#This Row],[C.B Sitrack]]-MIP[[#This Row],[S.B Sitrack]]),"") | AP11: =IF(AND(MIP[Exc]=0,MIP[Previsto / Realizado]="Realizado"),MIP[Sem],0) -> 0 | AQ11: =IF(AND(MIP[Exc]=0,MIP[Previsto / Realizado]="Realizado",ISBLANK(MIP[[#This Row],[S.B Sitrack]])=FALSE,ISBLANK(MIP[[#This Row],[C.B Sitrack]])=FALSE),MIP[Sem],0) -> 0
B12: =WEEKNUM(MIP[[#This Row],[Data]]) -> 19 | C12: 42864 | E12: JOILSON / VALDEI | F12: Realizado | H12: 2 | I12: 6 | J12: 1 | K12: 0 | L12: 0 | M12: 0.25763889 | N12: 0.29861111 | O12: 0.60625 | P12: 0.67777778 | R12: Investigando o motivo da chegada mais cedo a base. | S12: =MIP[[#This Row],[PT-1]]+MIP[[#This Row],[PT-2]]*2+MIP[[#This Row],[PT-3]]*3+MIP[[#This Row],[PT > 3 Pontos]] -> 8 | T12: =IF(MIP[[#This Row],[P.S]]-MIP[[#This Row],[U.P]]>=0,MIP[[#This Row],[P.S]]-MIP[[#This Row],[U.P]]+MIP[[#This Row],[S.B]]-MIP[[#This Row],[P.E]],1+MIP[[#This Row],[P.S]]-MIP[[#This Row],[U.P]]+MIP[[#This Row],[S.B]]-MIP[[#This Row],[P.E]])+MIP[[#This Row],[HH AC extra]] -> 0.1125 | U12: =IF(MIP[[#This Row],[P.S]]-MIP[[#This Row],[U.P]]>=0,MIP[[#This Row],[P.S]]-MIP[[#This Row],[U.P]]+MIP[[#This Row],[S.B]]-MIP[[#This Row],[P.E]],1+MIP[[#This Row],[P.S]]-MIP[[#This Row],[U.P]]+MIP[[#This Row],[S.B]]-MIP[[#This Row],[P.E]]) -> 0.1125 | V12: =MIP[[#This Row],[Eficiência]] -> 0.72963967 | W12: =SUMIFS([1]!Excecoes[Coluna1],[1]!Excecoes[Dia],MIP[[#This Row],[Data]],[1]!Excecoes[Equipe],MIP[[#This Row],[Equipe]],[1]!Excecoes[Previsto / Realizado],MIP[[#This Row],[Previsto / Realizado]])+IF(MIP[[#This Row],[HH AC TOT]]>0.5,1,0)+IF(AND(OR(ISBLANK(MIP[[#This Row],[P.E]]),ISBLANK(MIP[[#This Row],[S.B]]),ISBLANK(MIP[[#This Row],[U.P]]),ISBLANK(MIP[[#This Row],[P.S]])),ISTEXT(MIP[[#This Row],[Equipe]])),1,IF(MIP[[#This Row],[P.E]]>MIP[[#This Row],[S.B]],1,0)+IF([1]Excessões!$H$6="Ativadas",IF(MIP[[#This Row],[HH AC TOT]]<0.0083,1,0)+IF(OR(MIP[[#This Row],[Eficiência]]>2,MIP[[#This Row],[Eficiência]]<0.3),1,0),0)) -> 0 | X12: =IF(MIP[[#This Row],[P.S]]-MIP[[#This Row],[P.E]]<0,1+MIP[[#This Row],[P.S]]-MIP[[#This Row],[P.E]]-1/24,MIP[[#This Row],[P.S]]-MIP[[#This Row],[P.E]]-1/24) -> 0.37847222 | Y12: =MIP[[#This Row],[PT-1]]*$S$3+MIP[[#This Row],[PT-2]]*$T$3+MIP[[#This Row],[PT-3]]*$U$3+MIP[[#This Row],[PT > 3 Pontos]]*$V$3 -> 0.19406388 | Z12: =MIP[[#This Row],[HH disponível]]-MIP[[#This Row],[HH AC TOT]] -> 0.26597222 | AA12: =MIP[[#This Row],[HH Produtivo Total]]/MIP[[#This Row],[HH Trabalhado]] -> 0.72963967 | AB12: =MIP[[#This Row],[HH Produtivo Total]]/MIP[[#This Row],[HH disponível]] -> 0.51275595 | AC12: =MIP[[#This Row],[HH Trabalhado]]/MIP[[#This Row],[HH disponível]] -> 0.70275229 | AD12: =LEFT(MIP[[#This Row],[Equipe]], SEARCH("/",MIP[[#This Row],[Equipe]],1)-1) -> JOILSON | AE12: =RIGHT(MIP[[#This Row],[Equipe]], LEN(MIP[[#This Row],[Equipe]])-SEARCH("/",MIP[[#This Row],[Equipe]],1)) -> VALDEI | AF12: =COUNTIFS('[1]Tempo parado'!H:H,">="&MIP[[#This Row],[S.B Sitrack]],'[1]Tempo parado'!I:I,"<="&MIP[[#This Row],[C.B Sitrack]],'[1]Tempo parado'!B:B,MIP[[#This Row],[Placa]]) -> 0 | AK12: =IF(OR(MIP[[#This Row],[S.B Sitrack]]="",MIP[[#This Row],[C.B Sitrack]]=""),"-",IF(TIME(HOUR(MIP[[#This Row],[C.B Sitrack]]),MINUTE(MIP[[#This Row],[C.B Sitrack]]),SECOND(HOUR(MIP[[#This Row],[C.B Sitrack]])))-(MIP[[#This Row],[U.P]]-TRUNC(MIP[[#This Row],[U.P]],0))<0,(TIME(HOUR(MIP[[#This Row],[C.B Sitrack]]),MINUTE(MIP[[#This Row],[C.B Sitrack]]),SECOND(HOUR(MIP[[#This Row],[C.B Sitrack]])))-(MIP[[#This Row],[U.P]]-TRUNC(MIP[[#This Row],[U.P]],0)))*(-1),TIME(HOUR(MIP[[#This Row],[C.B Sitrack]]),MINUTE(MIP[[#This Row],[C.B Sitrack]]),SECOND(HOUR(MIP[[#This Row],[C.B Sitrack]])))-(MIP[[#This Row],[U.P]]-TRUNC(MIP[[#This Row],[U.P]],0)))+IF(TIME(HOUR(MIP[[#This Row],[S.B Sitrack]]),MINUTE(MIP[[#This Row],[S.B Sitrack]]),SECOND(HOUR(MIP[[#This Row],[S.B Sitrack]])))-(MIP[[#This Row],[S.B]]-TRUNC(MIP[[#This Row],[S.B]],0))<0,(TIME(HOUR(MIP[[#This Row],[S.B Sitrack]]),MINUTE(MIP[[#This Row],[S.B Sitrack]]),SECOND(HOUR(MIP[[#This Row],[S.B Sitrack]])))-(MIP[[#This Row],[S.B]]-TRUNC(MIP[[#This Row],[S.B]],0)))*(-1),TIME(HOUR(MIP[[#This Row],[S.B Sitrack]]),MINUTE(MIP[[#This Row],[S.B Sitrack]]),SECOND(HOUR(MIP[[#This Row],[S.B Sitrack]])))-(MIP[[#This Row],[S.B]]-TRUNC(MIP[[#This Row],[S.B]],0)))) -> - | AL12: =SUMIFS([1]!Tempoviagem[DISTANCIA (KM)],[1]!Tempoviagem[DATA INICIO],">="&MIP[[#This Row],[S.B Sitrack]],[1]!Tempoviagem[DATA FIM],"<="&MIP[[#This Row],[C.B Sitrack]],[1]!Tempoviagem[PLACA],MIP[[#This Row],[Placa]],[1]!Tempoviagem[DISTANCIA (KM)],">0",[1]!Tempoviagem[VELOCIDADE MÉDIA (KM/H)],"<150") -> 0 | AM12: =SUMIFS('[1]Tempo parado'!J:J,'[1]Tempo parado'!H:H,">="&MIP[[#This Row],[S.B Sitrack]],'[1]Tempo parado'!I:I,"<="&MIP[[#This Row],[C.B Sitrack]],'[1]Tempo parado'!B:B,MIP[[#This Row],[Placa]]) -> 0 | AN12: =IFERROR(MIP[[#This Row],[Tempo parado]]/(MIP[[#This Row],[C.B Sitrack]]-MIP[[#This Row],[S.B Sitrack]]),"") | AP12: =IF(AND(MIP[Exc]=0,MIP[Previsto / Realizado]="Realizado"),MIP[Sem],0) -> 19 | AQ12: =IF(AND(MIP[Exc]=0,MIP[Previsto / Realizado]="Realizado",ISBLANK(MIP[[#This Row],[S.B Sitrack]])=FALSE,ISBLANK(MIP[[#This Row],[C.B Sitrack]])=FALSE),MIP[Sem],0) -> 0
B13: =WEEKNUM(MIP[[#This Row],[Data]]) -> 19 | C13: 42864 | E13: ADEMÁRIO / ANDERSON | F13: Previsto | H13: 2 | I13: 4 | J13: 2 | K13: 2 | L13: 0 | M13: 0.625 | N13: 0.64583333 | O13: =18/24/60 -> 0.0125 | P13: =48/24/60 -> 0.033333333 | S13: =MIP[[#This Row],[PT-1]]+MIP[[#This Row],[PT-2]]*2+MIP[[#This Row],[PT-3]]*3+MIP[[#This Row],[PT > 3 Pontos]] -> 14 | T13: =IF(MIP[[#This Row],[P.S]]-MIP[[#This Row],[U.P]]>=0,MIP[[#This Row],[P.S]]-MIP[[#This Row],[U.P]]+MIP[[#This Row],[S.B]]-MIP[[#This Row],[P.E]],1+MIP[[#This Row],[P.S]]-MIP[[#This Row],[U.P]]+MIP[[#This Row],[S.B]]-MIP[[#This Row],[P.E]])+MIP[[#This Row],[HH AC extra]] -> 0.041666667 | U13: =IF(MIP[[#This Row],[P.S]]-MIP[[#This Row],[U.P]]>=0,MIP[[#This Row],[P.S]]-MIP[[#This Row],[U.P]]+MIP[[#This Row],[S.B]]-MIP[[#This Row],[P.E]],1+MIP[[#This Row],[P.S]]-MIP[[#This Row],[U.P]]+MIP[[#This Row],[S.B]]-MIP[[#This Row],[P.E]]) -> 0.041666667 | V13: =MIP[[#This Row],[Eficiência]] -> 0.96462862 | W13: =SUMIFS([1]!Excecoes[Coluna1],[1]!Excecoes[Dia],MIP[[#This Row],[Data]],[1]!Excecoes[Equipe],MIP[[#This Row],[Equipe]],[1]!Excecoes[Previsto / Realizado],MIP[[#This Row],[Previsto / Realizado]])+IF(MIP[[#This Row],[HH AC TOT]]>0.5,1,0)+IF(AND(OR(ISBLANK(MIP[[#This Row],[P.E]]),ISBLANK(MIP[[#This Row],[S.B]]),ISBLANK(MIP[[#This Row],[U.P]]),ISBLANK(MIP[[#This Row],[P.S]])),ISTEXT(MIP[[#This Row],[Equipe]])),1,IF(MIP[[#This Row],[P.E]]>MIP[[#This Row],[S.B]],1,0)+IF([1]Excessões!$H$6="Ativadas",IF(MIP[[#This Row],[HH AC TOT]]<0.0083,1,0)+IF(OR(MIP[[#This Row],[Eficiência]]>2,MIP[[#This Row],[Eficiência]]<0.3),1,0),0)) -> 0 | X13: =IF(MIP[[#This Row],[P.S]]-MIP[[#This Row],[P.E]]<0,1+MIP[[#This Row],[P.S]]-MIP[[#This Row],[P.E]]-1/24,MIP[[#This Row],[P.S]]-MIP[[#This Row],[P.E]]-1/24) -> 0.36666667 | Y13: =MIP[[#This Row],[PT-1]]*$S$3+MIP[[#This Row],[PT-2]]*$T$3+MIP[[#This Row],[PT-3]]*$U$3+MIP[[#This Row],[PT > 3 Pontos]]*$V$3 -> 0.3135043 | Z13: =MIP[[#This Row],[HH disponível]]-MIP[[#This Row],[HH AC TOT]] -> 0.325 | AA13: =MIP[[#This Row],[HH Produtivo Total]]/MIP[[#This Row],[HH Trabalhado]] -> 0.96462862 | AB13: =MIP[[#This Row],[HH Produtivo Total]]/MIP[[#This Row],[HH disponível]] -> 0.85501173 | AC13: =MIP[[#This Row],[HH Trabalhado]]/MIP[[#This Row],[HH disponível]] -> 0.88636364 | AD13: =LEFT(MIP[[#This Row],[Equipe]], SEARCH("/",MIP[[#This Row],[Equipe]],1)-1) -> ADEMÁRIO | AE13: =RIGHT(MIP[[#This Row],[Equipe]], LEN(MIP[[#This Row],[Equipe]])-SEARCH("/",MIP[[#This Row],[Equipe]],1)) -> ANDERSON | AF13: =COUNTIFS('[1]Tempo parado'!H:H,">="&MIP[[#This Row],[S.B Sitrack]],'[1]Tempo parado'!I:I,"<="&MIP[[#This Row],[C.B Sitrack]],'[1]Tempo parado'!B:B,MIP[[#This Row],[Placa]]) -> 0 | AK13: =IF(OR(MIP[[#This Row],[S.B Sitrack]]="",MIP[[#This Row],[C.B Sitrack]]=""),"-",IF(TIME(HOUR(MIP[[#This Row],[C.B Sitrack]]),MINUTE(MIP[[#This Row],[C.B Sitrack]]),SECOND(HOUR(MIP[[#This Row],[C.B Sitrack]])))-(MIP[[#This Row],[U.P]]-TRUNC(MIP[[#This Row],[U.P]],0))<0,(TIME(HOUR(MIP[[#This Row],[C.B Sitrack]]),MINUTE(MIP[[#This Row],[C.B Sitrack]]),SECOND(HOUR(MIP[[#This Row],[C.B Sitrack]])))-(MIP[[#This Row],[U.P]]-TRUNC(MIP[[#This Row],[U.P]],0)))*(-1),TIME(HOUR(MIP[[#This Row],[C.B Sitrack]]),MINUTE(MIP[[#This Row],[C.B Sitrack]]),SECOND(HOUR(MIP[[#This Row],[C.B Sitrack]])))-(MIP[[#This Row],[U.P]]-TRUNC(MIP[[#This Row],[U.P]],0)))+IF(TIME(HOUR(MIP[[#This Row],[S.B Sitrack]]),MINUTE(MIP[[#This Row],[S.B Sitrack]]),SECOND(HOUR(MIP[[#This Row],[S.B Sitrack]])))-(MIP[[#This Row],[S.B]]-TRUNC(MIP[[#This Row],[S.B]],0))<0,(TIME(HOUR(MIP[[#This Row],[S.B Sitrack]]),MINUTE(MIP[[#This Row],[S.B Sitrack]]),SECOND(HOUR(MIP[[#This Row],[S.B Sitrack]])))-(MIP[[#This Row],[S.B]]-TRUNC(MIP[[#This Row],[S.B]],0)))*(-1),TIME(HOUR(MIP[[#This Row],[S.B Sitrack]]),MINUTE(MIP[[#This Row],[S.B Sitrack]]),SECOND(HOUR(MIP[[#This Row],[S.B Sitrack]])))-(MIP[[#This Row],[S.B]]-TRUNC(MIP[[#This Row],[S.B]],0)))) -> - | AL13: =SUMIFS([1]!Tempoviagem[DISTANCIA (KM)],[1]!Tempoviagem[DATA INICIO],">="&MIP[[#This Row],[S.B Sitrack]],[1]!Tempoviagem[DATA FIM],"<="&MIP[[#This Row],[C.B Sitrack]],[1]!Tempoviagem[PLACA],MIP[[#This Row],[Placa]],[1]!Tempoviagem[DISTANCIA (KM)],">0",[1]!Tempoviagem[VELOCIDADE MÉDIA (KM/H)],"<150") -> 0 | AM13: =SUMIFS('[1]Tempo parado'!J:J,'[1]Tempo parado'!H:H,">="&MIP[[#This Row],[S.B Sitrack]],'[1]Tempo parado'!I:I,"<="&MIP[[#This Row],[C.B Sitrack]],'[1]Tempo parado'!B:B,MIP[[#This Row],[Placa]]) -> 0 | AN13: =IFERROR(MIP[[#This Row],[Tempo parado]]/(MIP[[#This Row],[C.B Sitrack]]-MIP[[#This Row],[S.B Sitrack]]),"") | AP13: =IF(AND(MIP[Exc]=0,MIP[Previsto / Realizado]="Realizado"),MIP[Sem],0) -> 0 | AQ13: =IF(AND(MIP[Exc]=0,MIP[Previsto / Realizado]="Realizado",ISBLANK(MIP[[#This Row],[S.B Sitrack]])=FALSE,ISBLANK(MIP[[#This Row],[C.B Sitrack]])=FALSE),MIP[Sem],0) -> 0
B14: =WEEKNUM(MIP[[#This Row],[Data]]) -> 19 | C14: 42864 | E14: ADEMÁRIO / ANDERSON | F14: Realizado | H14: 2 | I14: 4 | J14: 2 | K14: 2 | L14: 0 | M14: 0.65277778 | N14: 0.68125 | O14: =25/24/60 -> 0.017361111 | P14: =53/24/60 -> 0.036805556 | S14: =MIP[[#This Row],[PT-1]]+MIP[[#This Row],[PT-2]]*2+MIP[[#This Row],[PT-3]]*3+MIP[[#This Row],[PT > 3 Pontos]] -> 14 | T14: =IF(MIP[[#This Row],[P.S]]-MIP[[#This Row],[U.P]]>=0,MIP[[#This Row],[P.S]]-MIP[[#This Row],[U.P]]+MIP[[#This Row],[S.B]]-MIP[[#This Row],[P.E]],1+MIP[[#This Row],[P.S]]-MIP[[#This Row],[U.P]]+MIP[[#This Row],[S.B]]-MIP[[#This Row],[P.E]])+MIP[[#This Row],[HH AC extra]] -> 0.047916667 | U14: =IF(MIP[[#This Row],[P.S]]-MIP[[#This Row],[U.P]]>=0,MIP[[#This Row],[P.S]]-MIP[[#This Row],[U.P]]+MIP[[#This Row],[S.B]]-MIP[[#This Row],[P.E]],1+MIP[[#This Row],[P.S]]-MIP[[#This Row],[U.P]]+MIP[[#This Row],[S.B]]-MIP[[#This Row],[P.E]]) -> 0.047916667 | V14: =MIP[[#This Row],[Eficiência]] -> 1.0647316 | W14: =SUMIFS([1]!Excecoes[Coluna1],[1]!Excecoes[Dia],MIP[[#This Row],[Data]],[1]!Excecoes[Equipe],MIP[[#This Row],[Equipe]],[1]!Excecoes[Previsto / Realizado],MIP[[#This Row],[Previsto / Realizado]])+IF(MIP[[#This Row],[HH AC TOT]]>0.5,1,0)+IF(AND(OR(ISBLANK(MIP[[#This Row],[P.E]]),ISBLANK(MIP[[#This Row],[S.B]]),ISBLANK(MIP[[#This Row],[U.P]]),ISBLANK(MIP[[#This Row],[P.S]])),ISTEXT(MIP[[#This Row],[Equipe]])),1,IF(MIP[[#This Row],[P.E]]>MIP[[#This Row],[S.B]],1,0)+IF([1]Excessões!$H$6="Ativadas",IF(MIP[[#This Row],[HH AC TOT]]<0.0083,1,0)+IF(OR(MIP[[#This Row],[Eficiência]]>2,MIP[[#This Row],[Eficiência]]<0.3),1,0),0)) -> 0 | X14: =IF(MIP[[#This Row],[P.S]]-MIP[[#This Row],[P.E]]<0,1+MIP[[#This Row],[P.S]]-MIP[[#This Row],[P.E]]-1/24,MIP[[#This Row],[P.S]]-MIP[[#This Row],[P.E]]-1/24) -> 0.34236111 | Y14: =MIP[[#This Row],[PT-1]]*$S$3+MIP[[#This Row],[PT-2]]*$T$3+MIP[[#This Row],[PT-3]]*$U$3+MIP[[#This Row],[PT > 3 Pontos]]*$V$3 -> 0.3135043 | Z14: =MIP[[#This Row],[HH disponível]]-MIP[[#This Row],[HH AC TOT]] -> 0.29444444 | AA14: =MIP[[#This Row],[HH Produtivo Total]]/MIP[[#This Row],[HH Trabalhado]] -> 1.0647316 | AB14: =MIP[[#This Row],[HH Produtivo Total]]/MIP[[#This Row],[HH disponível]] -> 0.91571236 | AC14: =MIP[[#This Row],[HH Trabalhado]]/MIP[[#This Row],[HH disponível]] -> 0.86004057 | AD14: =LEFT(MIP[[#This Row],[Equipe]], SEARCH("/",MIP[[#This Row],[Equipe]],1)-1) -> ADEMÁRIO | AE14: =RIGHT(MIP[[#This Row],[Equipe]], LEN(MIP[[#This Row],[Equipe]])-SEARCH("/",MIP[[#This Row],[Equipe]],1)) -> ANDERSON | AF14: =COUNTIFS('[1]Tempo parado'!H:H,">="&MIP[[#This Row],[S.B Sitrack]],'[1]Tempo parado'!I:I,"<="&MIP[[#This Row],[C.B Sitrack]],'[1]Tempo parado'!B:B,MIP[[#This Row],[Placa]]) -> 0 | AK14: =IF(OR(MIP[[#This Row],[S.B Sitrack]]="",MIP[[#This Row],[C.B Sitrack]]=""),"-",IF(TIME(HOUR(MIP[[#This Row],[C.B Sitrack]]),MINUTE(MIP[[#This Row],[C.B Sitrack]]),SECOND(HOUR(MIP[[#This Row],[C.B Sitrack]])))-(MIP[[#This Row],[U.P]]-TRUNC(MIP[[#This Row],[U.P]],0))<0,(TIME(HOUR(MIP[[#This Row],[C.B Sitrack]]),MINUTE(MIP[[#This Row],[C.B Sitrack]]),SECOND(HOUR(MIP[[#This Row],[C.B Sitrack]])))-(MIP[[#This Row],[U.P]]-TRUNC(MIP[[#This Row],[U.P]],0)))*(-1),TIME(HOUR(MIP[[#This Row],[C.B Sitrack]]),MINUTE(MIP[[#This Row],[C.B Sitrack]]),SECOND(HOUR(MIP[[#This Row],[C.B Sitrack]])))-(MIP[[#This Row],[U.P]]-TRUNC(MIP[[#This Row],[U.P]],0)))+IF(TIME(HOUR(MIP[[#This Row],[S.B Sitrack]]),MINUTE(MIP[[#This Row],[S.B Sitrack]]),SECOND(HOUR(MIP[[#This Row],[S.B Sitrack]])))-(MIP[[#This Row],[S.B]]-TRUNC(MIP[[#This Row],[S.B]],0))<0,(TIME(HOUR(MIP[[#This Row],[S.B Sitrack]]),MINUTE(MIP[[#This Row],[S.B Sitrack]]),SECOND(HOUR(MIP[[#This Row],[S.B Sitrack]])))-(MIP[[#This Row],[S.B]]-TRUNC(MIP[[#This Row],[S.B]],0)))*(-1),TIME(HOUR(MIP[[#This Row],[S.B Sitrack]]),MINUTE(MIP[[#This Row],[S.B Sitrack]]),SECOND(HOUR(MIP[[#This Row],[S.B Sitrack]])))-(MIP[[#This Row],[S.B]]-TRUNC(MIP[[#This Row],[S.B]],0)))) -> - | AL14: =SUMIFS([1]!Tempoviagem[DISTANCIA (KM)],[1]!Tempoviagem[DATA INICIO],">="&MIP[[#This Row],[S.B Sitrack]],[1]!Tempoviagem[DATA FIM],"<="&MIP[[#This Row],[C.B Sitrack]],[1]!Tempoviagem[PLACA],MIP[[#This Row],[Placa]],[1]!Tempoviagem[DISTANCIA (KM)],">0",[1]!Tempoviagem[VELOCIDADE MÉDIA (KM/H)],"<150") -> 0 | AM14: =SUMIFS('[1]Tempo parado'!J:J,'[1]Tempo parado'!H:H,">="&MIP[[#This Row],[S.B Sitrack]],'[1]Tempo parado'!I:I,"<="&MIP[[#This Row],[C.B Sitrack]],'[1]Tempo parado'!B:B,MIP[[#This Row],[Placa]]) -> 0 | AN14: =IFERROR(MIP[[#This Row],[Tempo parado]]/(MIP[[#This Row],[C.B Sitrack]]-MIP[[#This Row],[S.B Sitrack]]),"") | AP14: =IF(AND(MIP[Exc]=0,MIP[Previsto / Realizado]="Realizado"),MIP[Sem],0) -> 19 | AQ14: =IF(AND(MIP[Exc]=0,MIP[Previsto / Realizado]="Realizado",ISBLANK(MIP[[#This Row],[S.B Sitrack]])=FALSE,ISBLANK(MIP[[#This Row],[C.B Sitrack]])=FALSE),MIP[Sem],0) -> 0
B15: =WEEKNUM(MIP[[#This Row],[Data]]) -> 19 | C15: 42865 | E15: JOILSON / VALDEI | F15: Previsto | H15: 2 | I15: 6 | J15: 3 | K15: 1 | L15: 0 | M15: 0.25 | N15: 0.27083333 | O15: 0.6375 | P15: 0.65833333 | S15: =MIP[[#This Row],[PT-1]]+MIP[[#This Row],[PT-2]]*2+MIP[[#This Row],[PT-3]]*3+MIP[[#This Row],[PT > 3 Pontos]] -> 15 | T15: =IF(MIP[[#This Row],[P.S]]-MIP[[#This Row],[U.P]]>=0,MIP[[#This Row],[P.S]]-MIP[[#This Row],[U.P]]+MIP[[#This Row],[S.B]]-MIP[[#This Row],[P.E]],1+MIP[[#This Row],[P.S]]-MIP[[#This Row],[U.P]]+MIP[[#This Row],[S.B]]-MIP[[#This Row],[P.E]])+MIP[[#This Row],[HH AC extra]] -> 0.041666667 | U15: =IF(MIP[[#This Row],[P.S]]-MIP[[#This Row],[U.P]]>=0,MIP[[#This Row],[P.S]]-MIP[[#This Row],[U.P]]+MIP[[#This Row],[S.B]]-MIP[[#This Row],[P.E]],1+MIP[[#This Row],[P.S]]-MIP[[#This Row],[U.P]]+MIP[[#This Row],[S.B]]-MIP[[#This Row],[P.E]]) -> 0.041666667 | V15: =MIP[[#This Row],[Eficiência]] -> 1.0605326 | W15: =SUMIFS([1]!Excecoes[Coluna1],[1]!Excecoes[Dia],MIP[[#This Row],[Data]],[1]!Excecoes[Equipe],MIP[[#This Row],[Equipe]],[1]!Excecoes[Previsto / Realizado],MIP[[#This Row],[Previsto / Realizado]])+IF(MIP[[#This Row],[HH AC TOT]]>0.5,1,0)+IF(AND(OR(ISBLANK(MIP[[#This Row],[P.E]]),ISBLANK(MIP[[#This Row],[S.B]]),ISBLANK(MIP[[#This Row],[U.P]]),ISBLANK(MIP[[#This Row],[P.S]])),ISTEXT(MIP[[#This Row],[Equipe]])),1,IF(MIP[[#This Row],[P.E]]>MIP[[#This Row],[S.B]],1,0)+IF([1]Excessões!$H$6="Ativadas",IF(MIP[[#This Row],[HH AC TOT]]<0.0083,1,0)+IF(OR(MIP[[#This Row],[Eficiência]]>2,MIP[[#This Row],[Eficiência]]<0.3),1,0),0)) -> 0 | X15: =IF(MIP[[#This Row],[P.S]]-MIP[[#This Row],[P.E]]<0,1+MIP[[#This Row],[P.S]]-MIP[[#This Row],[P.E]]-1/24,MIP[[#This Row],[P.S]]-MIP[[#This Row],[P.E]]-1/24) -> 0.36666667 | Y15: =MIP[[#This Row],[PT-1]]*$S$3+MIP[[#This Row],[PT-2]]*$T$3+MIP[[#This Row],[PT-3]]*$U$3+MIP[[#This Row],[PT > 3 Pontos]]*$V$3 -> 0.3446731 | Z15: =MIP[[#This Row],[HH disponível]]-MIP[[#This Row],[HH AC TOT]] -> 0.325 | AA15: =MIP[[#This Row],[HH Produtivo Total]]/MIP[[#This Row],[HH Trabalhado]] -> 1.0605326 | AB15: =MIP[[#This Row],[HH Produtivo Total]]/MIP[[#This Row],[HH disponível]] -> 0.94001753 | AC15: =MIP[[#This Row],[HH Trabalhado]]/MIP[[#This Row],[HH disponível]] -> 0.88636364 | AD15: =LEFT(MIP[[#This Row],[Equipe]], SEARCH("/",MIP[[#This Row],[Equipe]],1)-1) -> JOILSON | AE15: =RIGHT(MIP[[#This Row],[Equipe]], LEN(MIP[[#This Row],[Equipe]])-SEARCH("/",MIP[[#This Row],[Equipe]],1)) -> VALDEI | AF15: =COUNTIFS('[1]Tempo parado'!H:H,">="&MIP[[#This Row],[S.B Sitrack]],'[1]Tempo parado'!I:I,"<="&MIP[[#This Row],[C.B Sitrack]],'[1]Tempo parado'!B:B,MIP[[#This Row],[Placa]]) -> 0 | AK15: =IF(OR(MIP[[#This Row],[S.B Sitrack]]="",MIP[[#This Row],[C.B Sitrack]]=""),"-",IF(TIME(HOUR(MIP[[#This Row],[C.B Sitrack]]),MINUTE(MIP[[#This Row],[C.B Sitrack]]),SECOND(HOUR(MIP[[#This Row],[C.B Sitrack]])))-(MIP[[#This Row],[U.P]]-TRUNC(MIP[[#This Row],[U.P]],0))<0,(TIME(HOUR(MIP[[#This Row],[C.B Sitrack]]),MINUTE(MIP[[#This Row],[C.B Sitrack]]),SECOND(HOUR(MIP[[#This Row],[C.B Sitrack]])))-(MIP[[#This Row],[U.P]]-TRUNC(MIP[[#This Row],[U.P]],0)))*(-1),TIME(HOUR(MIP[[#This Row],[C.B Sitrack]]),MINUTE(MIP[[#This Row],[C.B Sitrack]]),SECOND(HOUR(MIP[[#This Row],[C.B Sitrack]])))-(MIP[[#This Row],[U.P]]-TRUNC(MIP[[#This Row],[U.P]],0)))+IF(TIME(HOUR(MIP[[#This Row],[S.B Sitrack]]),MINUTE(MIP[[#This Row],[S.B Sitrack]]),SECOND(HOUR(MIP[[#This Row],[S.B Sitrack]])))-(MIP[[#This Row],[S.B]]-TRUNC(MIP[[#This Row],[S.B]],0))<0,(TIME(HOUR(MIP[[#This Row],[S.B Sitrack]]),MINUTE(MIP[[#This Row],[S.B Sitrack]]),SECOND(HOUR(MIP[[#This Row],[S.B Sitrack]])))-(MIP[[#This Row],[S.B]]-TRUNC(MIP[[#This Row],[S.B]],0)))*(-1),TIME(HOUR(MIP[[#This Row],[S.B Sitrack]]),MINUTE(MIP[[#This Row],[S.B Sitrack]]),SECOND(HOUR(MIP[[#This Row],[S.B Sitrack]])))-(MIP[[#This Row],[S.B]]-TRUNC(MIP[[#This Row],[S.B]],0)))) -> - | AL15: =SUMIFS([1]!Tempoviagem[DISTANCIA (KM)],[1]!Tempoviagem[DATA INICIO],">="&MIP[[#This Row],[S.B Sitrack]],[1]!Tempoviagem[DATA FIM],"<="&MIP[[#This Row],[C.B Sitrack]],[1]!Tempoviagem[PLACA],MIP[[#This Row],[Placa]],[1]!Tempoviagem[DISTANCIA (KM)],">0",[1]!Tempoviagem[VELOCIDADE MÉDIA (KM/H)],"<150") -> 0 | AM15: =SUMIFS('[1]Tempo parado'!J:J,'[1]Tempo parado'!H:H,">="&MIP[[#This Row],[S.B Sitrack]],'[1]Tempo parado'!I:I,"<="&MIP[[#This Row],[C.B Sitrack]],'[1]Tempo parado'!B:B,MIP[[#This Row],[Placa]]) -> 0 | AN15: =IFERROR(MIP[[#This Row],[Tempo parado]]/(MIP[[#This Row],[C.B Sitrack]]-MIP[[#This Row],[S.B Sitrack]]),"") | AP15: =IF(AND(MIP[Exc]=0,MIP[Previsto / Realizado]="Realizado"),MIP[Sem],0) -> 0 | AQ15: =IF(AND(MIP[Exc]=0,MIP[Previsto / Realizado]="Realizado",ISBLANK(MIP[[#This Row],[S.B Sitrack]])=FALSE,ISBLANK(MIP[[#This Row],[C.B Sitrack]])=FALSE),MIP[Sem],0) -> 0
B16: =WEEKNUM(MIP[[#This Row],[Data]]) -> 19 | C16: 42865 | E16: JOILSON / VALDEI | F16: Realizado | H16: 2 | I16: 4 | J16: 2 | K16: 1 | L16: 0 | M16: 0.25 | N16: 0.28055556 | O16: 0.53194444 | P16: 0.65833333 | R16: Um dos colaboradores precisou ir ao médico logo após o almoço (12:46) | S16: =MIP[[#This Row],[PT-1]]+MIP[[#This Row],[PT-2]]*2+MIP[[#This Row],[PT-3]]*3+MIP[[#This Row],[PT > 3 Pontos]] -> 11 | T16: =IF(MIP[[#This Row],[P.S]]-MIP[[#This Row],[U.P]]>=0,MIP[[#This Row],[P.S]]-MIP[[#This Row],[U.P]]+MIP[[#This Row],[S.B]]-MIP[[#This Row],[P.E]],1+MIP[[#This Row],[P.S]]-MIP[[#This Row],[U.P]]+MIP[[#This Row],[S.B]]-MIP[[#This Row],[P.E]])+MIP[[#This Row],[HH AC extra]] -> 0.15694444 | U16: =IF(MIP[[#This Row],[P.S]]-MIP[[#This Row],[U.P]]>=0,MIP[[#This Row],[P.S]]-MIP[[#This Row],[U.P]]+MIP[[#This Row],[S.B]]-MIP[[#This Row],[P.E]],1+MIP[[#This Row],[P.S]]-MIP[[#This Row],[U.P]]+MIP[[#This Row],[S.B]]-MIP[[#This Row],[P.E]]) -> 0.15694444 | V16: =MIP[[#This Row],[Eficiência]] -> 1.1954509 | W16: =SUMIFS([1]!Excecoes[Coluna1],[1]!Excecoes[Dia],MIP[[#This Row],[Data]],[1]!Excecoes[Equipe],MIP[[#This Row],[Equipe]],[1]!Excecoes[Previsto / Realizado],MIP[[#This Row],[Previsto / Realizado]])+IF(MIP[[#This Row],[HH AC TOT]]>0.5,1,0)+IF(AND(OR(ISBLANK(MIP[[#This Row],[P.E]]),ISBLANK(MIP[[#This Row],[S.B]]),ISBLANK(MIP[[#This Row],[U.P]]),ISBLANK(MIP[[#This Row],[P.S]])),ISTEXT(MIP[[#This Row],[Equipe]])),1,IF(MIP[[#This Row],[P.E]]>MIP[[#This Row],[S.B]],1,0)+IF([1]Excessões!$H$6="Ativadas",IF(MIP[[#This Row],[HH AC TOT]]<0.0083,1,0)+IF(OR(MIP[[#This Row],[Eficiência]]>2,MIP[[#This Row],[Eficiência]]<0.3),1,0),0)) -> 0 | X16: =IF(MIP[[#This Row],[P.S]]-MIP[[#This Row],[P.E]]<0,1+MIP[[#This Row],[P.S]]-MIP[[#This Row],[P.E]]-1/24,MIP[[#This Row],[P.S]]-MIP[[#This Row],[P.E]]-1/24) -> 0.36666667 | Y16: =MIP[[#This Row],[PT-1]]*$S$3+MIP[[#This Row],[PT-2]]*$T$3+MIP[[#This Row],[PT-3]]*$U$3+MIP[[#This Row],[PT > 3 Pontos]]*$V$3 -> 0.25071262 | Z16: =MIP[[#This Row],[HH disponível]]-MIP[[#This Row],[HH AC TOT]] -> 0.20972222 | AA16: =MIP[[#This Row],[HH Produtivo Total]]/MIP[[#This Row],[HH Trabalhado]] -> 1.1954509 | AB16: =MIP[[#This Row],[HH Produtivo Total]]/MIP[[#This Row],[HH disponível]] -> 0.6837617 | AC16: =MIP[[#This Row],[HH Trabalhado]]/MIP[[#This Row],[HH disponível]] -> 0.5719697 | AD16: =LEFT(MIP[[#This Row],[Equipe]], SEARCH("/",MIP[[#This Row],[Equipe]],1)-1) -> JOILSON | AE16: =RIGHT(MIP[[#This Row],[Equipe]], LEN(MIP[[#This Row],[Equipe]])-SEARCH("/",MIP[[#This Row],[Equipe]],1)) -> VALDEI | AF16: =COUNTIFS('[1]Tempo parado'!H:H,">="&MIP[[#This Row],[S.B Sitrack]],'[1]Tempo parado'!I:I,"<="&MIP[[#This Row],[C.B Sitrack]],'[1]Tempo parado'!B:B,MIP[[#This Row],[Placa]]) -> 0 | AK16: =IF(OR(MIP[[#This Row],[S.B Sitrack]]="",MIP[[#This Row],[C.B Sitrack]]=""),"-",IF(TIME(HOUR(MIP[[#This Row],[C.B Sitrack]]),MINUTE(MIP[[#This Row],[C.B Sitrack]]),SECOND(HOUR(MIP[[#This Row],[C.B Sitrack]])))-(MIP[[#This Row],[U.P]]-TRUNC(MIP[[#This Row],[U.P]],0))<0,(TIME(HOUR(MIP[[#This Row],[C.B Sitrack]]),MINUTE(MIP[[#This Row],[C.B Sitrack]]),SECOND(HOUR(MIP[[#This Row],[C.B Sitrack]])))-(MIP[[#This Row],[U.P]]-TRUNC(MIP[[#This Row],[U.P]],0)))*(-1),TIME(HOUR(MIP[[#This Row],[C.B Sitrack]]),MINUTE(MIP[[#This Row],[C.B Sitrack]]),SECOND(HOUR(MIP[[#This Row],[C.B Sitrack]])))-(MIP[[#This Row],[U.P]]-TRUNC(MIP[[#This Row],[U.P]],0)))+IF(TIME(HOUR(MIP[[#This Row],[S.B Sitrack]]),MINUTE(MIP[[#This Row],[S.B Sitrack]]),SECOND(HOUR(MIP[[#This Row],[S.B Sitrack]])))-(MIP[[#This Row],[S.B]]-TRUNC(MIP[[#This Row],[S.B]],0))<0,(TIME(HOUR(MIP[[#This Row],[S.B Sitrack]]),MINUTE(MIP[[#This Row],[S.B Sitrack]]),SECOND(HOUR(MIP[[#This Row],[S.B Sitrack]])))-(MIP[[#This Row],[S.B]]-TRUNC(MIP[[#This Row],[S.B]],0)))*(-1),TIME(HOUR(MIP[[#This Row],[S.B Sitrack]]),MINUTE(MIP[[#This Row],[S.B Sitrack]]),SECOND(HOUR(MIP[[#This Row],[S.B Sitrack]])))-(MIP[[#This Row],[S.B]]-TRUNC(MIP[[#This Row],[S.B]],0)))) -> - | AL16: =SUMIFS([1]!Tempoviagem[DISTANCIA (KM)],[1]!Tempoviagem[DATA INICIO],">="&MIP[[#This Row],[S.B Sitrack]],[1]!Tempoviagem[DATA FIM],"<="&MIP[[#This Row],[C.B Sitrack]],[1]!Tempoviagem[PLACA],MIP[[#This Row],[Placa]],[1]!Tempoviagem[DISTANCIA (KM)],">0",[1]!Tempoviagem[VELOCIDADE MÉDIA (KM/H)],"<150") -> 0 | AM16: =SUMIFS('[1]Tempo parado'!J:J,'[1]Tempo parado'!H:H,">="&MIP[[#This Row],[S.B Sitrack]],'[1]Tempo parado'!I:I,"<="&MIP[[#This Row],[C.B Sitrack]],'[1]Tempo parado'!B:B,MIP[[#This Row],[Placa]]) -> 0 | AN16: =IFERROR(MIP[[#This Row],[Tempo parado]]/(MIP[[#This Row],[C.B Sitrack]]-MIP[[#This Row],[S.B Sitrack]]),"") | AP16: =IF(AND(MIP[Exc]=0,MIP[Previsto / Realizado]="Realizado"),MIP[Sem],0) -> 19 | AQ16: =IF(AND(MIP[Exc]=0,MIP[Previsto / Realizado]="Realizado",ISBLANK(MIP[[#This Row],[S.B Sitrack]])=FALSE,ISBLANK(MIP[[#This Row],[C.B Sitrack]])=FALSE),MIP[Sem],0) -> 0
B17: =WEEKNUM(MIP[[#This Row],[Data]]) -> 19 | C17: 42865 | E17: ADEMÁRIO / ANDERSON | F17: Previsto | H17: 2 | I17: 6 | J17: 4 | K17: 0 | L17: 0 | M17: 0.625 | N17: 0.64583333 | O17: =1+18/24/60 -> 1.0125 | P17: =1+48/24/60 -> 1.0333333 | S17: =MIP[[#This Row],[PT-1]]+MIP[[#This Row],[PT-2]]*2+MIP[[#This Row],[PT-3]]*3+MIP[[#This Row],[PT > 3 Pontos]] -> 14 | T17: =IF(MIP[[#This Row],[P.S]]-MIP[[#This Row],[U.P]]>=0,MIP[[#This Row],[P.S]]-MIP[[#This Row],[U.P]]+MIP[[#This Row],[S.B]]-MIP[[#This Row],[P.E]],1+MIP[[#This Row],[P.S]]-MIP[[#This Row],[U.P]]+MIP[[#This Row],[S.B]]-MIP[[#This Row],[P.E]])+MIP[[#This Row],[HH AC extra]] -> 0.041666667 | U17: =IF(MIP[[#This Row],[P.S]]-MIP[[#This Row],[U.P]]>=0,MIP[[#This Row],[P.S]]-MIP[[#This Row],[U.P]]+MIP[[#This Row],[S.B]]-MIP[[#This Row],[P.E]],1+MIP[[#This Row],[P.S]]-MIP[[#This Row],[U.P]]+MIP[[#This Row],[S.B]]-MIP[[#This Row],[P.E]]) -> 0.041666667 | V17: =MIP[[#This Row],[Eficiência]] -> 1.0024313 | W17: =SUMIFS([1]!Excecoes[Coluna1],[1]!Excecoes[Dia],MIP[[#This Row],[Data]],[1]!Excecoes[Equipe],MIP[[#This Row],[Equipe]],[1]!Excecoes[Previsto / Realizado],MIP[[#This Row],[Previsto / Realizado]])+IF(MIP[[#This Row],[HH AC TOT]]>0.5,1,0)+IF(AND(OR(ISBLANK(MIP[[#This Row],[P.E]]),ISBLANK(MIP[[#This Row],[S.B]]),ISBLANK(MIP[[#This Row],[U.P]]),ISBLANK(MIP[[#This Row],[P.S]])),ISTEXT(MIP[[#This Row],[Equipe]])),1,IF(MIP[[#This Row],[P.E]]>MIP[[#This Row],[S.B]],1,0)+IF([1]Excessões!$H$6="Ativadas",IF(MIP[[#This Row],[HH AC TOT]]<0.0083,1,0)+IF(OR(MIP[[#This Row],[Eficiência]]>2,MIP[[#This Row],[Eficiência]]<0.3),1,0),0)) -> 0 | X17: =IF(MIP[[#This Row],[P.S]]-MIP[[#This Row],[P.E]]<0,1+MIP[[#This Row],[P.S]]-MIP[[#This Row],[P.E]]-1/24,MIP[[#This Row],[P.S]]-MIP[[#This Row],[P.E]]-1/24) -> 0.36666667 | Y17: =MIP[[#This Row],[PT-1]]*$S$3+MIP[[#This Row],[PT-2]]*$T$3+MIP[[#This Row],[PT-3]]*$U$3+MIP[[#This Row],[PT > 3 Pontos]]*$V$3 -> 0.32579018 | Z17: =MIP[[#This Row],[HH disponível]]-MIP[[#This Row],[HH AC TOT]] -> 0.325 | AA17: =MIP[[#This Row],[HH Produtivo Total]]/MIP[[#This Row],[HH Trabalhado]] -> 1.0024313 | AB17: =MIP[[#This Row],[HH Produtivo Total]]/MIP[[#This Row],[HH disponível]] -> 0.88851868 | AC17: =MIP[[#This Row],[HH Trabalhado]]/MIP[[#This Row],[HH disponível]] -> 0.88636364 | AD17: =LEFT(MIP[[#This Row],[Equipe]], SEARCH("/",MIP[[#This Row],[Equipe]],1)-1) -> ADEMÁRIO | AE17: =RIGHT(MIP[[#This Row],[Equipe]], LEN(MIP[[#This Row],[Equipe]])-SEARCH("/",MIP[[#This Row],[Equipe]],1)) -> ANDERSON | AF17: =COUNTIFS('[1]Tempo parado'!H:H,">="&MIP[[#This Row],[S.B Sitrack]],'[1]Tempo parado'!I:I,"<="&MIP[[#This Row],[C.B Sitrack]],'[1]Tempo parado'!B:B,MIP[[#This Row],[Placa]]) -> 0 | AK17: =IF(OR(MIP[[#This Row],[S.B Sitrack]]="",MIP[[#This Row],[C.B Sitrack]]=""),"-",IF(TIME(HOUR(MIP[[#This Row],[C.B Sitrack]]),MINUTE(MIP[[#This Row],[C.B Sitrack]]),SECOND(HOUR(MIP[[#This Row],[C.B Sitrack]])))-(MIP[[#This Row],[U.P]]-TRUNC(MIP[[#This Row],[U.P]],0))<0,(TIME(HOUR(MIP[[#This Row],[C.B Sitrack]]),MINUTE(MIP[[#This Row],[C.B Sitrack]]),SECOND(HOUR(MIP[[#This Row],[C.B Sitrack]])))-(MIP[[#This Row],[U.P]]-TRUNC(MIP[[#This Row],[U.P]],0)))*(-1),TIME(HOUR(MIP[[#This Row],[C.B Sitrack]]),MINUTE(MIP[[#This Row],[C.B Sitrack]]),SECOND(HOUR(MIP[[#This Row],[C.B Sitrack]])))-(MIP[[#This Row],[U.P]]-TRUNC(MIP[[#This Row],[U.P]],0)))+IF(TIME(HOUR(MIP[[#This Row],[S.B Sitrack]]),MINUTE(MIP[[#This Row],[S.B Sitrack]]),SECOND(HOUR(MIP[[#This Row],[S.B Sitrack]])))-(MIP[[#This Row],[S.B]]-TRUNC(MIP[[#This Row],[S.B]],0))<0,(TIME(HOUR(MIP[[#This Row],[S.B Sitrack]]),MINUTE(MIP[[#This Row],[S.B Sitrack]]),SECOND(HOUR(MIP[[#This Row],[S.B Sitrack]])))-(MIP[[#This Row],[S.B]]-TRUNC(MIP[[#This Row],[S.B]],0)))*(-1),TIME(HOUR(MIP[[#This Row],[S.B Sitrack]]),MINUTE(MIP[[#This Row],[S.B Sitrack]]),SECOND(HOUR(MIP[[#This Row],[S.B Sitrack]])))-(MIP[[#This Row],[S.B]]-TRUNC(MIP[[#This Row],[S.B]],0)))) -> - | AL17: =SUMIFS([1]!Tempoviagem[DISTANCIA (KM)],[1]!Tempoviagem[DATA INICIO],">="&MIP[[#This Row],[S.B Sitrack]],[1]!Tempoviagem[DATA FIM],"<="&MIP[[#This Row],[C.B Sitrack]],[1]!Tempoviagem[PLACA],MIP[[#This Row],[Placa]],[1]!Tempoviagem[DISTANCIA (KM)],">0",[1]!Tempoviagem[VELOCIDADE MÉDIA (KM/H)],"<150") -> 0 | AM17: =SUMIFS('[1]Tempo parado'!J:J,'[1]Tempo parado'!H:H,">="&MIP[[#This Row],[S.B Sitrack]],'[1]Tempo parado'!I:I,"<="&MIP[[#This Row],[C.B Sitrack]],'[1]Tempo parado'!B:B,MIP[[#This Row],[Placa]]) -> 0 | AN17: =IFERROR(MIP[[#This Row],[Tempo parado]]/(MIP[[#This Row],[C.B Sitrack]]-MIP[[#This Row],[S.B Sitrack]]),"") | AP17: =IF(AND(MIP[Exc]=0,MIP[Previsto / Realizado]="Realizado"),MIP[Sem],0) -> 0 | AQ17: =IF(AND(MIP[Exc]=0,MIP[Previsto / Realizado]="Realizado",ISBLANK(MIP[[#This Row],[S.B Sitrack]])=FALSE,ISBLANK(MIP[[#This Row],[C.B Sitrack]])=FALSE),MIP[Sem],0) -> 0
B18: =WEEKNUM(MIP[[#This Row],[Data]]) -> 19 | C18: 42865 | E18: ADEMÁRIO / ANDERSON | F18: Realizado | H18: 2 | I18: 5 | J18: 4 | K18: 0 | L18: 0 | M18: 0.61736111 | N18: 0.66666667 | O18: =1+35/24/60 -> 1.0243056 | P18: =1+54/24/60 -> 1.0375 | S18: =MIP[[#This Row],[PT-1]]+MIP[[#This Row],[PT-2]]*2+MIP[[#This Row],[PT-3]]*3+MIP[[#This Row],[PT > 3 Pontos]] -> 13 | T18: =IF(MIP[[#This Row],[P.S]]-MIP[[#This Row],[U.P]]>=0,MIP[[#This Row],[P.S]]-MIP[[#This Row],[U.P]]+MIP[[#This Row],[S.B]]-MIP[[#This Row],[P.E]],1+MIP[[#This Row],[P.S]]-MIP[[#This Row],[U.P]]+MIP[[#This Row],[S.B]]-MIP[[#This Row],[P.E]])+MIP[[#This Row],[HH AC extra]] -> 0.0625 | U18: =IF(MIP[[#This Row],[P.S]]-MIP[[#This Row],[U.P]]>=0,MIP[[#This Row],[P.S]]-MIP[[#This Row],[U.P]]+MIP[[#This Row],[S.B]]-MIP[[#This Row],[P.E]],1+MIP[[#This Row],[P.S]]-MIP[[#This Row],[U.P]]+MIP[[#This Row],[S.B]]-MIP[[#This Row],[P.E]]) -> 0.0625 | V18: =MIP[[#This Row],[Eficiência]] -> 0.95186953 | W18: =SUMIFS([1]!Excecoes[Coluna1],[1]!Excecoes[Dia],MIP[[#This Row],[Data]],[1]!Excecoes[Equipe],MIP[[#This Row],[Equipe]],[1]!Excecoes[Previsto / Realizado],MIP[[#This Row],[Previsto / Realizado]])+IF(MIP[[#This Row],[HH AC TOT]]>0.5,1,0)+IF(AND(OR(ISBLANK(MIP[[#This Row],[P.E]]),ISBLANK(MIP[[#This Row],[S.B]]),ISBLANK(MIP[[#This Row],[U.P]]),ISBLANK(MIP[[#This Row],[P.S]])),ISTEXT(MIP[[#This Row],[Equipe]])),1,IF(MIP[[#This Row],[P.E]]>MIP[[#This Row],[S.B]],1,0)+IF([1]Excessões!$H$6="Ativadas",IF(MIP[[#This Row],[HH AC TOT]]<0.0083,1,0)+IF(OR(MIP[[#This Row],[Eficiência]]>2,MIP[[#This Row],[Eficiência]]<0.3),1,0),0)) -> 0 | X18: =IF(MIP[[#This Row],[P.S]]-MIP[[#This Row],[P.E]]<0,1+MIP[[#This Row],[P.S]]-MIP[[#This Row],[P.E]]-1/24,MIP[[#This Row],[P.S]]-MIP[[#This Row],[P.E]]-1/24) -> 0.37847222 | Y18: =MIP[[#This Row],[PT-1]]*$S$3+MIP[[#This Row],[PT-2]]*$T$3+MIP[[#This Row],[PT-3]]*$U$3+MIP[[#This Row],[PT > 3 Pontos]]*$V$3 -> 0.30076433 | Z18: =MIP[[#This Row],[HH disponível]]-MIP[[#This Row],[HH AC TOT]] -> 0.31597222 | AA18: =MIP[[#This Row],[HH Produtivo Total]]/MIP[[#This Row],[HH Trabalhado]] -> 0.95186953 | AB18: =MIP[[#This Row],[HH Produtivo Total]]/MIP[[#This Row],[HH disponível]] -> 0.79468006 | AC18: =MIP[[#This Row],[HH Trabalhado]]/MIP[[#This Row],[HH disponível]] -> 0.83486239 | AD18: =LEFT(MIP[[#This Row],[Equipe]], SEARCH("/",MIP[[#This Row],[Equipe]],1)-1) -> ADEMÁRIO | AE18: =RIGHT(MIP[[#This Row],[Equipe]], LEN(MIP[[#This Row],[Equipe]])-SEARCH("/",MIP[[#This Row],[Equipe]],1)) -> ANDERSON | AF18: =COUNTIFS('[1]Tempo parado'!H:H,">="&MIP[[#This Row],[S.B Sitrack]],'[1]Tempo parado'!I:I,"<="&MIP[[#This Row],[C.B Sitrack]],'[1]Tempo parado'!B:B,MIP[[#This Row],[Placa]]) -> 0 | AK18: =IF(OR(MIP[[#This Row],[S.B Sitrack]]="",MIP[[#This Row],[C.B Sitrack]]=""),"-",IF(TIME(HOUR(MIP[[#This Row],[C.B Sitrack]]),MINUTE(MIP[[#This Row],[C.B Sitrack]]),SECOND(HOUR(MIP[[#This Row],[C.B Sitrack]])))-(MIP[[#This Row],[U.P]]-TRUNC(MIP[[#This Row],[U.P]],0))<0,(TIME(HOUR(MIP[[#This Row],[C.B Sitrack]]),MINUTE(MIP[[#This Row],[C.B Sitrack]]),SECOND(HOUR(MIP[[#This Row],[C.B Sitrack]])))-(MIP[[#This Row],[U.P]]-TRUNC(MIP[[#This Row],[U.P]],0)))*(-1),TIME(HOUR(MIP[[#This Row],[C.B Sitrack]]),MINUTE(MIP[[#This Row],[C.B Sitrack]]),SECOND(HOUR(MIP[[#This Row],[C.B Sitrack]])))-(MIP[[#This Row],[U.P]]-TRUNC(MIP[[#This Row],[U.P]],0)))+IF(TIME(HOUR(MIP[[#This Row],[S.B Sitrack]]),MINUTE(MIP[[#This Row],[S.B Sitrack]]),SECOND(HOUR(MIP[[#This Row],[S.B Sitrack]])))-(MIP[[#This Row],[S.B]]-TRUNC(MIP[[#This Row],[S.B]],0))<0,(TIME(HOUR(MIP[[#This Row],[S.B Sitrack]]),MINUTE(MIP[[#This Row],[S.B Sitrack]]),SECOND(HOUR(MIP[[#This Row],[S.B Sitrack]])))-(MIP[[#This Row],[S.B]]-TRUNC(MIP[[#This Row],[S.B]],0)))*(-1),TIME(HOUR(MIP[[#This Row],[S.B Sitrack]]),MINUTE(MIP[[#This Row],[S.B Sitrack]]),SECOND(HOUR(MIP[[#This Row],[S.B Sitrack]])))-(MIP[[#This Row],[S.B]]-TRUNC(MIP[[#This Row],[S.B]],0)))) -> - | AL18: =SUMIFS([1]!Tempoviagem[DISTANCIA (KM)],[1]!Tempoviagem[DATA INICIO],">="&MIP[[#This Row],[S.B Sitrack]],[1]!Tempoviagem[DATA FIM],"<="&MIP[[#This Row],[C.B Sitrack]],[1]!Tempoviagem[PLACA],MIP[[#This Row],[Placa]],[1]!Tempoviagem[DISTANCIA (KM)],">0",[1]!Tempoviagem[VELOCIDADE MÉDIA (KM/H)],"<150") -> 0 | AM18: =SUMIFS('[1]Tempo parado'!J:J,'[1]Tempo parado'!H:H,">="&MIP[[#This Row],[S.B Sitrack]],'[1]Tempo parado'!I:I,"<="&MIP[[#This Row],[C.B Sitrack]],'[1]Tempo parado'!B:B,MIP[[#This Row],[Placa]]) -> 0 | AN18: =IFERROR(MIP[[#This Row],[Tempo parado]]/(MIP[[#This Row],[C.B Sitrack]]-MIP[[#This Row],[S.B Sitrack]]),"") | AP18: =IF(AND(MIP[Exc]=0,MIP[Previsto / Realizado]="Realizado"),MIP[Sem],0) -> 19 | AQ18: =IF(AND(MIP[Exc]=0,MIP[Previsto / Realizado]="Realizado",ISBLANK(MIP[[#This Row],[S.B Sitrack]])=FALSE,ISBLANK(MIP[[#This Row],[C.B Sitrack]])=FALSE),MIP[Sem],0) -> 0
B19: =WEEKNUM(MIP[[#This Row],[Data]]) -> 19 | C19: 42866 | E19: EDILTON / CLAUDINEY | F19: Previsto | H19: 2 | I19: 8 | J19: 2 | K19: 1 | L19: 0 | M19: 0.625 | N19: 0.64583333 | O19: =1+18/24/60 -> 1.0125 | P19: =1+48/24/60 -> 1.0333333 | S19: =MIP[[#This Row],[PT-1]]+MIP[[#This Row],[PT-2]]*2+MIP[[#This Row],[PT-3]]*3+MIP[[#This Row],[PT > 3 Pontos]] -> 15 | T19: =IF(MIP[[#This Row],[P.S]]-MIP[[#This Row],[U.P]]>=0,MIP[[#This Row],[P.S]]-MIP[[#This Row],[U.P]]+MIP[[#This Row],[S.B]]-MIP[[#This Row],[P.E]],1+MIP[[#This Row],[P.S]]-MIP[[#This Row],[U.P]]+MIP[[#This Row],[S.B]]-MIP[[#This Row],[P.E]])+MIP[[#This Row],[HH AC extra]] -> 0.041666667 | U19: =IF(MIP[[#This Row],[P.S]]-MIP[[#This Row],[U.P]]>=0,MIP[[#This Row],[P.S]]-MIP[[#This Row],[U.P]]+MIP[[#This Row],[S.B]]-MIP[[#This Row],[P.E]],1+MIP[[#This Row],[P.S]]-MIP[[#This Row],[U.P]]+MIP[[#This Row],[S.B]]-MIP[[#This Row],[P.E]]) -> 0.041666667 | V19: =MIP[[#This Row],[Eficiência]] -> 1.079434 | W19: =SUMIFS([1]!Excecoes[Coluna1],[1]!Excecoes[Dia],MIP[[#This Row],[Data]],[1]!Excecoes[Equipe],MIP[[#This Row],[Equipe]],[1]!Excecoes[Previsto / Realizado],MIP[[#This Row],[Previsto / Realizado]])+IF(MIP[[#This Row],[HH AC TOT]]>0.5,1,0)+IF(AND(OR(ISBLANK(MIP[[#This Row],[P.E]]),ISBLANK(MIP[[#This Row],[S.B]]),ISBLANK(MIP[[#This Row],[U.P]]),ISBLANK(MIP[[#This Row],[P.S]])),ISTEXT(MIP[[#This Row],[Equipe]])),1,IF(MIP[[#This Row],[P.E]]>MIP[[#This Row],[S.B]],1,0)+IF([1]Excessões!$H$6="Ativadas",IF(MIP[[#This Row],[HH AC TOT]]<0.0083,1,0)+IF(OR(MIP[[#This Row],[Eficiência]]>2,MIP[[#This Row],[Eficiência]]<0.3),1,0),0)) -> 0 | X19: =IF(MIP[[#This Row],[P.S]]-MIP[[#This Row],[P.E]]<0,1+MIP[[#This Row],[P.S]]-MIP[[#This Row],[P.E]]-1/24,MIP[[#This Row],[P.S]]-MIP[[#This Row],[P.E]]-1/24) -> 0.36666667 | Y19: =MIP[[#This Row],[PT-1]]*$S$3+MIP[[#This Row],[PT-2]]*$T$3+MIP[[#This Row],[PT-3]]*$U$3+MIP[[#This Row],[PT > 3 Pontos]]*$V$3 -> 0.35081604 | Z19: =MIP[[#This Row],[HH disponível]]-MIP[[#This Row],[HH AC TOT]] -> 0.325 | AA19: =MIP[[#This Row],[HH Produtivo Total]]/MIP[[#This Row],[HH Trabalhado]] -> 1.079434 | AB19: =MIP[[#This Row],[HH Produtivo Total]]/MIP[[#This Row],[HH disponível]] -> 0.956771 | AC19: =MIP[[#This Row],[HH Trabalhado]]/MIP[[#This Row],[HH disponível]] -> 0.88636364 | AD19: =LEFT(MIP[[#This Row],[Equipe]], SEARCH("/",MIP[[#This Row],[Equipe]],1)-1) -> EDILTON | AE19: =RIGHT(MIP[[#This Row],[Equipe]], LEN(MIP[[#This Row],[Equipe]])-SEARCH("/",MIP[[#This Row],[Equipe]],1)) -> CLAUDINEY | AF19: =COUNTIFS('[1]Tempo parado'!H:H,">="&MIP[[#This Row],[S.B Sitrack]],'[1]Tempo parado'!I:I,"<="&MIP[[#This Row],[C.B Sitrack]],'[1]Tempo parado'!B:B,MIP[[#This Row],[Placa]]) -> 0 | AK19: =IF(OR(MIP[[#This Row],[S.B Sitrack]]="",MIP[[#This Row],[C.B Sitrack]]=""),"-",IF(TIME(HOUR(MIP[[#This Row],[C.B Sitrack]]),MINUTE(MIP[[#This Row],[C.B Sitrack]]),SECOND(HOUR(MIP[[#This Row],[C.B Sitrack]])))-(MIP[[#This Row],[U.P]]-TRUNC(MIP[[#This Row],[U.P]],0))<0,(TIME(HOUR(MIP[[#This Row],[C.B Sitrack]]),MINUTE(MIP[[#This Row],[C.B Sitrack]]),SECOND(HOUR(MIP[[#This Row],[C.B Sitrack]])))-(MIP[[#This Row],[U.P]]-TRUNC(MIP[[#This Row],[U.P]],0)))*(-1),TIME(HOUR(MIP[[#This Row],[C.B Sitrack]]),MINUTE(MIP[[#This Row],[C.B Sitrack]]),SECOND(HOUR(MIP[[#This Row],[C.B Sitrack]])))-(MIP[[#This Row],[U.P]]-TRUNC(MIP[[#This Row],[U.P]],0)))+IF(TIME(HOUR(MIP[[#This Row],[S.B Sitrack]]),MINUTE(MIP[[#This Row],[S.B Sitrack]]),SECOND(HOUR(MIP[[#This Row],[S.B Sitrack]])))-(MIP[[#This Row],[S.B]]-TRUNC(MIP[[#This Row],[S.B]],0))<0,(TIME(HOUR(MIP[[#This Row],[S.B Sitrack]]),MINUTE(MIP[[#This Row],[S.B Sitrack]]),SECOND(HOUR(MIP[[#This Row],[S.B Sitrack]])))-(MIP[[#This Row],[S.B]]-TRUNC(MIP[[#This Row],[S.B]],0)))*(-1),TIME(HOUR(MIP[[#This Row],[S.B Sitrack]]),MINUTE(MIP[[#This Row],[S.B Sitrack]]),SECOND(HOUR(MIP[[#This Row],[S.B Sitrack]])))-(MIP[[#This Row],[S.B]]-TRUNC(MIP[[#This Row],[S.B]],0)))) -> - | AL19: =SUMIFS([1]!Tempoviagem[DISTANCIA (KM)],[1]!Tempoviagem[DATA INICIO],">="&MIP[[#This Row],[S.B Sitrack]],[1]!Tempoviagem[DATA FIM],"<="&MIP[[#This Row],[C.B Sitrack]],[1]!Tempoviagem[PLACA],MIP[[#This Row],[Placa]],[1]!Tempoviagem[DISTANCIA (KM)],">0",[1]!Tempoviagem[VELOCIDADE MÉDIA (KM/H)],"<150") -> 0 | AM19: =SUMIFS('[1]Tempo parado'!J:J,'[1]Tempo parado'!H:H,">="&MIP[[#This Row],[S.B Sitrack]],'[1]Tempo parado'!I:I,"<="&MIP[[#This Row],[C.B Sitrack]],'[1]Tempo parado'!B:B,MIP[[#This Row],[Placa]]) -> 0 | AN19: =IFERROR(MIP[[#This Row],[Tempo parado]]/(MIP[[#This Row],[C.B Sitrack]]-MIP[[#This Row],[S.B Sitrack]]),"") | AP19: =IF(AND(MIP[Exc]=0,MIP[Previsto / Realizado]="Realizado"),MIP[Sem],0) -> 0 | AQ19: =IF(AND(MIP[Exc]=0,MIP[Previsto / Realizado]="Realizado",ISBLANK(MIP[[#This Row],[S.B Sitrack]])=FALSE,ISBLANK(MIP[[#This Row],[C.B Sitrack]])=FALSE),MIP[Sem],0) -> 0
B20: =WEEKNUM(MIP[[#This Row],[Data]]) -> 19 | C20: 42866 | E20: EDILTON / CLAUDINEY | F20: Realizado | H20: 2 | I20: 7 | J20: 2 | K20: 0 | L20: 0 | M20: 0.62569444 | N20: 0.67569444 | O20: =30/24/60 -> 0.020833333 | P20: =1/24 -> 0.041666667 | R20: Visita não programada a uma praça, solicitado pelo cliente e aprovada pelo gerente. No início do turno houve uma reunião para alinhamento de orientações e expectativas. | S20: =MIP[[#This Row],[PT-1]]+MIP[[#This Row],[PT-2]]*2+MIP[[#This Row],[PT-3]]*3+MIP[[#This Row],[PT > 3 Pontos]] -> 11 | T20: =IF(MIP[[#This Row],[P.S]]-MIP[[#This Row],[U.P]]>=0,MIP[[#This Row],[P.S]]-MIP[[#This Row],[U.P]]+MIP[[#This Row],[S.B]]-MIP[[#This Row],[P.E]],1+MIP[[#This Row],[P.S]]-MIP[[#This Row],[U.P]]+MIP[[#This Row],[S.B]]-MIP[[#This Row],[P.E]])+MIP[[#This Row],[HH AC extra]] -> 0.070833333 | U20: =IF(MIP[[#This Row],[P.S]]-MIP[[#This Row],[U.P]]>=0,MIP[[#This Row],[P.S]]-MIP[[#This Row],[U.P]]+MIP[[#This Row],[S.B]]-MIP[[#This Row],[P.E]],1+MIP[[#This Row],[P.S]]-MIP[[#This Row],[U.P]]+MIP[[#This Row],[S.B]]-MIP[[#This Row],[P.E]]) -> 0.070833333 | V20: =MIP[[#This Row],[Eficiência]] -> 0.86663122 | W20: =SUMIFS([1]!Excecoes[Coluna1],[1]!Excecoes[Dia],MIP[[#This Row],[Data]],[1]!Excecoes[Equipe],MIP[[#This Row],[Equipe]],[1]!Excecoes[Previsto / Realizado],MIP[[#This Row],[Previsto / Realizado]])+IF(MIP[[#This Row],[HH AC TOT]]>0.5,1,0)+IF(AND(OR(ISBLANK(MIP[[#This Row],[P.E]]),ISBLANK(MIP[[#This Row],[S.B]]),ISBLANK(MIP[[#This Row],[U.P]]),ISBLANK(MIP[[#This Row],[P.S]])),ISTEXT(MIP[[#This Row],[Equipe]])),1,IF(MIP[[#This Row],[P.E]]>MIP[[#This Row],[S.B]],1,0)+IF([1]Excessões!$H$6="Ativadas",IF(MIP[[#This Row],[HH AC TOT]]<0.0083,1,0)+IF(OR(MIP[[#This Row],[Eficiência]]>2,MIP[[#This Row],[Eficiência]]<0.3),1,0),0)) -> 0 | X20: =IF(MIP[[#This Row],[P.S]]-MIP[[#This Row],[P.E]]<0,1+MIP[[#This Row],[P.S]]-MIP[[#This Row],[P.E]]-1/24,MIP[[#This Row],[P.S]]-MIP[[#This Row],[P.E]]-1/24) -> 0.37430556 | Y20: =MIP[[#This Row],[PT-1]]*$S$3+MIP[[#This Row],[PT-2]]*$T$3+MIP[[#This Row],[PT-3]]*$U$3+MIP[[#This Row],[PT > 3 Pontos]]*$V$3 -> 0.2629985 | Z20: =MIP[[#This Row],[HH disponível]]-MIP[[#This Row],[HH AC TOT]] -> 0.30347222 | AA20: =MIP[[#This Row],[HH Produtivo Total]]/MIP[[#This Row],[HH Trabalhado]] -> 0.86663122 | AB20: =MIP[[#This Row],[HH Produtivo Total]]/MIP[[#This Row],[HH disponível]] -> 0.70263051 | AC20: =MIP[[#This Row],[HH Trabalhado]]/MIP[[#This Row],[HH disponível]] -> 0.81076067 | AD20: =LEFT(MIP[[#This Row],[Equipe]], SEARCH("/",MIP[[#This Row],[Equipe]],1)-1) -> EDILTON | AE20: =RIGHT(MIP[[#This Row],[Equipe]], LEN(MIP[[#This Row],[Equipe]])-SEARCH("/",MIP[[#This Row],[Equipe]],1)) -> CLAUDINEY | AF20: =COUNTIFS('[1]Tempo parado'!H:H,">="&MIP[[#This Row],[S.B Sitrack]],'[1]Tempo parado'!I:I,"<="&MIP[[#This Row],[C.B Sitrack]],'[1]Tempo parado'!B:B,MIP[[#This Row],[Placa]]) -> 0 | AK20: =IF(OR(MIP[[#This Row],[S.B Sitrack]]="",MIP[[#This Row],[C.B Sitrack]]=""),"-",IF(TIME(HOUR(MIP[[#This Row],[C.B Sitrack]]),MINUTE(MIP[[#This Row],[C.B Sitrack]]),SECOND(HOUR(MIP[[#This Row],[C.B Sitrack]])))-(MIP[[#This Row],[U.P]]-TRUNC(MIP[[#This Row],[U.P]],0))<0,(TIME(HOUR(MIP[[#This Row],[C.B Sitrack]]),MINUTE(MIP[[#This Row],[C.B Sitrack]]),SECOND(HOUR(MIP[[#This Row],[C.B Sitrack]])))-(MIP[[#This Row],[U.P]]-TRUNC(MIP[[#This Row],[U.P]],0)))*(-1),TIME(HOUR(MIP[[#This Row],[C.B Sitrack]]),MINUTE(MIP[[#This Row],[C.B Sitrack]]),SECOND(HOUR(MIP[[#This Row],[C.B Sitrack]])))-(MIP[[#This Row],[U.P]]-TRUNC(MIP[[#This Row],[U.P]],0)))+IF(TIME(HOUR(MIP[[#This Row],[S.B Sitrack]]),MINUTE(MIP[[#This Row],[S.B Sitrack]]),SECOND(HOUR(MIP[[#This Row],[S.B Sitrack]])))-(MIP[[#This Row],[S.B]]-TRUNC(MIP[[#This Row],[S.B]],0))<0,(TIME(HOUR(MIP[[#This Row],[S.B Sitrack]]),MINUTE(MIP[[#This Row],[S.B Sitrack]]),SECOND(HOUR(MIP[[#This Row],[S.B Sitrack]])))-(MIP[[#This Row],[S.B]]-TRUNC(MIP[[#This Row],[S.B]],0)))*(-1),TIME(HOUR(MIP[[#This Row],[S.B Sitrack]]),MINUTE(MIP[[#This Row],[S.B Sitrack]]),SECOND(HOUR(MIP[[#This Row],[S.B Sitrack]])))-(MIP[[#This Row],[S.B]]-TRUNC(MIP[[#This Row],[S.B]],0)))) -> - | AL20: =SUMIFS([1]!Tempoviagem[DISTANCIA (KM)],[1]!Tempoviagem[DATA INICIO],">="&MIP[[#This Row],[S.B Sitrack]],[1]!Tempoviagem[DATA FIM],"<="&MIP[[#This Row],[C.B Sitrack]],[1]!Tempoviagem[PLACA],MIP[[#This Row],[Placa]],[1]!Tempoviagem[DISTANCIA (KM)],">0",[1]!Tempoviagem[VELOCIDADE MÉDIA (KM/H)],"<150") -> 0 | AM20: =SUMIFS('[1]Tempo parado'!J:J,'[1]Tempo parado'!H:H,">="&MIP[[#This Row],[S.B Sitrack]],'[1]Tempo parado'!I:I,"<="&MIP[[#This Row],[C.B Sitrack]],'[1]Tempo parado'!B:B,MIP[[#This Row],[Placa]]) -> 0 | AN20: =IFERROR(MIP[[#This Row],[Tempo parado]]/(MIP[[#This Row],[C.B Sitrack]]-MIP[[#This Row],[S.B Sitrack]]),"") | AP20: =IF(AND(MIP[Exc]=0,MIP[Previsto / Realizado]="Realizado"),MIP[Sem],0) -> 19 | AQ20: =IF(AND(MIP[Exc]=0,MIP[Previsto / Realizado]="Realizado",ISBLANK(MIP[[#This Row],[S.B Sitrack]])=FALSE,ISBLANK(MIP[[#This Row],[C.B Sitrack]])=FALSE),MIP[Sem],0) -> 0
B21: =WEEKNUM(MIP[[#This Row],[Data]]) -> 19 | C21: 42867 | E21: EDILTON / CLAUDINEY | F21: Previsto | H21: 2 | I21: 6 | J21: 4 | K21: 0 | L21: 0 | M21: 0.625 | N21: 0.64583333 | O21: =1+18/24/60 -> 1.0125 | P21: =1+48/24/60 -> 1.0333333 | S21: =MIP[[#This Row],[PT-1]]+MIP[[#This Row],[PT-2]]*2+MIP[[#This Row],[PT-3]]*3+MIP[[#This Row],[PT > 3 Pontos]] -> 14 | T21: =IF(MIP[[#This Row],[P.S]]-MIP[[#This Row],[U.P]]>=0,MIP[[#This Row],[P.S]]-MIP[[#This Row],[U.P]]+MIP[[#This Row],[S.B]]-MIP[[#This Row],[P.E]],1+MIP[[#This Row],[P.S]]-MIP[[#This Row],[U.P]]+MIP[[#This Row],[S.B]]-MIP[[#This Row],[P.E]])+MIP[[#This Row],[HH AC extra]] -> 0.041666667 | U21: =IF(MIP[[#This Row],[P.S]]-MIP[[#This Row],[U.P]]>=0,MIP[[#This Row],[P.S]]-MIP[[#This Row],[U.P]]+MIP[[#This Row],[S.B]]-MIP[[#This Row],[P.E]],1+MIP[[#This Row],[P.S]]-MIP[[#This Row],[U.P]]+MIP[[#This Row],[S.B]]-MIP[[#This Row],[P.E]]) -> 0.041666667 | V21: =MIP[[#This Row],[Eficiência]] -> 1.0024313 | W21: =SUMIFS([1]!Excecoes[Coluna1],[1]!Excecoes[Dia],MIP[[#This Row],[Data]],[1]!Excecoes[Equipe],MIP[[#This Row],[Equipe]],[1]!Excecoes[Previsto / Realizado],MIP[[#This Row],[Previsto / Realizado]])+IF(MIP[[#This Row],[HH AC TOT]]>0.5,1,0)+IF(AND(OR(ISBLANK(MIP[[#This Row],[P.E]]),ISBLANK(MIP[[#This Row],[S.B]]),ISBLANK(MIP[[#This Row],[U.P]]),ISBLANK(MIP[[#This Row],[P.S]])),ISTEXT(MIP[[#This Row],[Equipe]])),1,IF(MIP[[#This Row],[P.E]]>MIP[[#This Row],[S.B]],1,0)+IF([1]Excessões!$H$6="Ativadas",IF(MIP[[#This Row],[HH AC TOT]]<0.0083,1,0)+IF(OR(MIP[[#This Row],[Eficiência]]>2,MIP[[#This Row],[Eficiência]]<0.3),1,0),0)) -> 0 | X21: =IF(MIP[[#This Row],[P.S]]-MIP[[#This Row],[P.E]]<0,1+MIP[[#This Row],[P.S]]-MIP[[#This Row],[P.E]]-1/24,MIP[[#This Row],[P.S]]-MIP[[#This Row],[P.E]]-1/24) -> 0.36666667 | Y21: =MIP[[#This Row],[PT-1]]*$S$3+MIP[[#This Row],[PT-2]]*$T$3+MIP[[#This Row],[PT-3]]*$U$3+MIP[[#This Row],[PT > 3 Pontos]]*$V$3 -> 0.32579018 | Z21: =MIP[[#This Row],[HH disponível]]-MIP[[#This Row],[HH AC TOT]] -> 0.325 | AA21: =MIP[[#This Row],[HH Produtivo Total]]/MIP[[#This Row],[HH Trabalhado]] -> 1.0024313 | AB21: =MIP[[#This Row],[HH Produtivo Total]]/MIP[[#This Row],[HH disponível]] -> 0.88851868 | AC21: =MIP[[#This Row],[HH Trabalhado]]/MIP[[#This Row],[HH disponível]] -> 0.88636364 | AD21: =LEFT(MIP[[#This Row],[Equipe]], SEARCH("/",MIP[[#This Row],[Equipe]],1)-1) -> EDILTON | AE21: =RIGHT(MIP[[#This Row],[Equipe]], LEN(MIP[[#This Row],[Equipe]])-SEARCH("/",MIP[[#This Row],[Equipe]],1)) -> CLAUDINEY | AF21: =COUNTIFS('[1]Tempo parado'!H:H,">="&MIP[[#This Row],[S.B Sitrack]],'[1]Tempo parado'!I:I,"<="&MIP[[#This Row],[C.B Sitrack]],'[1]Tempo parado'!B:B,MIP[[#This Row],[Placa]]) -> 0 | AK21: =IF(OR(MIP[[#This Row],[S.B Sitrack]]="",MIP[[#This Row],[C.B Sitrack]]=""),"-",IF(TIME(HOUR(MIP[[#This Row],[C.B Sitrack]]),MINUTE(MIP[[#This Row],[C.B Sitrack]]),SECOND(HOUR(MIP[[#This Row],[C.B Sitrack]])))-(MIP[[#This Row],[U.P]]-TRUNC(MIP[[#This Row],[U.P]],0))<0,(TIME(HOUR(MIP[[#This Row],[C.B Sitrack]]),MINUTE(MIP[[#This Row],[C.B Sitrack]]),SECOND(HOUR(MIP[[#This Row],[C.B Sitrack]])))-(MIP[[#This Row],[U.P]]-TRUNC(MIP[[#This Row],[U.P]],0)))*(-1),TIME(HOUR(MIP[[#This Row],[C.B Sitrack]]),MINUTE(MIP[[#This Row],[C.B Sitrack]]),SECOND(HOUR(MIP[[#This Row],[C.B Sitrack]])))-(MIP[[#This Row],[U.P]]-TRUNC(MIP[[#This Row],[U.P]],0)))+IF(TIME(HOUR(MIP[[#This Row],[S.B Sitrack]]),MINUTE(MIP[[#This Row],[S.B Sitrack]]),SECOND(HOUR(MIP[[#This Row],[S.B Sitrack]])))-(MIP[[#This Row],[S.B]]-TRUNC(MIP[[#This Row],[S.B]],0))<0,(TIME(HOUR(MIP[[#This Row],[S.B Sitrack]]),MINUTE(MIP[[#This Row],[S.B Sitrack]]),SECOND(HOUR(MIP[[#This Row],[S.B Sitrack]])))-(MIP[[#This Row],[S.B]]-TRUNC(MIP[[#This Row],[S.B]],0)))*(-1),TIME(HOUR(MIP[[#This Row],[S.B Sitrack]]),MINUTE(MIP[[#This Row],[S.B Sitrack]]),SECOND(HOUR(MIP[[#This Row],[S.B Sitrack]])))-(MIP[[#This Row],[S.B]]-TRUNC(MIP[[#This Row],[S.B]],0)))) -> - | AL21: =SUMIFS([1]!Tempoviagem[DISTANCIA (KM)],[1]!Tempoviagem[DATA INICIO],">="&MIP[[#This Row],[S.B Sitrack]],[1]!Tempoviagem[DATA FIM],"<="&MIP[[#This Row],[C.B Sitrack]],[1]!Tempoviagem[PLACA],MIP[[#This Row],[Placa]],[1]!Tempoviagem[DISTANCIA (KM)],">0",[1]!Tempoviagem[VELOCIDADE MÉDIA (KM/H)],"<150") -> 0 | AM21: =SUMIFS('[1]Tempo parado'!J:J,'[1]Tempo parado'!H:H,">="&MIP[[#This Row],[S.B Sitrack]],'[1]Tempo parado'!I:I,"<="&MIP[[#This Row],[C.B Sitrack]],'[1]Tempo parado'!B:B,MIP[[#This Row],[Placa]]) -> 0 | AN21: =IFERROR(MIP[[#This Row],[Tempo parado]]/(MIP[[#This Row],[C.B Sitrack]]-MIP[[#This Row],[S.B Sitrack]]),"") | AP21: =IF(AND(MIP[Exc]=0,MIP[Previsto / Realizado]="Realizado"),MIP[Sem],0) -> 0 | AQ21: =IF(AND(MIP[Exc]=0,MIP[Previsto / Realizado]="Realizado",ISBLANK(MIP[[#This Row],[S.B Sitrack]])=FALSE,ISBLANK(MIP[[#This Row],[C.B Sitrack]])=FALSE),MIP[Sem],0) -> 0
B22: =WEEKNUM(MIP[[#This Row],[Data]]) -> 19 | C22: 42867 | E22: EDILTON / CLAUDINEY | F22: Realizado | H22: 2 | I22: 5 | J22: 2 | K22: 0 | L22: 0 | M22: 0.62569444 | N22: 0.66319444 | O22: =1+20/24/60 -> 1.0138889 | P22: =1+56/24/60 -> 1.0388889 | R22: Durante o periodo do turno choveu muito, reunião de performace, um dos protocolos de 02 pontos estava normalizado em campo. | S22: =MIP[[#This Row],[PT-1]]+MIP[[#This Row],[PT-2]]*2+MIP[[#This Row],[PT-3]]*3+MIP[[#This Row],[PT > 3 Pontos]] -> 9 | T22: =IF(MIP[[#This Row],[P.S]]-MIP[[#This Row],[U.P]]>=0,MIP[[#This Row],[P.S]]-MIP[[#This Row],[U.P]]+MIP[[#This Row],[S.B]]-MIP[[#This Row],[P.E]],1+MIP[[#This Row],[P.S]]-MIP[[#This Row],[U.P]]+MIP[[#This Row],[S.B]]-MIP[[#This Row],[P.E]])+MIP[[#This Row],[HH AC extra]] -> 0.0625 | U22: =IF(MIP[[#This Row],[P.S]]-MIP[[#This Row],[U.P]]>=0,MIP[[#This Row],[P.S]]-MIP[[#This Row],[U.P]]+MIP[[#This Row],[S.B]]-MIP[[#This Row],[P.E]],1+MIP[[#This Row],[P.S]]-MIP[[#This Row],[U.P]]+MIP[[#This Row],[S.B]]-MIP[[#This Row],[P.E]]) -> 0.0625 | V22: =MIP[[#This Row],[Eficiência]] -> 0.68908626 | W22: =SUMIFS([1]!Excecoes[Coluna1],[1]!Excecoes[Dia],MIP[[#This Row],[Data]],[1]!Excecoes[Equipe],MIP[[#This Row],[Equipe]],[1]!Excecoes[Previsto / Realizado],MIP[[#This Row],[Previsto / Realizado]])+IF(MIP[[#This Row],[HH AC TOT]]>0.5,1,0)+IF(AND(OR(ISBLANK(MIP[[#This Row],[P.E]]),ISBLANK(MIP[[#This Row],[S.B]]),ISBLANK(MIP[[#This Row],[U.P]]),ISBLANK(MIP[[#This Row],[P.S]])),ISTEXT(MIP[[#This Row],[Equipe]])),1,IF(MIP[[#This Row],[P.E]]>MIP[[#This Row],[S.B]],1,0)+IF([1]Excessões!$H$6="Ativadas",IF(MIP[[#This Row],[HH AC TOT]]<0.0083,1,0)+IF(OR(MIP[[#This Row],[Eficiência]]>2,MIP[[#This Row],[Eficiência]]<0.3),1,0),0)) -> 0 | X22: =IF(MIP[[#This Row],[P.S]]-MIP[[#This Row],[P.E]]<0,1+MIP[[#This Row],[P.S]]-MIP[[#This Row],[P.E]]-1/24,MIP[[#This Row],[P.S]]-MIP[[#This Row],[P.E]]-1/24) -> 0.37152778 | Y22: =MIP[[#This Row],[PT-1]]*$S$3+MIP[[#This Row],[PT-2]]*$T$3+MIP[[#This Row],[PT-3]]*$U$3+MIP[[#This Row],[PT > 3 Pontos]]*$V$3 -> 0.2129468 | Z22: =MIP[[#This Row],[HH disponível]]-MIP[[#This Row],[HH AC TOT]] -> 0.30902778 | AA22: =MIP[[#This Row],[HH Produtivo Total]]/MIP[[#This Row],[HH Trabalhado]] -> 0.68908626 | AB22: =MIP[[#This Row],[HH Produtivo Total]]/MIP[[#This Row],[HH disponível]] -> 0.57316521 | AC22: =MIP[[#This Row],[HH Trabalhado]]/MIP[[#This Row],[HH disponível]] -> 0.8317757 | AD22: =LEFT(MIP[[#This Row],[Equipe]], SEARCH("/",MIP[[#This Row],[Equipe]],1)-1) -> EDILTON | AE22: =RIGHT(MIP[[#This Row],[Equipe]], LEN(MIP[[#This Row],[Equipe]])-SEARCH("/",MIP[[#This Row],[Equipe]],1)) -> CLAUDINEY | AF22: =COUNTIFS('[1]Tempo parado'!H:H,">="&MIP[[#This Row],[S.B Sitrack]],'[1]Tempo parado'!I:I,"<="&MIP[[#This Row],[C.B Sitrack]],'[1]Tempo parado'!B:B,MIP[[#This Row],[Placa]]) -> 0 | AK22: =IF(OR(MIP[[#This Row],[S.B Sitrack]]="",MIP[[#This Row],[C.B Sitrack]]=""),"-",IF(TIME(HOUR(MIP[[#This Row],[C.B Sitrack]]),MINUTE(MIP[[#This Row],[C.B Sitrack]]),SECOND(HOUR(MIP[[#This Row],[C.B Sitrack]])))-(MIP[[#This Row],[U.P]]-TRUNC(MIP[[#This Row],[U.P]],0))<0,(TIME(HOUR(MIP[[#This Row],[C.B Sitrack]]),MINUTE(MIP[[#This Row],[C.B Sitrack]]),SECOND(HOUR(MIP[[#This Row],[C.B Sitrack]])))-(MIP[[#This Row],[U.P]]-TRUNC(MIP[[#This Row],[U.P]],0)))*(-1),TIME(HOUR(MIP[[#This Row],[C.B Sitrack]]),MINUTE(MIP[[#This Row],[C.B Sitrack]]),SECOND(HOUR(MIP[[#This Row],[C.B Sitrack]])))-(MIP[[#This Row],[U.P]]-TRUNC(MIP[[#This Row],[U.P]],0)))+IF(TIME(HOUR(MIP[[#This Row],[S.B Sitrack]]),MINUTE(MIP[[#This Row],[S.B Sitrack]]),SECOND(HOUR(MIP[[#This Row],[S.B Sitrack]])))-(MIP[[#This Row],[S.B]]-TRUNC(MIP[[#This Row],[S.B]],0))<0,(TIME(HOUR(MIP[[#This Row],[S.B Sitrack]]),MINUTE(MIP[[#This Row],[S.B Sitrack]]),SECOND(HOUR(MIP[[#This Row],[S.B Sitrack]])))-(MIP[[#This Row],[S.B]]-TRUNC(MIP[[#This Row],[S.B]],0)))*(-1),TIME(HOUR(MIP[[#This Row],[S.B Sitrack]]),MINUTE(MIP[[#This Row],[S.B Sitrack]]),SECOND(HOUR(MIP[[#This Row],[S.B Sitrack]])))-(MIP[[#This Row],[S.B]]-TRUNC(MIP[[#This Row],[S.B]],0)))) -> - | AL22: =SUMIFS([1]!Tempoviagem[DISTANCIA (KM)],[1]!Tempoviagem[DATA INICIO],">="&MIP[[#This Row],[S.B Sitrack]],[1]!Tempoviagem[DATA FIM],"<="&MIP[[#This Row],[C.B Sitrack]],[1]!Tempoviagem[PLACA],MIP[[#This Row],[Placa]],[1]!Tempoviagem[DISTANCIA (KM)],">0",[1]!Tempoviagem[VELOCIDADE MÉDIA (KM/H)],"<150") -> 0 | AM22: =SUMIFS('[1]Tempo parado'!J:J,'[1]Tempo parado'!H:H,">="&MIP[[#This Row],[S.B Sitrack]],'[1]Tempo parado'!I:I,"<="&MIP[[#This Row],[C.B Sitrack]],'[1]Tempo parado'!B:B,MIP[[#This Row],[Placa]]) -> 0 | AN22: =IFERROR(MIP[[#This Row],[Tempo parado]]/(MIP[[#This Row],[C.B Sitrack]]-MIP[[#This Row],[S.B Sitrack]]),"") | AP22: =IF(AND(MIP[Exc]=0,MIP[Previsto / Realizado]="Realizado"),MIP[Sem],0) -> 19 | AQ22: =IF(AND(MIP[Exc]=0,MIP[Previsto / Realizado]="Realizado",ISBLANK(MIP[[#This Row],[S.B Sitrack]])=FALSE,ISBLANK(MIP[[#This Row],[C.B Sitrack]])=FALSE),MIP[Sem],0) -> 0
B23: =WEEKNUM(MIP[[#This Row],[Data]]) -> 19 | C23: 42868 | E23: JOILSON / VALDEI | F23: Previsto | H23: 2 | I23: 7 | J23: 2 | K23: 1 | L23: 5 | M23: 0.25 | N23: 0.27083333 | O23: 0.6375 | P23: 0.65833333 | S23: =MIP[[#This Row],[PT-1]]+MIP[[#This Row],[PT-2]]*2+MIP[[#This Row],[PT-3]]*3+MIP[[#This Row],[PT > 3 Pontos]] -> 19 | T23: =IF(MIP[[#This Row],[P.S]]-MIP[[#This Row],[U.P]]>=0,MIP[[#This Row],[P.S]]-MIP[[#This Row],[U.P]]+MIP[[#This Row],[S.B]]-MIP[[#This Row],[P.E]],1+MIP[[#This Row],[P.S]]-MIP[[#This Row],[U.P]]+MIP[[#This Row],[S.B]]-MIP[[#This Row],[P.E]])+MIP[[#This Row],[HH AC extra]] -> 0.041666667 | U23: =IF(MIP[[#This Row],[P.S]]-MIP[[#This Row],[U.P]]>=0,MIP[[#This Row],[P.S]]-MIP[[#This Row],[U.P]]+MIP[[#This Row],[S.B]]-MIP[[#This Row],[P.E]],1+MIP[[#This Row],[P.S]]-MIP[[#This Row],[U.P]]+MIP[[#This Row],[S.B]]-MIP[[#This Row],[P.E]]) -> 0.041666667 | V23: =MIP[[#This Row],[Eficiência]] -> 1.3139392 | W23: =SUMIFS([1]!Excecoes[Coluna1],[1]!Excecoes[Dia],MIP[[#This Row],[Data]],[1]!Excecoes[Equipe],MIP[[#This Row],[Equipe]],[1]!Excecoes[Previsto / Realizado],MIP[[#This Row],[Previsto / Realizado]])+IF(MIP[[#This Row],[HH AC TOT]]>0.5,1,0)+IF(AND(OR(ISBLANK(MIP[[#This Row],[P.E]]),ISBLANK(MIP[[#This Row],[S.B]]),ISBLANK(MIP[[#This Row],[U.P]]),ISBLANK(MIP[[#This Row],[P.S]])),ISTEXT(MIP[[#This Row],[Equipe]])),1,IF(MIP[[#This Row],[P.E]]>MIP[[#This Row],[S.B]],1,0)+IF([1]Excessões!$H$6="Ativadas",IF(MIP[[#This Row],[HH AC TOT]]<0.0083,1,0)+IF(OR(MIP[[#This Row],[Eficiência]]>2,MIP[[#This Row],[Eficiência]]<0.3),1,0),0)) -> 0 | X23: =IF(MIP[[#This Row],[P.S]]-MIP[[#This Row],[P.E]]<0,1+MIP[[#This Row],[P.S]]-MIP[[#This Row],[P.E]]-1/24,MIP[[#This Row],[P.S]]-MIP[[#This Row],[P.E]]-1/24) -> 0.36666667 | Y23: =MIP[[#This Row],[PT-1]]*$S$3+MIP[[#This Row],[PT-2]]*$T$3+MIP[[#This Row],[PT-3]]*$U$3+MIP[[#This Row],[PT > 3 Pontos]]*$V$3 -> 0.42703024 | Z23: =MIP[[#This Row],[HH disponível]]-MIP[[#This Row],[HH AC TOT]] -> 0.325 | AA23: =MIP[[#This Row],[HH Produtivo Total]]/MIP[[#This Row],[HH Trabalhado]] -> 1.3139392 | AB23: =MIP[[#This Row],[HH Produtivo Total]]/MIP[[#This Row],[HH disponível]] -> 1.1646279 | AC23: =MIP[[#This Row],[HH Trabalhado]]/MIP[[#This Row],[HH disponível]] -> 0.88636364 | AD23: =LEFT(MIP[[#This Row],[Equipe]], SEARCH("/",MIP[[#This Row],[Equipe]],1)-1) -> JOILSON | AE23: =RIGHT(MIP[[#This Row],[Equipe]], LEN(MIP[[#This Row],[Equipe]])-SEARCH("/",MIP[[#This Row],[Equipe]],1)) -> VALDEI | AF23: =COUNTIFS('[1]Tempo parado'!H:H,">="&MIP[[#This Row],[S.B Sitrack]],'[1]Tempo parado'!I:I,"<="&MIP[[#This Row],[C.B Sitrack]],'[1]Tempo parado'!B:B,MIP[[#This Row],[Placa]]) -> 0 | AK23: =IF(OR(MIP[[#This Row],[S.B Sitrack]]="",MIP[[#This Row],[C.B Sitrack]]=""),"-",IF(TIME(HOUR(MIP[[#This Row],[C.B Sitrack]]),MINUTE(MIP[[#This Row],[C.B Sitrack]]),SECOND(HOUR(MIP[[#This Row],[C.B Sitrack]])))-(MIP[[#This Row],[U.P]]-TRUNC(MIP[[#This Row],[U.P]],0))<0,(TIME(HOUR(MIP[[#This Row],[C.B Sitrack]]),MINUTE(MIP[[#This Row],[C.B Sitrack]]),SECOND(HOUR(MIP[[#This Row],[C.B Sitrack]])))-(MIP[[#This Row],[U.P]]-TRUNC(MIP[[#This Row],[U.P]],0)))*(-1),TIME(HOUR(MIP[[#This Row],[C.B Sitrack]]),MINUTE(MIP[[#This Row],[C.B Sitrack]]),SECOND(HOUR(MIP[[#This Row],[C.B Sitrack]])))-(MIP[[#This Row],[U.P]]-TRUNC(MIP[[#This Row],[U.P]],0)))+IF(TIME(HOUR(MIP[[#This Row],[S.B Sitrack]]),MINUTE(MIP[[#This Row],[S.B Sitrack]]),SECOND(HOUR(MIP[[#This Row],[S.B Sitrack]])))-(MIP[[#This Row],[S.B]]-TRUNC(MIP[[#This Row],[S.B]],0))<0,(TIME(HOUR(MIP[[#This Row],[S.B Sitrack]]),MINUTE(MIP[[#This Row],[S.B Sitrack]]),SECOND(HOUR(MIP[[#This Row],[S.B Sitrack]])))-(MIP[[#This Row],[S.B]]-TRUNC(MIP[[#This Row],[S.B]],0)))*(-1),TIME(HOUR(MIP[[#This Row],[S.B Sitrack]]),MINUTE(MIP[[#This Row],[S.B Sitrack]]),SECOND(HOUR(MIP[[#This Row],[S.B Sitrack]])))-(MIP[[#This Row],[S.B]]-TRUNC(MIP[[#This Row],[S.B]],0)))) -> - | AL23: =SUMIFS([1]!Tempoviagem[DISTANCIA (KM)],[1]!Tempoviagem[DATA INICIO],">="&MIP[[#This Row],[S.B Sitrack]],[1]!Tempoviagem[DATA FIM],"<="&MIP[[#This Row],[C.B Sitrack]],[1]!Tempoviagem[PLACA],MIP[[#This Row],[Placa]],[1]!Tempoviagem[DISTANCIA (KM)],">0",[1]!Tempoviagem[VELOCIDADE MÉDIA (KM/H)],"<150") -> 0 | AM23: =SUMIFS('[1]Tempo parado'!J:J,'[1]Tempo parado'!H:H,">="&MIP[[#This Row],[S.B Sitrack]],'[1]Tempo parado'!I:I,"<="&MIP[[#This Row],[C.B Sitrack]],'[1]Tempo parado'!B:B,MIP[[#This Row],[Placa]]) -> 0 | AN23: =IFERROR(MIP[[#This Row],[Tempo parado]]/(MIP[[#This Row],[C.B Sitrack]]-MIP[[#This Row],[S.B Sitrack]]),"") | AP23: =IF(AND(MIP[Exc]=0,MIP[Previsto / Realizado]="Realizado"),MIP[Sem],0) -> 0 | AQ23: =IF(AND(MIP[Exc]=0,MIP[Previsto / Realizado]="Realizado",ISBLANK(MIP[[#This Row],[S.B Sitrack]])=FALSE,ISBLANK(MIP[[#This Row],[C.B Sitrack]])=FALSE),MIP[Sem],0) -> 0
B24: =WEEKNUM(MIP[[#This Row],[Data]]) -> 19 | C24: 42868 | E24: JOILSON / VALDEI | F24: Realizado | H24: 2 | I24: 6 | J24: 1 | K24: 1 | L24: 0 | M24: 0.25 | N24: 0.28541667 | O24: 0.63888889 | P24: 0.65833333 | R24: Periodo muito chuvoso. | S24: =MIP[[#This Row],[PT-1]]+MIP[[#This Row],[PT-2]]*2+MIP[[#This Row],[PT-3]]*3+MIP[[#This Row],[PT > 3 Pontos]] -> 11 | T24: =IF(MIP[[#This Row],[P.S]]-MIP[[#This Row],[U.P]]>=0,MIP[[#This Row],[P.S]]-MIP[[#This Row],[U.P]]+MIP[[#This Row],[S.B]]-MIP[[#This Row],[P.E]],1+MIP[[#This Row],[P.S]]-MIP[[#This Row],[U.P]]+MIP[[#This Row],[S.B]]-MIP[[#This Row],[P.E]])+MIP[[#This Row],[HH AC extra]] -> 0.054861111 | U24: =IF(MIP[[#This Row],[P.S]]-MIP[[#This Row],[U.P]]>=0,MIP[[#This Row],[P.S]]-MIP[[#This Row],[U.P]]+MIP[[#This Row],[S.B]]-MIP[[#This Row],[P.E]],1+MIP[[#This Row],[P.S]]-MIP[[#This Row],[U.P]]+MIP[[#This Row],[S.B]]-MIP[[#This Row],[P.E]]) -> 0.054861111 | V24: =MIP[[#This Row],[Eficiência]] -> 0.8237684 | W24: =SUMIFS([1]!Excecoes[Coluna1],[1]!Excecoes[Dia],MIP[[#This Row],[Data]],[1]!Excecoes[Equipe],MIP[[#This Row],[Equipe]],[1]!Excecoes[Previsto / Realizado],MIP[[#This Row],[Previsto / Realizado]])+IF(MIP[[#This Row],[HH AC TOT]]>0.5,1,0)+IF(AND(OR(ISBLANK(MIP[[#This Row],[P.E]]),ISBLANK(MIP[[#This Row],[S.B]]),ISBLANK(MIP[[#This Row],[U.P]]),ISBLANK(MIP[[#This Row],[P.S]])),ISTEXT(MIP[[#This Row],[Equipe]])),1,IF(MIP[[#This Row],[P.E]]>MIP[[#This Row],[S.B]],1,0)+IF([1]Excessões!$H$6="Ativadas",IF(MIP[[#This Row],[HH AC TOT]]<0.0083,1,0)+IF(OR(MIP[[#This Row],[Eficiência]]>2,MIP[[#This Row],[Eficiência]]<0.3),1,0),0)) -> 0 | X24: =IF(MIP[[#This Row],[P.S]]-MIP[[#This Row],[P.E]]<0,1+MIP[[#This Row],[P.S]]-MIP[[#This Row],[P.E]]-1/24,MIP[[#This Row],[P.S]]-MIP[[#This Row],[P.E]]-1/24) -> 0.36666667 | Y24: =MIP[[#This Row],[PT-1]]*$S$3+MIP[[#This Row],[PT-2]]*$T$3+MIP[[#This Row],[PT-3]]*$U$3+MIP[[#This Row],[PT > 3 Pontos]]*$V$3 -> 0.25685556 | Z24: =MIP[[#This Row],[HH disponível]]-MIP[[#This Row],[HH AC TOT]] -> 0.31180556 | AA24: =MIP[[#This Row],[HH Produtivo Total]]/MIP[[#This Row],[HH Trabalhado]] -> 0.8237684 | AB24: =MIP[[#This Row],[HH Produtivo Total]]/MIP[[#This Row],[HH disponível]] -> 0.70051517 | AC24: =MIP[[#This Row],[HH Trabalhado]]/MIP[[#This Row],[HH disponível]] -> 0.85037879 | AD24: =LEFT(MIP[[#This Row],[Equipe]], SEARCH("/",MIP[[#This Row],[Equipe]],1)-1) -> JOILSON | AE24: =RIGHT(MIP[[#This Row],[Equipe]], LEN(MIP[[#This Row],[Equipe]])-SEARCH("/",MIP[[#This Row],[Equipe]],1)) -> VALDEI | AF24: =COUNTIFS('[1]Tempo parado'!H:H,">="&MIP[[#This Row],[S.B Sitrack]],'[1]Tempo parado'!I:I,"<="&MIP[[#This Row],[C.B Sitrack]],'[1]Tempo parado'!B:B,MIP[[#This Row],[Placa]]) -> 0 | AK24: =IF(OR(MIP[[#This Row],[S.B Sitrack]]="",MIP[[#This Row],[C.B Sitrack]]=""),"-",IF(TIME(HOUR(MIP[[#This Row],[C.B Sitrack]]),MINUTE(MIP[[#This Row],[C.B Sitrack]]),SECOND(HOUR(MIP[[#This Row],[C.B Sitrack]])))-(MIP[[#This Row],[U.P]]-TRUNC(MIP[[#This Row],[U.P]],0))<0,(TIME(HOUR(MIP[[#This Row],[C.B Sitrack]]),MINUTE(MIP[[#This Row],[C.B Sitrack]]),SECOND(HOUR(MIP[[#This Row],[C.B Sitrack]])))-(MIP[[#This Row],[U.P]]-TRUNC(MIP[[#This Row],[U.P]],0)))*(-1),TIME(HOUR(MIP[[#This Row],[C.B Sitrack]]),MINUTE(MIP[[#This Row],[C.B Sitrack]]),SECOND(HOUR(MIP[[#This Row],[C.B Sitrack]])))-(MIP[[#This Row],[U.P]]-TRUNC(MIP[[#This Row],[U.P]],0)))+IF(TIME(HOUR(MIP[[#This Row],[S.B Sitrack]]),MINUTE(MIP[[#This Row],[S.B Sitrack]]),SECOND(HOUR(MIP[[#This Row],[S.B Sitrack]])))-(MIP[[#This Row],[S.B]]-TRUNC(MIP[[#This Row],[S.B]],0))<0,(TIME(HOUR(MIP[[#This Row],[S.B Sitrack]]),MINUTE(MIP[[#This Row],[S.B Sitrack]]),SECOND(HOUR(MIP[[#This Row],[S.B Sitrack]])))-(MIP[[#This Row],[S.B]]-TRUNC(MIP[[#This Row],[S.B]],0)))*(-1),TIME(HOUR(MIP[[#This Row],[S.B Sitrack]]),MINUTE(MIP[[#This Row],[S.B Sitrack]]),SECOND(HOUR(MIP[[#This Row],[S.B Sitrack]])))-(MIP[[#This Row],[S.B]]-TRUNC(MIP[[#This Row],[S.B]],0)))) -> - | AL24: =SUMIFS([1]!Tempoviagem[DISTANCIA (KM)],[1]!Tempoviagem[DATA INICIO],">="&MIP[[#This Row],[S.B Sitrack]],[1]!Tempoviagem[DATA FIM],"<="&MIP[[#This Row],[C.B Sitrack]],[1]!Tempoviagem[PLACA],MIP[[#This Row],[Placa]],[1]!Tempoviagem[DISTANCIA (KM)],">0",[1]!Tempoviagem[VELOCIDADE MÉDIA (KM/H)],"<150") -> 0 | AM24: =SUMIFS('[1]Tempo parado'!J:J,'[1]Tempo parado'!H:H,">="&MIP[[#This Row],[S.B Sitrack]],'[1]Tempo parado'!I:I,"<="&MIP[[#This Row],[C.B Sitrack]],'[1]Tempo parado'!B:B,MIP[[#This Row],[Placa]]) -> 0 | AN24: =IFERROR(MIP[[#This Row],[Tempo parado]]/(MIP[[#This Row],[C.B Sitrack]]-MIP[[#This Row],[S.B Sitrack]]),"") | AP24: =IF(AND(MIP[Exc]=0,MIP[Previsto / Realizado]="Realizado"),MIP[Sem],0) -> 19 | AQ24: =IF(AND(MIP[Exc]=0,MIP[Previsto / Realizado]="Realizado",ISBLANK(MIP[[#This Row],[S.B Sitrack]])=FALSE,ISBLANK(MIP[[#This Row],[C.B Sitrack]])=FALSE),MIP[Sem],0) -> 0
B25: =WEEKNUM(MIP[[#This Row],[Data]]) -> 20 | C25: 42869 | E25: JOILSON / VALDEI | F25: Previsto | H25: 2 | I25: 4 | J25: 4 | K25: 1 | L25: 0 | M25: 0.25 | N25: 0.27083333 | O25: 0.6375 | P25: 0.65833333 | S25: =MIP[[#This Row],[PT-1]]+MIP[[#This Row],[PT-2]]*2+MIP[[#This Row],[PT-3]]*3+MIP[[#This Row],[PT > 3 Pontos]] -> 15 | T25: =IF(MIP[[#This Row],[P.S]]-MIP[[#This Row],[U.P]]>=0,MIP[[#This Row],[P.S]]-MIP[[#This Row],[U.P]]+MIP[[#This Row],[S.B]]-MIP[[#This Row],[P.E]],1+MIP[[#This Row],[P.S]]-MIP[[#This Row],[U.P]]+MIP[[#This Row],[S.B]]-MIP[[#This Row],[P.E]])+MIP[[#This Row],[HH AC extra]] -> 0.041666667 | U25: =IF(MIP[[#This Row],[P.S]]-MIP[[#This Row],[U.P]]>=0,MIP[[#This Row],[P.S]]-MIP[[#This Row],[U.P]]+MIP[[#This Row],[S.B]]-MIP[[#This Row],[P.E]],1+MIP[[#This Row],[P.S]]-MIP[[#This Row],[U.P]]+MIP[[#This Row],[S.B]]-MIP[[#This Row],[P.E]]) -> 0.041666667 | V25: =MIP[[#This Row],[Eficiência]] -> 1.0416312 | W25: =SUMIFS([1]!Excecoes[Coluna1],[1]!Excecoes[Dia],MIP[[#This Row],[Data]],[1]!Excecoes[Equipe],MIP[[#This Row],[Equipe]],[1]!Excecoes[Previsto / Realizado],MIP[[#This Row],[Previsto / Realizado]])+IF(MIP[[#This Row],[HH AC TOT]]>0.5,1,0)+IF(AND(OR(ISBLANK(MIP[[#This Row],[P.E]]),ISBLANK(MIP[[#This Row],[S.B]]),ISBLANK(MIP[[#This Row],[U.P]]),ISBLANK(MIP[[#This Row],[P.S]])),ISTEXT(MIP[[#This Row],[Equipe]])),1,IF(MIP[[#This Row],[P.E]]>MIP[[#This Row],[S.B]],1,0)+IF([1]Excessões!$H$6="Ativadas",IF(MIP[[#This Row],[HH AC TOT]]<0.0083,1,0)+IF(OR(MIP[[#This Row],[Eficiência]]>2,MIP[[#This Row],[Eficiência]]<0.3),1,0),0)) -> 0 | X25: =IF(MIP[[#This Row],[P.S]]-MIP[[#This Row],[P.E]]<0,1+MIP[[#This Row],[P.S]]-MIP[[#This Row],[P.E]]-1/24,MIP[[#This Row],[P.S]]-MIP[[#This Row],[P.E]]-1/24) -> 0.36666667 | Y25: =MIP[[#This Row],[PT-1]]*$S$3+MIP[[#This Row],[PT-2]]*$T$3+MIP[[#This Row],[PT-3]]*$U$3+MIP[[#This Row],[PT > 3 Pontos]]*$V$3 -> 0.33853016 | Z25: =MIP[[#This Row],[HH disponível]]-MIP[[#This Row],[HH AC TOT]] -> 0.325 | AA25: =MIP[[#This Row],[HH Produtivo Total]]/MIP[[#This Row],[HH Trabalhado]] -> 1.0416312 | AB25: =MIP[[#This Row],[HH Produtivo Total]]/MIP[[#This Row],[HH disponível]] -> 0.92326406 | AC25: =MIP[[#This Row],[HH Trabalhado]]/MIP[[#This Row],[HH disponível]] -> 0.88636364 | AD25: =LEFT(MIP[[#This Row],[Equipe]], SEARCH("/",MIP[[#This Row],[Equipe]],1)-1) -> JOILSON | AE25: =RIGHT(MIP[[#This Row],[Equipe]], LEN(MIP[[#This Row],[Equipe]])-SEARCH("/",MIP[[#This Row],[Equipe]],1)) -> VALDEI | AF25: =COUNTIFS('[1]Tempo parado'!H:H,">="&MIP[[#This Row],[S.B Sitrack]],'[1]Tempo parado'!I:I,"<="&MIP[[#This Row],[C.B Sitrack]],'[1]Tempo parado'!B:B,MIP[[#This Row],[Placa]]) -> 0 | AK25: =IF(OR(MIP[[#This Row],[S.B Sitrack]]="",MIP[[#This Row],[C.B Sitrack]]=""),"-",IF(TIME(HOUR(MIP[[#This Row],[C.B Sitrack]]),MINUTE(MIP[[#This Row],[C.B Sitrack]]),SECOND(HOUR(MIP[[#This Row],[C.B Sitrack]])))-(MIP[[#This Row],[U.P]]-TRUNC(MIP[[#This Row],[U.P]],0))<0,(TIME(HOUR(MIP[[#This Row],[C.B Sitrack]]),MINUTE(MIP[[#This Row],[C.B Sitrack]]),SECOND(HOUR(MIP[[#This Row],[C.B Sitrack]])))-(MIP[[#This Row],[U.P]]-TRUNC(MIP[[#This Row],[U.P]],0)))*(-1),TIME(HOUR(MIP[[#This Row],[C.B Sitrack]]),MINUTE(MIP[[#This Row],[C.B Sitrack]]),SECOND(HOUR(MIP[[#This Row],[C.B Sitrack]])))-(MIP[[#This Row],[U.P]]-TRUNC(MIP[[#This Row],[U.P]],0)))+IF(TIME(HOUR(MIP[[#This Row],[S.B Sitrack]]),MINUTE(MIP[[#This Row],[S.B Sitrack]]),SECOND(HOUR(MIP[[#This Row],[S.B Sitrack]])))-(MIP[[#This Row],[S.B]]-TRUNC(MIP[[#This Row],[S.B]],0))<0,(TIME(HOUR(MIP[[#This Row],[S.B Sitrack]]),MINUTE(MIP[[#This Row],[S.B Sitrack]]),SECOND(HOUR(MIP[[#This Row],[S.B Sitrack]])))-(MIP[[#This Row],[S.B]]-TRUNC(MIP[[#This Row],[S.B]],0)))*(-1),TIME(HOUR(MIP[[#This Row],[S.B Sitrack]]),MINUTE(MIP[[#This Row],[S.B Sitrack]]),SECOND(HOUR(MIP[[#This Row],[S.B Sitrack]])))-(MIP[[#This Row],[S.B]]-TRUNC(MIP[[#This Row],[S.B]],0)))) -> - | AL25: =SUMIFS([1]!Tempoviagem[DISTANCIA (KM)],[1]!Tempoviagem[DATA INICIO],">="&MIP[[#This Row],[S.B Sitrack]],[1]!Tempoviagem[DATA FIM],"<="&MIP[[#This Row],[C.B Sitrack]],[1]!Tempoviagem[PLACA],MIP[[#This Row],[Placa]],[1]!Tempoviagem[DISTANCIA (KM)],">0",[1]!Tempoviagem[VELOCIDADE MÉDIA (KM/H)],"<150") -> 0 | AM25: =SUMIFS('[1]Tempo parado'!J:J,'[1]Tempo parado'!H:H,">="&MIP[[#This Row],[S.B Sitrack]],'[1]Tempo parado'!I:I,"<="&MIP[[#This Row],[C.B Sitrack]],'[1]Tempo parado'!B:B,MIP[[#This Row],[Placa]]) -> 0 | AN25: =IFERROR(MIP[[#This Row],[Tempo parado]]/(MIP[[#This Row],[C.B Sitrack]]-MIP[[#This Row],[S.B Sitrack]]),"") | AP25: =IF(AND(MIP[Exc]=0,MIP[Previsto / Realizado]="Realizado"),MIP[Sem],0) -> 0 | AQ25: =IF(AND(MIP[Exc]=0,MIP[Previsto / Realizado]="Realizado",ISBLANK(MIP[[#This Row],[S.B Sitrack]])=FALSE,ISBLANK(MIP[[#This Row],[C.B Sitrack]])=FALSE),MIP[Sem],0) -> 0
B26: =WEEKNUM(MIP[[#This Row],[Data]]) -> 20 | C26: 42869 | E26: JOILSON / VALDEI | F26: Realizado | H26: 2 | I26: 2 | J26: 4 | K26: 0 | L26: 0 | M26: 0.25 | N26: 0.28472222 | O26: 0.64166667 | P26: 0.65833333 | R26: Periodo muito chuvoso. | S26: =MIP[[#This Row],[PT-1]]+MIP[[#This Row],[PT-2]]*2+MIP[[#This Row],[PT-3]]*3+MIP[[#This Row],[PT > 3 Pontos]] -> 10 | T26: =IF(MIP[[#This Row],[P.S]]-MIP[[#This Row],[U.P]]>=0,MIP[[#This Row],[P.S]]-MIP[[#This Row],[U.P]]+MIP[[#This Row],[S.B]]-MIP[[#This Row],[P.E]],1+MIP[[#This Row],[P.S]]-MIP[[#This Row],[U.P]]+MIP[[#This Row],[S.B]]-MIP[[#This Row],[P.E]])+MIP[[#This Row],[HH AC extra]] -> 0.051388889 | U26: =IF(MIP[[#This Row],[P.S]]-MIP[[#This Row],[U.P]]>=0,MIP[[#This Row],[P.S]]-MIP[[#This Row],[U.P]]+MIP[[#This Row],[S.B]]-MIP[[#This Row],[P.E]],1+MIP[[#This Row],[P.S]]-MIP[[#This Row],[U.P]]+MIP[[#This Row],[S.B]]-MIP[[#This Row],[P.E]]) -> 0.051388889 | V26: =MIP[[#This Row],[Eficiência]] -> 0.71583469 | W26: =SUMIFS([1]!Excecoes[Coluna1],[1]!Excecoes[Dia],MIP[[#This Row],[Data]],[1]!Excecoes[Equipe],MIP[[#This Row],[Equipe]],[1]!Excecoes[Previsto / Realizado],MIP[[#This Row],[Previsto / Realizado]])+IF(MIP[[#This Row],[HH AC TOT]]>0.5,1,0)+IF(AND(OR(ISBLANK(MIP[[#This Row],[P.E]]),ISBLANK(MIP[[#This Row],[S.B]]),ISBLANK(MIP[[#This Row],[U.P]]),ISBLANK(MIP[[#This Row],[P.S]])),ISTEXT(MIP[[#This Row],[Equipe]])),1,IF(MIP[[#This Row],[P.E]]>MIP[[#This Row],[S.B]],1,0)+IF([1]Excessões!$H$6="Ativadas",IF(MIP[[#This Row],[HH AC TOT]]<0.0083,1,0)+IF(OR(MIP[[#This Row],[Eficiência]]>2,MIP[[#This Row],[Eficiência]]<0.3),1,0),0)) -> 0 | X26: =IF(MIP[[#This Row],[P.S]]-MIP[[#This Row],[P.E]]<0,1+MIP[[#This Row],[P.S]]-MIP[[#This Row],[P.E]]-1/24,MIP[[#This Row],[P.S]]-MIP[[#This Row],[P.E]]-1/24) -> 0.36666667 | Y26: =MIP[[#This Row],[PT-1]]*$S$3+MIP[[#This Row],[PT-2]]*$T$3+MIP[[#This Row],[PT-3]]*$U$3+MIP[[#This Row],[PT > 3 Pontos]]*$V$3 -> 0.22568677 | Z26: =MIP[[#This Row],[HH disponível]]-MIP[[#This Row],[HH AC TOT]] -> 0.31527778 | AA26: =MIP[[#This Row],[HH Produtivo Total]]/MIP[[#This Row],[HH Trabalhado]] -> 0.71583469 | AB26: =MIP[[#This Row],[HH Produtivo Total]]/MIP[[#This Row],[HH disponível]] -> 0.61550937 | AC26: =MIP[[#This Row],[HH Trabalhado]]/MIP[[#This Row],[HH disponível]] -> 0.85984848 | AD26: =LEFT(MIP[[#This Row],[Equipe]], SEARCH("/",MIP[[#This Row],[Equipe]],1)-1) -> JOILSON | AE26: =RIGHT(MIP[[#This Row],[Equipe]], LEN(MIP[[#This Row],[Equipe]])-SEARCH("/",MIP[[#This Row],[Equipe]],1)) -> VALDEI | AF26: =COUNTIFS('[1]Tempo parado'!H:H,">="&MIP[[#This Row],[S.B Sitrack]],'[1]Tempo parado'!I:I,"<="&MIP[[#This Row],[C.B Sitrack]],'[1]Tempo parado'!B:B,MIP[[#This Row],[Placa]]) -> 0 | AK26: =IF(OR(MIP[[#This Row],[S.B Sitrack]]="",MIP[[#This Row],[C.B Sitrack]]=""),"-",IF(TIME(HOUR(MIP[[#This Row],[C.B Sitrack]]),MINUTE(MIP[[#This Row],[C.B Sitrack]]),SECOND(HOUR(MIP[[#This Row],[C.B Sitrack]])))-(MIP[[#This Row],[U.P]]-TRUNC(MIP[[#This Row],[U.P]],0))<0,(TIME(HOUR(MIP[[#This Row],[C.B Sitrack]]),MINUTE(MIP[[#This Row],[C.B Sitrack]]),SECOND(HOUR(MIP[[#This Row],[C.B Sitrack]])))-(MIP[[#This Row],[U.P]]-TRUNC(MIP[[#This Row],[U.P]],0)))*(-1),TIME(HOUR(MIP[[#This Row],[C.B Sitrack]]),MINUTE(MIP[[#This Row],[C.B Sitrack]]),SECOND(HOUR(MIP[[#This Row],[C.B Sitrack]])))-(MIP[[#This Row],[U.P]]-TRUNC(MIP[[#This Row],[U.P]],0)))+IF(TIME(HOUR(MIP[[#This Row],[S.B Sitrack]]),MINUTE(MIP[[#This Row],[S.B Sitrack]]),SECOND(HOUR(MIP[[#This Row],[S.B Sitrack]])))-(MIP[[#This Row],[S.B]]-TRUNC(MIP[[#This Row],[S.B]],0))<0,(TIME(HOUR(MIP[[#This Row],[S.B Sitrack]]),MINUTE(MIP[[#This Row],[S.B Sitrack]]),SECOND(HOUR(MIP[[#This Row],[S.B Sitrack]])))-(MIP[[#This Row],[S.B]]-TRUNC(MIP[[#This Row],[S.B]],0)))*(-1),TIME(HOUR(MIP[[#This Row],[S.B Sitrack]]),MINUTE(MIP[[#This Row],[S.B Sitrack]]),SECOND(HOUR(MIP[[#This Row],[S.B Sitrack]])))-(MIP[[#This Row],[S.B]]-TRUNC(MIP[[#This Row],[S.B]],0)))) -> - | AL26: =SUMIFS([1]!Tempoviagem[DISTANCIA (KM)],[1]!Tempoviagem[DATA INICIO],">="&MIP[[#This Row],[S.B Sitrack]],[1]!Tempoviagem[DATA FIM],"<="&MIP[[#This Row],[C.B Sitrack]],[1]!Tempoviagem[PLACA],MIP[[#This Row],[Placa]],[1]!Tempoviagem[DISTANCIA (KM)],">0",[1]!Tempoviagem[VELOCIDADE MÉDIA (KM/H)],"<150") -> 0 | AM26: =SUMIFS('[1]Tempo parado'!J:J,'[1]Tempo parado'!H:H,">="&MIP[[#This Row],[S.B Sitrack]],'[1]Tempo parado'!I:I,"<="&MIP[[#This Row],[C.B Sitrack]],'[1]Tempo parado'!B:B,MIP[[#This Row],[Placa]]) -> 0 | AN26: =IFERROR(MIP[[#This Row],[Tempo parado]]/(MIP[[#This Row],[C.B Sitrack]]-MIP[[#This Row],[S.B Sitrack]]),"") | AP26: =IF(AND(MIP[Exc]=0,MIP[Previsto / Realizado]="Realizado"),MIP[Sem],0) -> 20 | AQ26: =IF(AND(MIP[Exc]=0,MIP[Previsto / Realizado]="Realizado",ISBLANK(MIP[[#This Row],[S.B Sitrack]])=FALSE,ISBLANK(MIP[[#This Row],[C.B Sitrack]])=FALSE),MIP[Sem],0) -> 0
B27: =WEEKNUM(MIP[[#This Row],[Data]]) -> 20 | C27: 42869 | E27: ANDERSON / CLAUDINEY | F27: Previsto | H27: 2 | I27: 4 | J27: 4 | K27: 1 | L27: 0 | M27: 0.625 | N27: 0.64583333 | O27: =1+18/24/60 -> 1.0125 | P27: =1+48/24/60 -> 1.0333333 | S27: =MIP[[#This Row],[PT-1]]+MIP[[#This Row],[PT-2]]*2+MIP[[#This Row],[PT-3]]*3+MIP[[#This Row],[PT > 3 Pontos]] -> 15 | T27: =IF(MIP[[#This Row],[P.S]]-MIP[[#This Row],[U.P]]>=0,MIP[[#This Row],[P.S]]-MIP[[#This Row],[U.P]]+MIP[[#This Row],[S.B]]-MIP[[#This Row],[P.E]],1+MIP[[#This Row],[P.S]]-MIP[[#This Row],[U.P]]+MIP[[#This Row],[S.B]]-MIP[[#This Row],[P.E]])+MIP[[#This Row],[HH AC extra]] -> 0.041666667 | U27: =IF(MIP[[#This Row],[P.S]]-MIP[[#This Row],[U.P]]>=0,MIP[[#This Row],[P.S]]-MIP[[#This Row],[U.P]]+MIP[[#This Row],[S.B]]-MIP[[#This Row],[P.E]],1+MIP[[#This Row],[P.S]]-MIP[[#This Row],[U.P]]+MIP[[#This Row],[S.B]]-MIP[[#This Row],[P.E]]) -> 0.041666667 | V27: =MIP[[#This Row],[Eficiência]] -> 1.0416312 | W27: =SUMIFS([1]!Excecoes[Coluna1],[1]!Excecoes[Dia],MIP[[#This Row],[Data]],[1]!Excecoes[Equipe],MIP[[#This Row],[Equipe]],[1]!Excecoes[Previsto / Realizado],MIP[[#This Row],[Previsto / Realizado]])+IF(MIP[[#This Row],[HH AC TOT]]>0.5,1,0)+IF(AND(OR(ISBLANK(MIP[[#This Row],[P.E]]),ISBLANK(MIP[[#This Row],[S.B]]),ISBLANK(MIP[[#This Row],[U.P]]),ISBLANK(MIP[[#This Row],[P.S]])),ISTEXT(MIP[[#This Row],[Equipe]])),1,IF(MIP[[#This Row],[P.E]]>MIP[[#This Row],[S.B]],1,0)+IF([1]Excessões!$H$6="Ativadas",IF(MIP[[#This Row],[HH AC TOT]]<0.0083,1,0)+IF(OR(MIP[[#This Row],[Eficiência]]>2,MIP[[#This Row],[Eficiência]]<0.3),1,0),0)) -> 0 | X27: =IF(MIP[[#This Row],[P.S]]-MIP[[#This Row],[P.E]]<0,1+MIP[[#This Row],[P.S]]-MIP[[#This Row],[P.E]]-1/24,MIP[[#This Row],[P.S]]-MIP[[#This Row],[P.E]]-1/24) -> 0.36666667 | Y27: =MIP[[#This Row],[PT-1]]*$S$3+MIP[[#This Row],[PT-2]]*$T$3+MIP[[#This Row],[PT-3]]*$U$3+MIP[[#This Row],[PT > 3 Pontos]]*$V$3 -> 0.33853016 | Z27: =MIP[[#This Row],[HH disponível]]-MIP[[#This Row],[HH AC TOT]] -> 0.325 | AA27: =MIP[[#This Row],[HH Produtivo Total]]/MIP[[#This Row],[HH Trabalhado]] -> 1.0416312 | AB27: =MIP[[#This Row],[HH Produtivo Total]]/MIP[[#This Row],[HH disponível]] -> 0.92326406 | AC27: =MIP[[#This Row],[HH Trabalhado]]/MIP[[#This Row],[HH disponível]] -> 0.88636364 | AD27: =LEFT(MIP[[#This Row],[Equipe]], SEARCH("/",MIP[[#This Row],[Equipe]],1)-1) -> ANDERSON | AE27: =RIGHT(MIP[[#This Row],[Equipe]], LEN(MIP[[#This Row],[Equipe]])-SEARCH("/",MIP[[#This Row],[Equipe]],1)) -> CLAUDINEY | AF27: =COUNTIFS('[1]Tempo parado'!H:H,">="&MIP[[#This Row],[S.B Sitrack]],'[1]Tempo parado'!I:I,"<="&MIP[[#This Row],[C.B Sitrack]],'[1]Tempo parado'!B:B,MIP[[#This Row],[Placa]]) -> 0 | AK27: =IF(OR(MIP[[#This Row],[S.B Sitrack]]="",MIP[[#This Row],[C.B Sitrack]]=""),"-",IF(TIME(HOUR(MIP[[#This Row],[C.B Sitrack]]),MINUTE(MIP[[#This Row],[C.B Sitrack]]),SECOND(HOUR(MIP[[#This Row],[C.B Sitrack]])))-(MIP[[#This Row],[U.P]]-TRUNC(MIP[[#This Row],[U.P]],0))<0,(TIME(HOUR(MIP[[#This Row],[C.B Sitrack]]),MINUTE(MIP[[#This Row],[C.B Sitrack]]),SECOND(HOUR(MIP[[#This Row],[C.B Sitrack]])))-(MIP[[#This Row],[U.P]]-TRUNC(MIP[[#This Row],[U.P]],0)))*(-1),TIME(HOUR(MIP[[#This Row],[C.B Sitrack]]),MINUTE(MIP[[#This Row],[C.B Sitrack]]),SECOND(HOUR(MIP[[#This Row],[C.B Sitrack]])))-(MIP[[#This Row],[U.P]]-TRUNC(MIP[[#This Row],[U.P]],0)))+IF(TIME(HOUR(MIP[[#This Row],[S.B Sitrack]]),MINUTE(MIP[[#This Row],[S.B Sitrack]]),SECOND(HOUR(MIP[[#This Row],[S.B Sitrack]])))-(MIP[[#This Row],[S.B]]-TRUNC(MIP[[#This Row],[S.B]],0))<0,(TIME(HOUR(MIP[[#This Row],[S.B Sitrack]]),MINUTE(MIP[[#This Row],[S.B Sitrack]]),SECOND(HOUR(MIP[[#This Row],[S.B Sitrack]])))-(MIP[[#This Row],[S.B]]-TRUNC(MIP[[#This Row],[S.B]],0)))*(-1),TIME(HOUR(MIP[[#This Row],[S.B Sitrack]]),MINUTE(MIP[[#This Row],[S.B Sitrack]]),SECOND(HOUR(MIP[[#This Row],[S.B Sitrack]])))-(MIP[[#This Row],[S.B]]-TRUNC(MIP[[#This Row],[S.B]],0)))) -> - | AL27: =SUMIFS([1]!Tempoviagem[DISTANCIA (KM)],[1]!Tempoviagem[DATA INICIO],">="&MIP[[#This Row],[S.B Sitrack]],[1]!Tempoviagem[DATA FIM],"<="&MIP[[#This Row],[C.B Sitrack]],[1]!Tempoviagem[PLACA],MIP[[#This Row],[Placa]],[1]!Tempoviagem[DISTANCIA (KM)],">0",[1]!Tempoviagem[VELOCIDADE MÉDIA (KM/H)],"<150") -> 0 | AM27: =SUMIFS('[1]Tempo parado'!J:J,'[1]Tempo parado'!H:H,">="&MIP[[#This Row],[S.B Sitrack]],'[1]Tempo parado'!I:I,"<="&MIP[[#This Row],[C.B Sitrack]],'[1]Tempo parado'!B:B,MIP[[#This Row],[Placa]]) -> 0 | AN27: =IFERROR(MIP[[#This Row],[Tempo parado]]/(MIP[[#This Row],[C.B Sitrack]]-MIP[[#This Row],[S.B Sitrack]]),"") | AP27: =IF(AND(MIP[Exc]=0,MIP[Previsto / Realizado]="Realizado"),MIP[Sem],0) -> 0 | AQ27: =IF(AND(MIP[Exc]=0,MIP[Previsto / Realizado]="Realizado",ISBLANK(MIP[[#This Row],[S.B Sitrack]])=FALSE,ISBLANK(MIP[[#This Row],[C.B Sitrack]])=FALSE),MIP[Sem],0) -> 0
B28: =WEEKNUM(MIP[[#This Row],[Data]]) -> 20 | C28: 42869 | E28: ANDERSON / CLAUDINEY | F28: Realizado | H28: 2 | I28: 1 | J28: 4 | K28: 0 | L28: 0 | M28: 0.64583333 | N28: 0.66666667 | O28: =1+6/24/60 -> 1.0041667 | P28: =1+48/24/60 -> 1.0333333 | R28: Periodo muito chuvoso, atraso do colaborador Claudiney, que justificou ter participado de um almoço de familia por conta do dia das maes. | S28: =MIP[[#This Row],[PT-1]]+MIP[[#This Row],[PT-2]]*2+MIP[[#This Row],[PT-3]]*3+MIP[[#This Row],[PT > 3 Pontos]] -> 9 | T28: =IF(MIP[[#This Row],[P.S]]-MIP[[#This Row],[U.P]]>=0,MIP[[#This Row],[P.S]]-MIP[[#This Row],[U.P]]+MIP[[#This Row],[S.B]]-MIP[[#This Row],[P.E]],1+MIP[[#This Row],[P.S]]-MIP[[#This Row],[U.P]]+MIP[[#This Row],[S.B]]-MIP[[#This Row],[P.E]])+MIP[[#This Row],[HH AC extra]] -> 0.05 | U28: =IF(MIP[[#This Row],[P.S]]-MIP[[#This Row],[U.P]]>=0,MIP[[#This Row],[P.S]]-MIP[[#This Row],[U.P]]+MIP[[#This Row],[S.B]]-MIP[[#This Row],[P.E]],1+MIP[[#This Row],[P.S]]-MIP[[#This Row],[U.P]]+MIP[[#This Row],[S.B]]-MIP[[#This Row],[P.E]]) -> 0.05 | V28: =MIP[[#This Row],[Eficiência]] -> 0.67829042 | W28: =SUMIFS([1]!Excecoes[Coluna1],[1]!Excecoes[Dia],MIP[[#This Row],[Data]],[1]!Excecoes[Equipe],MIP[[#This Row],[Equipe]],[1]!Excecoes[Previsto / Realizado],MIP[[#This Row],[Previsto / Realizado]])+IF(MIP[[#This Row],[HH AC TOT]]>0.5,1,0)+IF(AND(OR(ISBLANK(MIP[[#This Row],[P.E]]),ISBLANK(MIP[[#This Row],[S.B]]),ISBLANK(MIP[[#This Row],[U.P]]),ISBLANK(MIP[[#This Row],[P.S]])),ISTEXT(MIP[[#This Row],[Equipe]])),1,IF(MIP[[#This Row],[P.E]]>MIP[[#This Row],[S.B]],1,0)+IF([1]Excessões!$H$6="Ativadas",IF(MIP[[#This Row],[HH AC TOT]]<0.0083,1,0)+IF(OR(MIP[[#This Row],[Eficiência]]>2,MIP[[#This Row],[Eficiência]]<0.3),1,0),0)) -> 0 | X28: =IF(MIP[[#This Row],[P.S]]-MIP[[#This Row],[P.E]]<0,1+MIP[[#This Row],[P.S]]-MIP[[#This Row],[P.E]]-1/24,MIP[[#This Row],[P.S]]-MIP[[#This Row],[P.E]]-1/24) -> 0.34583333 | Y28: =MIP[[#This Row],[PT-1]]*$S$3+MIP[[#This Row],[PT-2]]*$T$3+MIP[[#This Row],[PT-3]]*$U$3+MIP[[#This Row],[PT > 3 Pontos]]*$V$3 -> 0.20066092 | Z28: =MIP[[#This Row],[HH disponível]]-MIP[[#This Row],[HH AC TOT]] -> 0.29583333 | AA28: =MIP[[#This Row],[HH Produtivo Total]]/MIP[[#This Row],[HH Trabalhado]] -> 0.67829042 | AB28: =MIP[[#This Row],[HH Produtivo Total]]/MIP[[#This Row],[HH disponível]] -> 0.58022434 | AC28: =MIP[[#This Row],[HH Trabalhado]]/MIP[[#This Row],[HH disponível]] -> 0.85542169 | AD28: =LEFT(MIP[[#This Row],[Equipe]], SEARCH("/",MIP[[#This Row],[Equipe]],1)-1) -> ANDERSON | AE28: =RIGHT(MIP[[#This Row],[Equipe]], LEN(MIP[[#This Row],[Equipe]])-SEARCH("/",MIP[[#This Row],[Equipe]],1)) -> CLAUDINEY | AF28: =COUNTIFS('[1]Tempo parado'!H:H,">="&MIP[[#This Row],[S.B Sitrack]],'[1]Tempo parado'!I:I,"<="&MIP[[#This Row],[C.B Sitrack]],'[1]Tempo parado'!B:B,MIP[[#This Row],[Placa]]) -> 0 | AK28: =IF(OR(MIP[[#This Row],[S.B Sitrack]]="",MIP[[#This Row],[C.B Sitrack]]=""),"-",IF(TIME(HOUR(MIP[[#This Row],[C.B Sitrack]]),MINUTE(MIP[[#This Row],[C.B Sitrack]]),SECOND(HOUR(MIP[[#This Row],[C.B Sitrack]])))-(MIP[[#This Row],[U.P]]-TRUNC(MIP[[#This Row],[U.P]],0))<0,(TIME(HOUR(MIP[[#This Row],[C.B Sitrack]]),MINUTE(MIP[[#This Row],[C.B Sitrack]]),SECOND(HOUR(MIP[[#This Row],[C.B Sitrack]])))-(MIP[[#This Row],[U.P]]-TRUNC(MIP[[#This Row],[U.P]],0)))*(-1),TIME(HOUR(MIP[[#This Row],[C.B Sitrack]]),MINUTE(MIP[[#This Row],[C.B Sitrack]]),SECOND(HOUR(MIP[[#This Row],[C.B Sitrack]])))-(MIP[[#This Row],[U.P]]-TRUNC(MIP[[#This Row],[U.P]],0)))+IF(TIME(HOUR(MIP[[#This Row],[S.B Sitrack]]),MINUTE(MIP[[#This Row],[S.B Sitrack]]),SECOND(HOUR(MIP[[#This Row],[S.B Sitrack]])))-(MIP[[#This Row],[S.B]]-TRUNC(MIP[[#This Row],[S.B]],0))<0,(TIME(HOUR(MIP[[#This Row],[S.B Sitrack]]),MINUTE(MIP[[#This Row],[S.B Sitrack]]),SECOND(HOUR(MIP[[#This Row],[S.B Sitrack]])))-(MIP[[#This Row],[S.B]]-TRUNC(MIP[[#This Row],[S.B]],0)))*(-1),TIME(HOUR(MIP[[#This Row],[S.B Sitrack]]),MINUTE(MIP[[#This Row],[S.B Sitrack]]),SECOND(HOUR(MIP[[#This Row],[S.B Sitrack]])))-(MIP[[#This Row],[S.B]]-TRUNC(MIP[[#This Row],[S.B]],0)))) -> - | AL28: =SUMIFS([1]!Tempoviagem[DISTANCIA (KM)],[1]!Tempoviagem[DATA INICIO],">="&MIP[[#This Row],[S.B Sitrack]],[1]!Tempoviagem[DATA FIM],"<="&MIP[[#This Row],[C.B Sitrack]],[1]!Tempoviagem[PLACA],MIP[[#This Row],[Placa]],[1]!Tempoviagem[DISTANCIA (KM)],">0",[1]!Tempoviagem[VELOCIDADE MÉDIA (KM/H)],"<150") -> 0 | AM28: =SUMIFS('[1]Tempo parado'!J:J,'[1]Tempo parado'!H:H,">="&MIP[[#This Row],[S.B Sitrack]],'[1]Tempo parado'!I:I,"<="&MIP[[#This Row],[C.B Sitrack]],'[1]Tempo parado'!B:B,MIP[[#This Row],[Placa]]) -> 0 | AN28: =IFERROR(MIP[[#This Row],[Tempo parado]]/(MIP[[#This Row],[C.B Sitrack]]-MIP[[#This Row],[S.B Sitrack]]),"") | AP28: =IF(AND(MIP[Exc]=0,MIP[Previsto / Realizado]="Realizado"),MIP[Sem],0) -> 20 | AQ28: =IF(AND(MIP[Exc]=0,MIP[Previsto / Realizado]="Realizado",ISBLANK(MIP[[#This Row],[S.B Sitrack]])=FALSE,ISBLANK(MIP[[#This Row],[C.B Sitrack]])=FALSE),MIP[Sem],0) -> 0
B29: =WEEKNUM(MIP[[#This Row],[Data]]) -> 20 | C29: 42871 | E29: Joilson / Diego | F29: Previsto | H29: 2 | I29: 4 | J29: 1 | K29: 0 | L29: 15 | M29: 0.25 | N29: 0.27083333 | O29: 0.6375 | P29: 0.65833333 | S29: =MIP[[#This Row],[PT-1]]+MIP[[#This Row],[PT-2]]*2+MIP[[#This Row],[PT-3]]*3+MIP[[#This Row],[PT > 3 Pontos]] -> 21 | T29: =IF(MIP[[#This Row],[P.S]]-MIP[[#This Row],[U.P]]>=0,MIP[[#This Row],[P.S]]-MIP[[#This Row],[U.P]]+MIP[[#This Row],[S.B]]-MIP[[#This Row],[P.E]],1+MIP[[#This Row],[P.S]]-MIP[[#This Row],[U.P]]+MIP[[#This Row],[S.B]]-MIP[[#This Row],[P.E]])+MIP[[#This Row],[HH AC extra]] -> 0.041666667 | U29: =IF(MIP[[#This Row],[P.S]]-MIP[[#This Row],[U.P]]>=0,MIP[[#This Row],[P.S]]-MIP[[#This Row],[U.P]]+MIP[[#This Row],[S.B]]-MIP[[#This Row],[P.E]],1+MIP[[#This Row],[P.S]]-MIP[[#This Row],[U.P]]+MIP[[#This Row],[S.B]]-MIP[[#This Row],[P.E]]) -> 0.041666667 | V29: =MIP[[#This Row],[Eficiência]] -> 1.377638 | W29: =SUMIFS([1]!Excecoes[Coluna1],[1]!Excecoes[Dia],MIP[[#This Row],[Data]],[1]!Excecoes[Equipe],MIP[[#This Row],[Equipe]],[1]!Excecoes[Previsto / Realizado],MIP[[#This Row],[Previsto / Realizado]])+IF(MIP[[#This Row],[HH AC TOT]]>0.5,1,0)+IF(AND(OR(ISBLANK(MIP[[#This Row],[P.E]]),ISBLANK(MIP[[#This Row],[S.B]]),ISBLANK(MIP[[#This Row],[U.P]]),ISBLANK(MIP[[#This Row],[P.S]])),ISTEXT(MIP[[#This Row],[Equipe]])),1,IF(MIP[[#This Row],[P.E]]>MIP[[#This Row],[S.B]],1,0)+IF([1]Excessões!$H$6="Ativadas",IF(MIP[[#This Row],[HH AC TOT]]<0.0083,1,0)+IF(OR(MIP[[#This Row],[Eficiência]]>2,MIP[[#This Row],[Eficiência]]<0.3),1,0),0)) -> 0 | X29: =IF(MIP[[#This Row],[P.S]]-MIP[[#This Row],[P.E]]<0,1+MIP[[#This Row],[P.S]]-MIP[[#This Row],[P.E]]-1/24,MIP[[#This Row],[P.S]]-MIP[[#This Row],[P.E]]-1/24) -> 0.36666667 | Y29: =MIP[[#This Row],[PT-1]]*$S$3+MIP[[#This Row],[PT-2]]*$T$3+MIP[[#This Row],[PT-3]]*$U$3+MIP[[#This Row],[PT > 3 Pontos]]*$V$3 -> 0.44773234 | Z29: =MIP[[#This Row],[HH disponível]]-MIP[[#This Row],[HH AC TOT]] -> 0.325 | AA29: =MIP[[#This Row],[HH Produtivo Total]]/MIP[[#This Row],[HH Trabalhado]] -> 1.377638 | AB29: =MIP[[#This Row],[HH Produtivo Total]]/MIP[[#This Row],[HH disponível]] -> 1.2210882 | AC29: =MIP[[#This Row],[HH Trabalhado]]/MIP[[#This Row],[HH disponível]] -> 0.88636364 | AD29: =LEFT(MIP[[#This Row],[Equipe]], SEARCH("/",MIP[[#This Row],[Equipe]],1)-1) -> Joilson | AE29: =RIGHT(MIP[[#This Row],[Equipe]], LEN(MIP[[#This Row],[Equipe]])-SEARCH("/",MIP[[#This Row],[Equipe]],1)) -> Diego | AF29: =COUNTIFS('[1]Tempo parado'!H:H,">="&MIP[[#This Row],[S.B Sitrack]],'[1]Tempo parado'!I:I,"<="&MIP[[#This Row],[C.B Sitrack]],'[1]Tempo parado'!B:B,MIP[[#This Row],[Placa]]) -> 0 | AK29: =IF(OR(MIP[[#This Row],[S.B Sitrack]]="",MIP[[#This Row],[C.B Sitrack]]=""),"-",IF(TIME(HOUR(MIP[[#This Row],[C.B Sitrack]]),MINUTE(MIP[[#This Row],[C.B Sitrack]]),SECOND(HOUR(MIP[[#This Row],[C.B Sitrack]])))-(MIP[[#This Row],[U.P]]-TRUNC(MIP[[#This Row],[U.P]],0))<0,(TIME(HOUR(MIP[[#This Row],[C.B Sitrack]]),MINUTE(MIP[[#This Row],[C.B Sitrack]]),SECOND(HOUR(MIP[[#This Row],[C.B Sitrack]])))-(MIP[[#This Row],[U.P]]-TRUNC(MIP[[#This Row],[U.P]],0)))*(-1),TIME(HOUR(MIP[[#This Row],[C.B Sitrack]]),MINUTE(MIP[[#This Row],[C.B Sitrack]]),SECOND(HOUR(MIP[[#This Row],[C.B Sitrack]])))-(MIP[[#This Row],[U.P]]-TRUNC(MIP[[#This Row],[U.P]],0)))+IF(TIME(HOUR(MIP[[#This Row],[S.B Sitrack]]),MINUTE(MIP[[#This Row],[S.B Sitrack]]),SECOND(HOUR(MIP[[#This Row],[S.B Sitrack]])))-(MIP[[#This Row],[S.B]]-TRUNC(MIP[[#This Row],[S.B]],0))<0,(TIME(HOUR(MIP[[#This Row],[S.B Sitrack]]),MINUTE(MIP[[#This Row],[S.B Sitrack]]),SECOND(HOUR(MIP[[#This Row],[S.B Sitrack]])))-(MIP[[#This Row],[S.B]]-TRUNC(MIP[[#This Row],[S.B]],0)))*(-1),TIME(HOUR(MIP[[#This Row],[S.B Sitrack]]),MINUTE(MIP[[#This Row],[S.B Sitrack]]),SECOND(HOUR(MIP[[#This Row],[S.B Sitrack]])))-(MIP[[#This Row],[S.B]]-TRUNC(MIP[[#This Row],[S.B]],0)))) -> - | AL29: =SUMIFS([1]!Tempoviagem[DISTANCIA (KM)],[1]!Tempoviagem[DATA INICIO],">="&MIP[[#This Row],[S.B Sitrack]],[1]!Tempoviagem[DATA FIM],"<="&MIP[[#This Row],[C.B Sitrack]],[1]!Tempoviagem[PLACA],MIP[[#This Row],[Placa]],[1]!Tempoviagem[DISTANCIA (KM)],">0",[1]!Tempoviagem[VELOCIDADE MÉDIA (KM/H)],"<150") -> 0 | AM29: =SUMIFS('[1]Tempo parado'!J:J,'[1]Tempo parado'!H:H,">="&MIP[[#This Row],[S.B Sitrack]],'[1]Tempo parado'!I:I,"<="&MIP[[#This Row],[C.B Sitrack]],'[1]Tempo parado'!B:B,MIP[[#This Row],[Placa]]) -> 0 | AN29: =IFERROR(MIP[[#This Row],[Tempo parado]]/(MIP[[#This Row],[C.B Sitrack]]-MIP[[#This Row],[S.B Sitrack]]),"") | AP29: =IF(AND(MIP[Exc]=0,MIP[Previsto / Realizado]="Realizado"),MIP[Sem],0) -> 0 | AQ29: =IF(AND(MIP[Exc]=0,MIP[Previsto / Realizado]="Realizado",ISBLANK(MIP[[#This Row],[S.B Sitrack]])=FALSE,ISBLANK(MIP[[#This Row],[C.B Sitrack]])=FALSE),MIP[Sem],0) -> 0
B30: =WEEKNUM(MIP[[#This Row],[Data]]) -> 20 | C30: 42871 | E30: Joilson / Diego | F30: Realizado | H30: 2 | I30: 4 | J30: 1 | K30: 0 | L30: 7 | M30: 0.24861111 | N30: 0.27083333 | O30: 0.62847222 | P30: 0.6625 | R30: Equipe execultou um prot. de 02 pontos + um prot. De 01 ponto que não estava na programação que foi solicitado pelo contribuinte. | S30: =MIP[[#This Row],[PT-1]]+MIP[[#This Row],[PT-2]]*2+MIP[[#This Row],[PT-3]]*3+MIP[[#This Row],[PT > 3 Pontos]] -> 13 | T30: =IF(MIP[[#This Row],[P.S]]-MIP[[#This Row],[U.P]]>=0,MIP[[#This Row],[P.S]]-MIP[[#This Row],[U.P]]+MIP[[#This Row],[S.B]]-MIP[[#This Row],[P.E]],1+MIP[[#This Row],[P.S]]-MIP[[#This Row],[U.P]]+MIP[[#This Row],[S.B]]-MIP[[#This Row],[P.E]])+MIP[[#This Row],[HH AC extra]] -> 0.05625 | U30: =IF(MIP[[#This Row],[P.S]]-MIP[[#This Row],[U.P]]>=0,MIP[[#This Row],[P.S]]-MIP[[#This Row],[U.P]]+MIP[[#This Row],[S.B]]-MIP[[#This Row],[P.E]],1+MIP[[#This Row],[P.S]]-MIP[[#This Row],[U.P]]+MIP[[#This Row],[S.B]]-MIP[[#This Row],[P.E]]) -> 0.05625 | V30: =MIP[[#This Row],[Eficiência]] -> 0.90434612 | W30: =SUMIFS([1]!Excecoes[Coluna1],[1]!Excecoes[Dia],MIP[[#This Row],[Data]],[1]!Excecoes[Equipe],MIP[[#This Row],[Equipe]],[1]!Excecoes[Previsto / Realizado],MIP[[#This Row],[Previsto / Realizado]])+IF(MIP[[#This Row],[HH AC TOT]]>0.5,1,0)+IF(AND(OR(ISBLANK(MIP[[#This Row],[P.E]]),ISBLANK(MIP[[#This Row],[S.B]]),ISBLANK(MIP[[#This Row],[U.P]]),ISBLANK(MIP[[#This Row],[P.S]])),ISTEXT(MIP[[#This Row],[Equipe]])),1,IF(MIP[[#This Row],[P.E]]>MIP[[#This Row],[S.B]],1,0)+IF([1]Excessões!$H$6="Ativadas",IF(MIP[[#This Row],[HH AC TOT]]<0.0083,1,0)+IF(OR(MIP[[#This Row],[Eficiência]]>2,MIP[[#This Row],[Eficiência]]<0.3),1,0),0)) -> 0 | X30: =IF(MIP[[#This Row],[P.S]]-MIP[[#This Row],[P.E]]<0,1+MIP[[#This Row],[P.S]]-MIP[[#This Row],[P.E]]-1/24,MIP[[#This Row],[P.S]]-MIP[[#This Row],[P.E]]-1/24) -> 0.37222222 | Y30: =MIP[[#This Row],[PT-1]]*$S$3+MIP[[#This Row],[PT-2]]*$T$3+MIP[[#This Row],[PT-3]]*$U$3+MIP[[#This Row],[PT > 3 Pontos]]*$V$3 -> 0.28574825 | Z30: =MIP[[#This Row],[HH disponível]]-MIP[[#This Row],[HH AC TOT]] -> 0.31597222 | AA30: =MIP[[#This Row],[HH Produtivo Total]]/MIP[[#This Row],[HH Trabalhado]] -> 0.90434612 | AB30: =MIP[[#This Row],[HH Produtivo Total]]/MIP[[#This Row],[HH disponível]] -> 0.76768188 | AC30: =MIP[[#This Row],[HH Trabalhado]]/MIP[[#This Row],[HH disponível]] -> 0.8488806 | AD30: =LEFT(MIP[[#This Row],[Equipe]], SEARCH("/",MIP[[#This Row],[Equipe]],1)-1) -> Joilson | AE30: =RIGHT(MIP[[#This Row],[Equipe]], LEN(MIP[[#This Row],[Equipe]])-SEARCH("/",MIP[[#This Row],[Equipe]],1)) -> Diego | AF30: =COUNTIFS('[1]Tempo parado'!H:H,">="&MIP[[#This Row],[S.B Sitrack]],'[1]Tempo parado'!I:I,"<="&MIP[[#This Row],[C.B Sitrack]],'[1]Tempo parado'!B:B,MIP[[#This Row],[Placa]]) -> 0 | AK30: =IF(OR(MIP[[#This Row],[S.B Sitrack]]="",MIP[[#This Row],[C.B Sitrack]]=""),"-",IF(TIME(HOUR(MIP[[#This Row],[C.B Sitrack]]),MINUTE(MIP[[#This Row],[C.B Sitrack]]),SECOND(HOUR(MIP[[#This Row],[C.B Sitrack]])))-(MIP[[#This Row],[U.P]]-TRUNC(MIP[[#This Row],[U.P]],0))<0,(TIME(HOUR(MIP[[#This Row],[C.B Sitrack]]),MINUTE(MIP[[#This Row],[C.B Sitrack]]),SECOND(HOUR(MIP[[#This Row],[C.B Sitrack]])))-(MIP[[#This Row],[U.P]]-TRUNC(MIP[[#This Row],[U.P]],0)))*(-1),TIME(HOUR(MIP[[#This Row],[C.B Sitrack]]),MINUTE(MIP[[#This Row],[C.B Sitrack]]),SECOND(HOUR(MIP[[#This Row],[C.B Sitrack]])))-(MIP[[#This Row],[U.P]]-TRUNC(MIP[[#This Row],[U.P]],0)))+IF(TIME(HOUR(MIP[[#This Row],[S.B Sitrack]]),MINUTE(MIP[[#This Row],[S.B Sitrack]]),SECOND(HOUR(MIP[[#This Row],[S.B Sitrack]])))-(MIP[[#This Row],[S.B]]-TRUNC(MIP[[#This Row],[S.B]],0))<0,(TIME(HOUR(MIP[[#This Row],[S.B Sitrack]]),MINUTE(MIP[[#This Row],[S.B Sitrack]]),SECOND(HOUR(MIP[[#This Row],[S.B Sitrack]])))-(MIP[[#This Row],[S.B]]-TRUNC(MIP[[#This Row],[S.B]],0)))*(-1),TIME(HOUR(MIP[[#This Row],[S.B Sitrack]]),MINUTE(MIP[[#This Row],[S.B Sitrack]]),SECOND(HOUR(MIP[[#This Row],[S.B Sitrack]])))-(MIP[[#This Row],[S.B]]-TRUNC(MIP[[#This Row],[S.B]],0)))) -> - | AL30: =SUMIFS([1]!Tempoviagem[DISTANCIA (KM)],[1]!Tempoviagem[DATA INICIO],">="&MIP[[#This Row],[S.B Sitrack]],[1]!Tempoviagem[DATA FIM],"<="&MIP[[#This Row],[C.B Sitrack]],[1]!Tempoviagem[PLACA],MIP[[#This Row],[Placa]],[1]!Tempoviagem[DISTANCIA (KM)],">0",[1]!Tempoviagem[VELOCIDADE MÉDIA (KM/H)],"<150") -> 0 | AM30: =SUMIFS('[1]Tempo parado'!J:J,'[1]Tempo parado'!H:H,">="&MIP[[#This Row],[S.B Sitrack]],'[1]Tempo parado'!I:I,"<="&MIP[[#This Row],[C.B Sitrack]],'[1]Tempo parado'!B:B,MIP[[#This Row],[Placa]]) -> 0 | AN30: =IFERROR(MIP[[#This Row],[Tempo parado]]/(MIP[[#This Row],[C.B Sitrack]]-MIP[[#This Row],[S.B Sitrack]]),"") | AP30: =IF(AND(MIP[Exc]=0,MIP[Previsto / Realizado]="Realizado"),MIP[Sem],0) -> 20 | AQ30: =IF(AND(MIP[Exc]=0,MIP[Previsto / Realizado]="Realizado",ISBLANK(MIP[[#This Row],[S.B Sitrack]])=FALSE,ISBLANK(MIP[[#This Row],[C.B Sitrack]])=FALSE),MIP[Sem],0) -> 0
B31: =WEEKNUM(MIP[[#This Row],[Data]]) -> 20 | C31: 42871 | E31: EDILTON / CLAUDINEY | F31: Previsto | H31: 2 | I31: 8 | J31: 2 | K31: 1 | L31: 0 | M31: 0.625 | N31: 0.64583333 | O31: =1+18/24/60 -> 1.0125 | P31: =1+48/24/60 -> 1.0333333 | S31: =MIP[[#This Row],[PT-1]]+MIP[[#This Row],[PT-2]]*2+MIP[[#This Row],[PT-3]]*3+MIP[[#This Row],[PT > 3 Pontos]] -> 15 | T31: =IF(MIP[[#This Row],[P.S]]-MIP[[#This Row],[U.P]]>=0,MIP[[#This Row],[P.S]]-MIP[[#This Row],[U.P]]+MIP[[#This Row],[S.B]]-MIP[[#This Row],[P.E]],1+MIP[[#This Row],[P.S]]-MIP[[#This Row],[U.P]]+MIP[[#This Row],[S.B]]-MIP[[#This Row],[P.E]])+MIP[[#This Row],[HH AC extra]] -> 0.041666667 | U31: =IF(MIP[[#This Row],[P.S]]-MIP[[#This Row],[U.P]]>=0,MIP[[#This Row],[P.S]]-MIP[[#This Row],[U.P]]+MIP[[#This Row],[S.B]]-MIP[[#This Row],[P.E]],1+MIP[[#This Row],[P.S]]-MIP[[#This Row],[U.P]]+MIP[[#This Row],[S.B]]-MIP[[#This Row],[P.E]]) -> 0.041666667 | V31: =MIP[[#This Row],[Eficiência]] -> 1.079434 | W31: =SUMIFS([1]!Excecoes[Coluna1],[1]!Excecoes[Dia],MIP[[#This Row],[Data]],[1]!Excecoes[Equipe],MIP[[#This Row],[Equipe]],[1]!Excecoes[Previsto / Realizado],MIP[[#This Row],[Previsto / Realizado]])+IF(MIP[[#This Row],[HH AC TOT]]>0.5,1,0)+IF(AND(OR(ISBLANK(MIP[[#This Row],[P.E]]),ISBLANK(MIP[[#This Row],[S.B]]),ISBLANK(MIP[[#This Row],[U.P]]),ISBLANK(MIP[[#This Row],[P.S]])),ISTEXT(MIP[[#This Row],[Equipe]])),1,IF(MIP[[#This Row],[P.E]]>MIP[[#This Row],[S.B]],1,0)+IF([1]Excessões!$H$6="Ativadas",IF(MIP[[#This Row],[HH AC TOT]]<0.0083,1,0)+IF(OR(MIP[[#This Row],[Eficiência]]>2,MIP[[#This Row],[Eficiência]]<0.3),1,0),0)) -> 0 | X31: =IF(MIP[[#This Row],[P.S]]-MIP[[#This Row],[P.E]]<0,1+MIP[[#This Row],[P.S]]-MIP[[#This Row],[P.E]]-1/24,MIP[[#This Row],[P.S]]-MIP[[#This Row],[P.E]]-1/24) -> 0.36666667 | Y31: =MIP[[#This Row],[PT-1]]*$S$3+MIP[[#This Row],[PT-2]]*$T$3+MIP[[#This Row],[PT-3]]*$U$3+MIP[[#This Row],[PT > 3 Pontos]]*$V$3 -> 0.35081604 | Z31: =MIP[[#This Row],[HH disponível]]-MIP[[#This Row],[HH AC TOT]] -> 0.325 | AA31: =MIP[[#This Row],[HH Produtivo Total]]/MIP[[#This Row],[HH Trabalhado]] -> 1.079434 | AB31: =MIP[[#This Row],[HH Produtivo Total]]/MIP[[#This Row],[HH disponível]] -> 0.956771 | AC31: =MIP[[#This Row],[HH Trabalhado]]/MIP[[#This Row],[HH disponível]] -> 0.88636364 | AD31: =LEFT(MIP[[#This Row],[Equipe]], SEARCH("/",MIP[[#This Row],[Equipe]],1)-1) -> EDILTON | AE31: =RIGHT(MIP[[#This Row],[Equipe]], LEN(MIP[[#This Row],[Equipe]])-SEARCH("/",MIP[[#This Row],[Equipe]],1)) -> CLAUDINEY | AF31: =COUNTIFS('[1]Tempo parado'!H:H,">="&MIP[[#This Row],[S.B Sitrack]],'[1]Tempo parado'!I:I,"<="&MIP[[#This Row],[C.B Sitrack]],'[1]Tempo parado'!B:B,MIP[[#This Row],[Placa]]) -> 0 | AK31: =IF(OR(MIP[[#This Row],[S.B Sitrack]]="",MIP[[#This Row],[C.B Sitrack]]=""),"-",IF(TIME(HOUR(MIP[[#This Row],[C.B Sitrack]]),MINUTE(MIP[[#This Row],[C.B Sitrack]]),SECOND(HOUR(MIP[[#This Row],[C.B Sitrack]])))-(MIP[[#This Row],[U.P]]-TRUNC(MIP[[#This Row],[U.P]],0))<0,(TIME(HOUR(MIP[[#This Row],[C.B Sitrack]]),MINUTE(MIP[[#This Row],[C.B Sitrack]]),SECOND(HOUR(MIP[[#This Row],[C.B Sitrack]])))-(MIP[[#This Row],[U.P]]-TRUNC(MIP[[#This Row],[U.P]],0)))*(-1),TIME(HOUR(MIP[[#This Row],[C.B Sitrack]]),MINUTE(MIP[[#This Row],[C.B Sitrack]]),SECOND(HOUR(MIP[[#This Row],[C.B Sitrack]])))-(MIP[[#This Row],[U.P]]-TRUNC(MIP[[#This Row],[U.P]],0)))+IF(TIME(HOUR(MIP[[#This Row],[S.B Sitrack]]),MINUTE(MIP[[#This Row],[S.B Sitrack]]),SECOND(HOUR(MIP[[#This Row],[S.B Sitrack]])))-(MIP[[#This Row],[S.B]]-TRUNC(MIP[[#This Row],[S.B]],0))<0,(TIME(HOUR(MIP[[#This Row],[S.B Sitrack]]),MINUTE(MIP[[#This Row],[S.B Sitrack]]),SECOND(HOUR(MIP[[#This Row],[S.B Sitrack]])))-(MIP[[#This Row],[S.B]]-TRUNC(MIP[[#This Row],[S.B]],0)))*(-1),TIME(HOUR(MIP[[#This Row],[S.B Sitrack]]),MINUTE(MIP[[#This Row],[S.B Sitrack]]),SECOND(HOUR(MIP[[#This Row],[S.B Sitrack]])))-(MIP[[#This Row],[S.B]]-TRUNC(MIP[[#This Row],[S.B]],0)))) -> - | AL31: =SUMIFS([1]!Tempoviagem[DISTANCIA (KM)],[1]!Tempoviagem[DATA INICIO],">="&MIP[[#This Row],[S.B Sitrack]],[1]!Tempoviagem[DATA FIM],"<="&MIP[[#This Row],[C.B Sitrack]],[1]!Tempoviagem[PLACA],MIP[[#This Row],[Placa]],[1]!Tempoviagem[DISTANCIA (KM)],">0",[1]!Tempoviagem[VELOCIDADE MÉDIA (KM/H)],"<150") -> 0 | AM31: =SUMIFS('[1]Tempo parado'!J:J,'[1]Tempo parado'!H:H,">="&MIP[[#This Row],[S.B Sitrack]],'[1]Tempo parado'!I:I,"<="&MIP[[#This Row],[C.B Sitrack]],'[1]Tempo parado'!B:B,MIP[[#This Row],[Placa]]) -> 0 | AN31: =IFERROR(MIP[[#This Row],[Tempo parado]]/(MIP[[#This Row],[C.B Sitrack]]-MIP[[#This Row],[S.B Sitrack]]),"") | AP31: =IF(AND(MIP[Exc]=0,MIP[Previsto / Realizado]="Realizado"),MIP[Sem],0) -> 0 | AQ31: =IF(AND(MIP[Exc]=0,MIP[Previsto / Realizado]="Realizado",ISBLANK(MIP[[#This Row],[S.B Sitrack]])=FALSE,ISBLANK(MIP[[#This Row],[C.B Sitrack]])=FALSE),MIP[Sem],0) -> 0
B32: =WEEKNUM(MIP[[#This Row],[Data]]) -> 20 | C32: 42871 | E32: EDILTON / CLAUDINEY | F32: Realizado | H32: 2 | I32: 5 | J32: 1 | K32: 0 | L32: 5 | M32: 0.625 | N32: 0.66666667 | O32: =1+33/24/60 -> 1.0229167 | P32: =1+48/24/60 -> 1.0333333 | R32: Equipe recebeu uma solicitação da supervisão para realizar uma manutenção que não estava na programação. | S32: =MIP[[#This Row],[PT-1]]+MIP[[#This Row],[PT-2]]*2+MIP[[#This Row],[PT-3]]*3+MIP[[#This Row],[PT > 3 Pontos]] -> 12 | T32: =IF(MIP[[#This Row],[P.S]]-MIP[[#This Row],[U.P]]>=0,MIP[[#This Row],[P.S]]-MIP[[#This Row],[U.P]]+MIP[[#This Row],[S.B]]-MIP[[#This Row],[P.E]],1+MIP[[#This Row],[P.S]]-MIP[[#This Row],[U.P]]+MIP[[#This Row],[S.B]]-MIP[[#This Row],[P.E]])+MIP[[#This Row],[HH AC extra]] -> 0.052083333 | U32: =IF(MIP[[#This Row],[P.S]]-MIP[[#This Row],[U.P]]>=0,MIP[[#This Row],[P.S]]-MIP[[#This Row],[U.P]]+MIP[[#This Row],[S.B]]-MIP[[#This Row],[P.E]],1+MIP[[#This Row],[P.S]]-MIP[[#This Row],[U.P]]+MIP[[#This Row],[S.B]]-MIP[[#This Row],[P.E]]) -> 0.052083333 | V32: =MIP[[#This Row],[Eficiência]] -> 0.85916213 | W32: =SUMIFS([1]!Excecoes[Coluna1],[1]!Excecoes[Dia],MIP[[#This Row],[Data]],[1]!Excecoes[Equipe],MIP[[#This Row],[Equipe]],[1]!Excecoes[Previsto / Realizado],MIP[[#This Row],[Previsto / Realizado]])+IF(MIP[[#This Row],[HH AC TOT]]>0.5,1,0)+IF(AND(OR(ISBLANK(MIP[[#This Row],[P.E]]),ISBLANK(MIP[[#This Row],[S.B]]),ISBLANK(MIP[[#This Row],[U.P]]),ISBLANK(MIP[[#This Row],[P.S]])),ISTEXT(MIP[[#This Row],[Equipe]])),1,IF(MIP[[#This Row],[P.E]]>MIP[[#This Row],[S.B]],1,0)+IF([1]Excessões!$H$6="Ativadas",IF(MIP[[#This Row],[HH AC TOT]]<0.0083,1,0)+IF(OR(MIP[[#This Row],[Eficiência]]>2,MIP[[#This Row],[Eficiência]]<0.3),1,0),0)) -> 0 | X32: =IF(MIP[[#This Row],[P.S]]-MIP[[#This Row],[P.E]]<0,1+MIP[[#This Row],[P.S]]-MIP[[#This Row],[P.E]]-1/24,MIP[[#This Row],[P.S]]-MIP[[#This Row],[P.E]]-1/24) -> 0.36666667 | Y32: =MIP[[#This Row],[PT-1]]*$S$3+MIP[[#This Row],[PT-2]]*$T$3+MIP[[#This Row],[PT-3]]*$U$3+MIP[[#This Row],[PT > 3 Pontos]]*$V$3 -> 0.27027809 | Z32: =MIP[[#This Row],[HH disponível]]-MIP[[#This Row],[HH AC TOT]] -> 0.31458333 | AA32: =MIP[[#This Row],[HH Produtivo Total]]/MIP[[#This Row],[HH Trabalhado]] -> 0.85916213 | AB32: =MIP[[#This Row],[HH Produtivo Total]]/MIP[[#This Row],[HH disponível]] -> 0.73712205 | AC32: =MIP[[#This Row],[HH Trabalhado]]/MIP[[#This Row],[HH disponível]] -> 0.85795455 | AD32: =LEFT(MIP[[#This Row],[Equipe]], SEARCH("/",MIP[[#This Row],[Equipe]],1)-1) -> EDILTON | AE32: =RIGHT(MIP[[#This Row],[Equipe]], LEN(MIP[[#This Row],[Equipe]])-SEARCH("/",MIP[[#This Row],[Equipe]],1)) -> CLAUDINEY | AF32: =COUNTIFS('[1]Tempo parado'!H:H,">="&MIP[[#This Row],[S.B Sitrack]],'[1]Tempo parado'!I:I,"<="&MIP[[#This Row],[C.B Sitrack]],'[1]Tempo parado'!B:B,MIP[[#This Row],[Placa]]) -> 0 | AK32: =IF(OR(MIP[[#This Row],[S.B Sitrack]]="",MIP[[#This Row],[C.B Sitrack]]=""),"-",IF(TIME(HOUR(MIP[[#This Row],[C.B Sitrack]]),MINUTE(MIP[[#This Row],[C.B Sitrack]]),SECOND(HOUR(MIP[[#This Row],[C.B Sitrack]])))-(MIP[[#This Row],[U.P]]-TRUNC(MIP[[#This Row],[U.P]],0))<0,(TIME(HOUR(MIP[[#This Row],[C.B Sitrack]]),MINUTE(MIP[[#This Row],[C.B Sitrack]]),SECOND(HOUR(MIP[[#This Row],[C.B Sitrack]])))-(MIP[[#This Row],[U.P]]-TRUNC(MIP[[#This Row],[U.P]],0)))*(-1),TIME(HOUR(MIP[[#This Row],[C.B Sitrack]]),MINUTE(MIP[[#This Row],[C.B Sitrack]]),SECOND(HOUR(MIP[[#This Row],[C.B Sitrack]])))-(MIP[[#This Row],[U.P]]-TRUNC(MIP[[#This Row],[U.P]],0)))+IF(TIME(HOUR(MIP[[#This Row],[S.B Sitrack]]),MINUTE(MIP[[#This Row],[S.B Sitrack]]),SECOND(HOUR(MIP[[#This Row],[S.B Sitrack]])))-(MIP[[#This Row],[S.B]]-TRUNC(MIP[[#This Row],[S.B]],0))<0,(TIME(HOUR(MIP[[#This Row],[S.B Sitrack]]),MINUTE(MIP[[#This Row],[S.B Sitrack]]),SECOND(HOUR(MIP[[#This Row],[S.B Sitrack]])))-(MIP[[#This Row],[S.B]]-TRUNC(MIP[[#This Row],[S.B]],0)))*(-1),TIME(HOUR(MIP[[#This Row],[S.B Sitrack]]),MINUTE(MIP[[#This Row],[S.B Sitrack]]),SECOND(HOUR(MIP[[#This Row],[S.B Sitrack]])))-(MIP[[#This Row],[S.B]]-TRUNC(MIP[[#This Row],[S.B]],0)))) -> - | AL32: =SUMIFS([1]!Tempoviagem[DISTANCIA (KM)],[1]!Tempoviagem[DATA INICIO],">="&MIP[[#This Row],[S.B Sitrack]],[1]!Tempoviagem[DATA FIM],"<="&MIP[[#This Row],[C.B Sitrack]],[1]!Tempoviagem[PLACA],MIP[[#This Row],[Placa]],[1]!Tempoviagem[DISTANCIA (KM)],">0",[1]!Tempoviagem[VELOCIDADE MÉDIA (KM/H)],"<150") -> 0 | AM32: =SUMIFS('[1]Tempo parado'!J:J,'[1]Tempo parado'!H:H,">="&MIP[[#This Row],[S.B Sitrack]],'[1]Tempo parado'!I:I,"<="&MIP[[#This Row],[C.B Sitrack]],'[1]Tempo parado'!B:B,MIP[[#This Row],[Placa]]) -> 0 | AN32: =IFERROR(MIP[[#This Row],[Tempo parado]]/(MIP[[#This Row],[C.B Sitrack]]-MIP[[#This Row],[S.B Sitrack]]),"") | AP32: =IF(AND(MIP[Exc]=0,MIP[Previsto / Realizado]="Realizado"),MIP[Sem],0) -> 20 | AQ32: =IF(AND(MIP[Exc]=0,MIP[Previsto / Realizado]="Realizado",ISBLANK(MIP[[#This Row],[S.B Sitrack]])=FALSE,ISBLANK(MIP[[#This Row],[C.B Sitrack]])=FALSE),MIP[Sem],0) -> 0
B33: =WEEKNUM(MIP[[#This Row],[Data]]) -> 20 | C33: 42872 | E33: Joilson / Diego | F33: Previsto | H33: 2 | I33: 8 | J33: 3 | K33: 2 | L33: 0 | M33: 0.25 | N33: 0.27083333 | O33: 0.6375 | P33: 0.65833333 | S33: =MIP[[#This Row],[PT-1]]+MIP[[#This Row],[PT-2]]*2+MIP[[#This Row],[PT-3]]*3+MIP[[#This Row],[PT > 3 Pontos]] -> 20 | T33: =IF(MIP[[#This Row],[P.S]]-MIP[[#This Row],[U.P]]>=0,MIP[[#This Row],[P.S]]-MIP[[#This Row],[U.P]]+MIP[[#This Row],[S.B]]-MIP[[#This Row],[P.E]],1+MIP[[#This Row],[P.S]]-MIP[[#This Row],[U.P]]+MIP[[#This Row],[S.B]]-MIP[[#This Row],[P.E]])+MIP[[#This Row],[HH AC extra]] -> 0.041666667 | U33: =IF(MIP[[#This Row],[P.S]]-MIP[[#This Row],[U.P]]>=0,MIP[[#This Row],[P.S]]-MIP[[#This Row],[U.P]]+MIP[[#This Row],[S.B]]-MIP[[#This Row],[P.E]],1+MIP[[#This Row],[P.S]]-MIP[[#This Row],[U.P]]+MIP[[#This Row],[S.B]]-MIP[[#This Row],[P.E]]) -> 0.041666667 | V33: =MIP[[#This Row],[Eficiência]] -> 1.407743 | W33: =SUMIFS([1]!Excecoes[Coluna1],[1]!Excecoes[Dia],MIP[[#This Row],[Data]],[1]!Excecoes[Equipe],MIP[[#This Row],[Equipe]],[1]!Excecoes[Previsto / Realizado],MIP[[#This Row],[Previsto / Realizado]])+IF(MIP[[#This Row],[HH AC TOT]]>0.5,1,0)+IF(AND(OR(ISBLANK(MIP[[#This Row],[P.E]]),ISBLANK(MIP[[#This Row],[S.B]]),ISBLANK(MIP[[#This Row],[U.P]]),ISBLANK(MIP[[#This Row],[P.S]])),ISTEXT(MIP[[#This Row],[Equipe]])),1,IF(MIP[[#This Row],[P.E]]>MIP[[#This Row],[S.B]],1,0)+IF([1]Excessões!$H$6="Ativadas",IF(MIP[[#This Row],[HH AC TOT]]<0.0083,1,0)+IF(OR(MIP[[#This Row],[Eficiência]]>2,MIP[[#This Row],[Eficiência]]<0.3),1,0),0)) -> 0 | X33: =IF(MIP[[#This Row],[P.S]]-MIP[[#This Row],[P.E]]<0,1+MIP[[#This Row],[P.S]]-MIP[[#This Row],[P.E]]-1/24,MIP[[#This Row],[P.S]]-MIP[[#This Row],[P.E]]-1/24) -> 0.36666667 | Y33: =MIP[[#This Row],[PT-1]]*$S$3+MIP[[#This Row],[PT-2]]*$T$3+MIP[[#This Row],[PT-3]]*$U$3+MIP[[#This Row],[PT > 3 Pontos]]*$V$3 -> 0.45751648 | Z33: =MIP[[#This Row],[HH disponível]]-MIP[[#This Row],[HH AC TOT]] -> 0.325 | AA33: =MIP[[#This Row],[HH Produtivo Total]]/MIP[[#This Row],[HH Trabalhado]] -> 1.407743 | AB33: =MIP[[#This Row],[HH Produtivo Total]]/MIP[[#This Row],[HH disponível]] -> 1.2477722 | AC33: =MIP[[#This Row],[HH Trabalhado]]/MIP[[#This Row],[HH disponível]] -> 0.88636364 | AD33: =LEFT(MIP[[#This Row],[Equipe]], SEARCH("/",MIP[[#This Row],[Equipe]],1)-1) -> Joilson | AE33: =RIGHT(MIP[[#This Row],[Equipe]], LEN(MIP[[#This Row],[Equipe]])-SEARCH("/",MIP[[#This Row],[Equipe]],1)) -> Diego | AF33: =COUNTIFS('[1]Tempo parado'!H:H,">="&MIP[[#This Row],[S.B Sitrack]],'[1]Tempo parado'!I:I,"<="&MIP[[#This Row],[C.B Sitrack]],'[1]Tempo parado'!B:B,MIP[[#This Row],[Placa]]) -> 0 | AK33: =IF(OR(MIP[[#This Row],[S.B Sitrack]]="",MIP[[#This Row],[C.B Sitrack]]=""),"-",IF(TIME(HOUR(MIP[[#This Row],[C.B Sitrack]]),MINUTE(MIP[[#This Row],[C.B Sitrack]]),SECOND(HOUR(MIP[[#This Row],[C.B Sitrack]])))-(MIP[[#This Row],[U.P]]-TRUNC(MIP[[#This Row],[U.P]],0))<0,(TIME(HOUR(MIP[[#This Row],[C.B Sitrack]]),MINUTE(MIP[[#This Row],[C.B Sitrack]]),SECOND(HOUR(MIP[[#This Row],[C.B Sitrack]])))-(MIP[[#This Row],[U.P]]-TRUNC(MIP[[#This Row],[U.P]],0)))*(-1),TIME(HOUR(MIP[[#This Row],[C.B Sitrack]]),MINUTE(MIP[[#This Row],[C.B Sitrack]]),SECOND(HOUR(MIP[[#This Row],[C.B Sitrack]])))-(MIP[[#This Row],[U.P]]-TRUNC(MIP[[#This Row],[U.P]],0)))+IF(TIME(HOUR(MIP[[#This Row],[S.B Sitrack]]),MINUTE(MIP[[#This Row],[S.B Sitrack]]),SECOND(HOUR(MIP[[#This Row],[S.B Sitrack]])))-(MIP[[#This Row],[S.B]]-TRUNC(MIP[[#This Row],[S.B]],0))<0,(TIME(HOUR(MIP[[#This Row],[S.B Sitrack]]),MINUTE(MIP[[#This Row],[S.B Sitrack]]),SECOND(HOUR(MIP[[#This Row],[S.B Sitrack]])))-(MIP[[#This Row],[S.B]]-TRUNC(MIP[[#This Row],[S.B]],0)))*(-1),TIME(HOUR(MIP[[#This Row],[S.B Sitrack]]),MINUTE(MIP[[#This Row],[S.B Sitrack]]),SECOND(HOUR(MIP[[#This Row],[S.B Sitrack]])))-(MIP[[#This Row],[S.B]]-TRUNC(MIP[[#This Row],[S.B]],0)))) -> - | AL33: =SUMIFS([1]!Tempoviagem[DISTANCIA (KM)],[1]!Tempoviagem[DATA INICIO],">="&MIP[[#This Row],[S.B Sitrack]],[1]!Tempoviagem[DATA FIM],"<="&MIP[[#This Row],[C.B Sitrack]],[1]!Tempoviagem[PLACA],MIP[[#This Row],[Placa]],[1]!Tempoviagem[DISTANCIA (KM)],">0",[1]!Tempoviagem[VELOCIDADE MÉDIA (KM/H)],"<150") -> 0 | AM33: =SUMIFS('[1]Tempo parado'!J:J,'[1]Tempo parado'!H:H,">="&MIP[[#This Row],[S.B Sitrack]],'[1]Tempo parado'!I:I,"<="&MIP[[#This Row],[C.B Sitrack]],'[1]Tempo parado'!B:B,MIP[[#This Row],[Placa]]) -> 0 | AN33: =IFERROR(MIP[[#This Row],[Tempo parado]]/(MIP[[#This Row],[C.B Sitrack]]-MIP[[#This Row],[S.B Sitrack]]),"") | AP33: =IF(AND(MIP[Exc]=0,MIP[Previsto / Realizado]="Realizado"),MIP[Sem],0) -> 0 | AQ33: =IF(AND(MIP[Exc]=0,MIP[Previsto / Realizado]="Realizado",ISBLANK(MIP[[#This Row],[S.B Sitrack]])=FALSE,ISBLANK(MIP[[#This Row],[C.B Sitrack]])=FALSE),MIP[Sem],0) -> 0
B34: =WEEKNUM(MIP[[#This Row],[Data]]) -> 20 | C34: 42872 | E34: Joilson / Diego | F34: Realizado | H34: 2 | I34: 7 | J34: 3 | K34: 1 | L34: 0 | M34: 0.24722222 | N34: 0.27083333 | O34: 0.64236111 | P34: 0.66111111 | R34: Equipe participou de VHS. | S34: =MIP[[#This Row],[PT-1]]+MIP[[#This Row],[PT-2]]*2+MIP[[#This Row],[PT-3]]*3+MIP[[#This Row],[PT > 3 Pontos]] -> 16 | T34: =IF(MIP[[#This Row],[P.S]]-MIP[[#This Row],[U.P]]>=0,MIP[[#This Row],[P.S]]-MIP[[#This Row],[U.P]]+MIP[[#This Row],[S.B]]-MIP[[#This Row],[P.E]],1+MIP[[#This Row],[P.S]]-MIP[[#This Row],[U.P]]+MIP[[#This Row],[S.B]]-MIP[[#This Row],[P.E]])+MIP[[#This Row],[HH AC extra]] -> 0.042361111 | U34: =IF(MIP[[#This Row],[P.S]]-MIP[[#This Row],[U.P]]>=0,MIP[[#This Row],[P.S]]-MIP[[#This Row],[U.P]]+MIP[[#This Row],[S.B]]-MIP[[#This Row],[P.E]],1+MIP[[#This Row],[P.S]]-MIP[[#This Row],[U.P]]+MIP[[#This Row],[S.B]]-MIP[[#This Row],[P.E]]) -> 0.042361111 | V34: =MIP[[#This Row],[Eficiência]] -> 1.1207715 | W34: =SUMIFS([1]!Excecoes[Coluna1],[1]!Excecoes[Dia],MIP[[#This Row],[Data]],[1]!Excecoes[Equipe],MIP[[#This Row],[Equipe]],[1]!Excecoes[Previsto / Realizado],MIP[[#This Row],[Previsto / Realizado]])+IF(MIP[[#This Row],[HH AC TOT]]>0.5,1,0)+IF(AND(OR(ISBLANK(MIP[[#This Row],[P.E]]),ISBLANK(MIP[[#This Row],[S.B]]),ISBLANK(MIP[[#This Row],[U.P]]),ISBLANK(MIP[[#This Row],[P.S]])),ISTEXT(MIP[[#This Row],[Equipe]])),1,IF(MIP[[#This Row],[P.E]]>MIP[[#This Row],[S.B]],1,0)+IF([1]Excessões!$H$6="Ativadas",IF(MIP[[#This Row],[HH AC TOT]]<0.0083,1,0)+IF(OR(MIP[[#This Row],[Eficiência]]>2,MIP[[#This Row],[Eficiência]]<0.3),1,0),0)) -> 0 | X34: =IF(MIP[[#This Row],[P.S]]-MIP[[#This Row],[P.E]]<0,1+MIP[[#This Row],[P.S]]-MIP[[#This Row],[P.E]]-1/24,MIP[[#This Row],[P.S]]-MIP[[#This Row],[P.E]]-1/24) -> 0.37222222 | Y34: =MIP[[#This Row],[PT-1]]*$S$3+MIP[[#This Row],[PT-2]]*$T$3+MIP[[#This Row],[PT-3]]*$U$3+MIP[[#This Row],[PT > 3 Pontos]]*$V$3 -> 0.36969895 | Z34: =MIP[[#This Row],[HH disponível]]-MIP[[#This Row],[HH AC TOT]] -> 0.32986111 | AA34: =MIP[[#This Row],[HH Produtivo Total]]/MIP[[#This Row],[HH Trabalhado]] -> 1.1207715 | AB34: =MIP[[#This Row],[HH Produtivo Total]]/MIP[[#This Row],[HH disponível]] -> 0.99322106 | AC34: =MIP[[#This Row],[HH Trabalhado]]/MIP[[#This Row],[HH disponível]] -> 0.88619403 | AD34: =LEFT(MIP[[#This Row],[Equipe]], SEARCH("/",MIP[[#This Row],[Equipe]],1)-1) -> Joilson | AE34: =RIGHT(MIP[[#This Row],[Equipe]], LEN(MIP[[#This Row],[Equipe]])-SEARCH("/",MIP[[#This Row],[Equipe]],1)) -> Diego | AF34: =COUNTIFS('[1]Tempo parado'!H:H,">="&MIP[[#This Row],[S.B Sitrack]],'[1]Tempo parado'!I:I,"<="&MIP[[#This Row],[C.B Sitrack]],'[1]Tempo parado'!B:B,MIP[[#This Row],[Placa]]) -> 0 | AK34: =IF(OR(MIP[[#This Row],[S.B Sitrack]]="",MIP[[#This Row],[C.B Sitrack]]=""),"-",IF(TIME(HOUR(MIP[[#This Row],[C.B Sitrack]]),MINUTE(MIP[[#This Row],[C.B Sitrack]]),SECOND(HOUR(MIP[[#This Row],[C.B Sitrack]])))-(MIP[[#This Row],[U.P]]-TRUNC(MIP[[#This Row],[U.P]],0))<0,(TIME(HOUR(MIP[[#This Row],[C.B Sitrack]]),MINUTE(MIP[[#This Row],[C.B Sitrack]]),SECOND(HOUR(MIP[[#This Row],[C.B Sitrack]])))-(MIP[[#This Row],[U.P]]-TRUNC(MIP[[#This Row],[U.P]],0)))*(-1),TIME(HOUR(MIP[[#This Row],[C.B Sitrack]]),MINUTE(MIP[[#This Row],[C.B Sitrack]]),SECOND(HOUR(MIP[[#This Row],[C.B Sitrack]])))-(MIP[[#This Row],[U.P]]-TRUNC(MIP[[#This Row],[U.P]],0)))+IF(TIME(HOUR(MIP[[#This Row],[S.B Sitrack]]),MINUTE(MIP[[#This Row],[S.B Sitrack]]),SECOND(HOUR(MIP[[#This Row],[S.B Sitrack]])))-(MIP[[#This Row],[S.B]]-TRUNC(MIP[[#This Row],[S.B]],0))<0,(TIME(HOUR(MIP[[#This Row],[S.B Sitrack]]),MINUTE(MIP[[#This Row],[S.B Sitrack]]),SECOND(HOUR(MIP[[#This Row],[S.B Sitrack]])))-(MIP[[#This Row],[S.B]]-TRUNC(MIP[[#This Row],[S.B]],0)))*(-1),TIME(HOUR(MIP[[#This Row],[S.B Sitrack]]),MINUTE(MIP[[#This Row],[S.B Sitrack]]),SECOND(HOUR(MIP[[#This Row],[S.B Sitrack]])))-(MIP[[#This Row],[S.B]]-TRUNC(MIP[[#This Row],[S.B]],0)))) -> - | AL34: =SUMIFS([1]!Tempoviagem[DISTANCIA (KM)],[1]!Tempoviagem[DATA INICIO],">="&MIP[[#This Row],[S.B Sitrack]],[1]!Tempoviagem[DATA FIM],"<="&MIP[[#This Row],[C.B Sitrack]],[1]!Tempoviagem[PLACA],MIP[[#This Row],[Placa]],[1]!Tempoviagem[DISTANCIA (KM)],">0",[1]!Tempoviagem[VELOCIDADE MÉDIA (KM/H)],"<150") -> 0 | AM34: =SUMIFS('[1]Tempo parado'!J:J,'[1]Tempo parado'!H:H,">="&MIP[[#This Row],[S.B Sitrack]],'[1]Tempo parado'!I:I,"<="&MIP[[#This Row],[C.B Sitrack]],'[1]Tempo parado'!B:B,MIP[[#This Row],[Placa]]) -> 0 | AN34: =IFERROR(MIP[[#This Row],[Tempo parado]]/(MIP[[#This Row],[C.B Sitrack]]-MIP[[#This Row],[S.B Sitrack]]),"") | AP34: =IF(AND(MIP[Exc]=0,MIP[Previsto / Realizado]="Realizado"),MIP[Sem],0) -> 20 | AQ34: =IF(AND(MIP[Exc]=0,MIP[Previsto / Realizado]="Realizado",ISBLANK(MIP[[#This Row],[S.B Sitrack]])=FALSE,ISBLANK(MIP[[#This Row],[C.B Sitrack]])=FALSE),MIP[Sem],0) -> 0
B35: =WEEKNUM(MIP[[#This Row],[Data]]) -> 20 | C35: 42871 | E35: ADEMÁRIO / ANDERSON | F35: Previsto | H35: 2 | I35: 0 | J35: 0 | K35: 0 | L35: 21 | M35: 0.625 | N35: 0.64583333 | O35: =1+18/24/60 -> 1.0125 | P35: =1+48/24/60 -> 1.0333333 | S35: =MIP[[#This Row],[PT-1]]+MIP[[#This Row],[PT-2]]*2+MIP[[#This Row],[PT-3]]*3+MIP[[#This Row],[PT > 3 Pontos]] -> 21 | T35: =IF(MIP[[#This Row],[P.S]]-MIP[[#This Row],[U.P]]>=0,MIP[[#This Row],[P.S]]-MIP[[#This Row],[U.P]]+MIP[[#This Row],[S.B]]-MIP[[#This Row],[P.E]],1+MIP[[#This Row],[P.S]]-MIP[[#This Row],[U.P]]+MIP[[#This Row],[S.B]]-MIP[[#This Row],[P.E]])+MIP[[#This Row],[HH AC extra]] -> 0.041666667 | U35: =IF(MIP[[#This Row],[P.S]]-MIP[[#This Row],[U.P]]>=0,MIP[[#This Row],[P.S]]-MIP[[#This Row],[U.P]]+MIP[[#This Row],[S.B]]-MIP[[#This Row],[P.E]],1+MIP[[#This Row],[P.S]]-MIP[[#This Row],[U.P]]+MIP[[#This Row],[S.B]]-MIP[[#This Row],[P.E]]) -> 0.041666667 | V35: =MIP[[#This Row],[Eficiência]] -> 1.308333 | W35: =SUMIFS([1]!Excecoes[Coluna1],[1]!Excecoes[Dia],MIP[[#This Row],[Data]],[1]!Excecoes[Equipe],MIP[[#This Row],[Equipe]],[1]!Excecoes[Previsto / Realizado],MIP[[#This Row],[Previsto / Realizado]])+IF(MIP[[#This Row],[HH AC TOT]]>0.5,1,0)+IF(AND(OR(ISBLANK(MIP[[#This Row],[P.E]]),ISBLANK(MIP[[#This Row],[S.B]]),ISBLANK(MIP[[#This Row],[U.P]]),ISBLANK(MIP[[#This Row],[P.S]])),ISTEXT(MIP[[#This Row],[Equipe]])),1,IF(MIP[[#This Row],[P.E]]>MIP[[#This Row],[S.B]],1,0)+IF([1]Excessões!$H$6="Ativadas",IF(MIP[[#This Row],[HH AC TOT]]<0.0083,1,0)+IF(OR(MIP[[#This Row],[Eficiência]]>2,MIP[[#This Row],[Eficiência]]<0.3),1,0),0)) -> 0 | X35: =IF(MIP[[#This Row],[P.S]]-MIP[[#This Row],[P.E]]<0,1+MIP[[#This Row],[P.S]]-MIP[[#This Row],[P.E]]-1/24,MIP[[#This Row],[P.S]]-MIP[[#This Row],[P.E]]-1/24) -> 0.36666667 | Y35: =MIP[[#This Row],[PT-1]]*$S$3+MIP[[#This Row],[PT-2]]*$T$3+MIP[[#This Row],[PT-3]]*$U$3+MIP[[#This Row],[PT > 3 Pontos]]*$V$3 -> 0.42520823 | Z35: =MIP[[#This Row],[HH disponível]]-MIP[[#This Row],[HH AC TOT]] -> 0.325 | AA35: =MIP[[#This Row],[HH Produtivo Total]]/MIP[[#This Row],[HH Trabalhado]] -> 1.308333 | AB35: =MIP[[#This Row],[HH Produtivo Total]]/MIP[[#This Row],[HH disponível]] -> 1.1596588 | AC35: =MIP[[#This Row],[HH Trabalhado]]/MIP[[#This Row],[HH disponível]] -> 0.88636364 | AD35: =LEFT(MIP[[#This Row],[Equipe]], SEARCH("/",MIP[[#This Row],[Equipe]],1)-1) -> ADEMÁRIO | AE35: =RIGHT(MIP[[#This Row],[Equipe]], LEN(MIP[[#This Row],[Equipe]])-SEARCH("/",MIP[[#This Row],[Equipe]],1)) -> ANDERSON | AF35: =COUNTIFS('[1]Tempo parado'!H:H,">="&MIP[[#This Row],[S.B Sitrack]],'[1]Tempo parado'!I:I,"<="&MIP[[#This Row],[C.B Sitrack]],'[1]Tempo parado'!B:B,MIP[[#This Row],[Placa]]) -> 0 | AK35: =IF(OR(MIP[[#This Row],[S.B Sitrack]]="",MIP[[#This Row],[C.B Sitrack]]=""),"-",IF(TIME(HOUR(MIP[[#This Row],[C.B Sitrack]]),MINUTE(MIP[[#This Row],[C.B Sitrack]]),SECOND(HOUR(MIP[[#This Row],[C.B Sitrack]])))-(MIP[[#This Row],[U.P]]-TRUNC(MIP[[#This Row],[U.P]],0))<0,(TIME(HOUR(MIP[[#This Row],[C.B Sitrack]]),MINUTE(MIP[[#This Row],[C.B Sitrack]]),SECOND(HOUR(MIP[[#This Row],[C.B Sitrack]])))-(MIP[[#This Row],[U.P]]-TRUNC(MIP[[#This Row],[U.P]],0)))*(-1),TIME(HOUR(MIP[[#This Row],[C.B Sitrack]]),MINUTE(MIP[[#This Row],[C.B Sitrack]]),SECOND(HOUR(MIP[[#This Row],[C.B Sitrack]])))-(MIP[[#This Row],[U.P]]-TRUNC(MIP[[#This Row],[U.P]],0)))+IF(TIME(HOUR(MIP[[#This Row],[S.B Sitrack]]),MINUTE(MIP[[#This Row],[S.B Sitrack]]),SECOND(HOUR(MIP[[#This Row],[S.B Sitrack]])))-(MIP[[#This Row],[S.B]]-TRUNC(MIP[[#This Row],[S.B]],0))<0,(TIME(HOUR(MIP[[#This Row],[S.B Sitrack]]),MINUTE(MIP[[#This Row],[S.B Sitrack]]),SECOND(HOUR(MIP[[#This Row],[S.B Sitrack]])))-(MIP[[#This Row],[S.B]]-TRUNC(MIP[[#This Row],[S.B]],0)))*(-1),TIME(HOUR(MIP[[#This Row],[S.B Sitrack]]),MINUTE(MIP[[#This Row],[S.B Sitrack]]),SECOND(HOUR(MIP[[#This Row],[S.B Sitrack]])))-(MIP[[#This Row],[S.B]]-TRUNC(MIP[[#This Row],[S.B]],0)))) -> - | AL35: =SUMIFS([1]!Tempoviagem[DISTANCIA (KM)],[1]!Tempoviagem[DATA INICIO],">="&MIP[[#This Row],[S.B Sitrack]],[1]!Tempoviagem[DATA FIM],"<="&MIP[[#This Row],[C.B Sitrack]],[1]!Tempoviagem[PLACA],MIP[[#This Row],[Placa]],[1]!Tempoviagem[DISTANCIA (KM)],">0",[1]!Tempoviagem[VELOCIDADE MÉDIA (KM/H)],"<150") -> 0 | AM35: =SUMIFS('[1]Tempo parado'!J:J,'[1]Tempo parado'!H:H,">="&MIP[[#This Row],[S.B Sitrack]],'[1]Tempo parado'!I:I,"<="&MIP[[#This Row],[C.B Sitrack]],'[1]Tempo parado'!B:B,MIP[[#This Row],[Placa]]) -> 0 | AN35: =IFERROR(MIP[[#This Row],[Tempo parado]]/(MIP[[#This Row],[C.B Sitrack]]-MIP[[#This Row],[S.B Sitrack]]),"") | AP35: =IF(AND(MIP[Exc]=0,MIP[Previsto / Realizado]="Realizado"),MIP[Sem],0) -> 0 | AQ35: =IF(AND(MIP[Exc]=0,MIP[Previsto / Realizado]="Realizado",ISBLANK(MIP[[#This Row],[S.B Sitrack]])=FALSE,ISBLANK(MIP[[#This Row],[C.B Sitrack]])=FALSE),MIP[Sem],0) -> 0
B36: =WEEKNUM(MIP[[#This Row],[Data]]) -> 20 | C36: 42871 | E36: ADEMÁRIO / ANDERSON | F36: Realizado | H36: 2 | I36: 0 | J36: 0 | K36: 0 | L36: 21 | M36: 0.625 | N36: 0.67013889 | O36: =1+31/24/60 -> 1.0215278 | P36: =1+48/24/60 -> 1.0333333 | S36: =MIP[[#This Row],[PT-1]]+MIP[[#This Row],[PT-2]]*2+MIP[[#This Row],[PT-3]]*3+MIP[[#This Row],[PT > 3 Pontos]] -> 21 | T36: =IF(MIP[[#This Row],[P.S]]-MIP[[#This Row],[U.P]]>=0,MIP[[#This Row],[P.S]]-MIP[[#This Row],[U.P]]+MIP[[#This Row],[S.B]]-MIP[[#This Row],[P.E]],1+MIP[[#This Row],[P.S]]-MIP[[#This Row],[U.P]]+MIP[[#This Row],[S.B]]-MIP[[#This Row],[P.E]])+MIP[[#This Row],[HH AC extra]] -> 0.056944444 | U36: =IF(MIP[[#This Row],[P.S]]-MIP[[#This Row],[U.P]]>=0,MIP[[#This Row],[P.S]]-MIP[[#This Row],[U.P]]+MIP[[#This Row],[S.B]]-MIP[[#This Row],[P.E]],1+MIP[[#This Row],[P.S]]-MIP[[#This Row],[U.P]]+MIP[[#This Row],[S.B]]-MIP[[#This Row],[P.E]]) -> 0.056944444 | V36: =MIP[[#This Row],[Eficiência]] -> 1.3728696 | W36: =SUMIFS([1]!Excecoes[Coluna1],[1]!Excecoes[Dia],MIP[[#This Row],[Data]],[1]!Excecoes[Equipe],MIP[[#This Row],[Equipe]],[1]!Excecoes[Previsto / Realizado],MIP[[#This Row],[Previsto / Realizado]])+IF(MIP[[#This Row],[HH AC TOT]]>0.5,1,0)+IF(AND(OR(ISBLANK(MIP[[#This Row],[P.E]]),ISBLANK(MIP[[#This Row],[S.B]]),ISBLANK(MIP[[#This Row],[U.P]]),ISBLANK(MIP[[#This Row],[P.S]])),ISTEXT(MIP[[#This Row],[Equipe]])),1,IF(MIP[[#This Row],[P.E]]>MIP[[#This Row],[S.B]],1,0)+IF([1]Excessões!$H$6="Ativadas",IF(MIP[[#This Row],[HH AC TOT]]<0.0083,1,0)+IF(OR(MIP[[#This Row],[Eficiência]]>2,MIP[[#This Row],[Eficiência]]<0.3),1,0),0)) -> 0 | X36: =IF(MIP[[#This Row],[P.S]]-MIP[[#This Row],[P.E]]<0,1+MIP[[#This Row],[P.S]]-MIP[[#This Row],[P.E]]-1/24,MIP[[#This Row],[P.S]]-MIP[[#This Row],[P.E]]-1/24) -> 0.36666667 | Y36: =MIP[[#This Row],[PT-1]]*$S$3+MIP[[#This Row],[PT-2]]*$T$3+MIP[[#This Row],[PT-3]]*$U$3+MIP[[#This Row],[PT > 3 Pontos]]*$V$3 -> 0.42520823 | Z36: =MIP[[#This Row],[HH disponível]]-MIP[[#This Row],[HH AC TOT]] -> 0.30972222 | AA36: =MIP[[#This Row],[HH Produtivo Total]]/MIP[[#This Row],[HH Trabalhado]] -> 1.3728696 | AB36: =MIP[[#This Row],[HH Produtivo Total]]/MIP[[#This Row],[HH disponível]] -> 1.1596588 | AC36: =MIP[[#This Row],[HH Trabalhado]]/MIP[[#This Row],[HH disponível]] -> 0.84469697 | AD36: =LEFT(MIP[[#This Row],[Equipe]], SEARCH("/",MIP[[#This Row],[Equipe]],1)-1) -> ADEMÁRIO | AE36: =RIGHT(MIP[[#This Row],[Equipe]], LEN(MIP[[#This Row],[Equipe]])-SEARCH("/",MIP[[#This Row],[Equipe]],1)) -> ANDERSON | AF36: =COUNTIFS('[1]Tempo parado'!H:H,">="&MIP[[#This Row],[S.B Sitrack]],'[1]Tempo parado'!I:I,"<="&MIP[[#This Row],[C.B Sitrack]],'[1]Tempo parado'!B:B,MIP[[#This Row],[Placa]]) -> 0 | AK36: =IF(OR(MIP[[#This Row],[S.B Sitrack]]="",MIP[[#This Row],[C.B Sitrack]]=""),"-",IF(TIME(HOUR(MIP[[#This Row],[C.B Sitrack]]),MINUTE(MIP[[#This Row],[C.B Sitrack]]),SECOND(HOUR(MIP[[#This Row],[C.B Sitrack]])))-(MIP[[#This Row],[U.P]]-TRUNC(MIP[[#This Row],[U.P]],0))<0,(TIME(HOUR(MIP[[#This Row],[C.B Sitrack]]),MINUTE(MIP[[#This Row],[C.B Sitrack]]),SECOND(HOUR(MIP[[#This Row],[C.B Sitrack]])))-(MIP[[#This Row],[U.P]]-TRUNC(MIP[[#This Row],[U.P]],0)))*(-1),TIME(HOUR(MIP[[#This Row],[C.B Sitrack]]),MINUTE(MIP[[#This Row],[C.B Sitrack]]),SECOND(HOUR(MIP[[#This Row],[C.B Sitrack]])))-(MIP[[#This Row],[U.P]]-TRUNC(MIP[[#This Row],[U.P]],0)))+IF(TIME(HOUR(MIP[[#This Row],[S.B Sitrack]]),MINUTE(MIP[[#This Row],[S.B Sitrack]]),SECOND(HOUR(MIP[[#This Row],[S.B Sitrack]])))-(MIP[[#This Row],[S.B]]-TRUNC(MIP[[#This Row],[S.B]],0))<0,(TIME(HOUR(MIP[[#This Row],[S.B Sitrack]]),MINUTE(MIP[[#This Row],[S.B Sitrack]]),SECOND(HOUR(MIP[[#This Row],[S.B Sitrack]])))-(MIP[[#This Row],[S.B]]-TRUNC(MIP[[#This Row],[S.B]],0)))*(-1),TIME(HOUR(MIP[[#This Row],[S.B Sitrack]]),MINUTE(MIP[[#This Row],[S.B Sitrack]]),SECOND(HOUR(MIP[[#This Row],[S.B Sitrack]])))-(MIP[[#This Row],[S.B]]-TRUNC(MIP[[#This Row],[S.B]],0)))) -> - | AL36: =SUMIFS([1]!Tempoviagem[DISTANCIA (KM)],[1]!Tempoviagem[DATA INICIO],">="&MIP[[#This Row],[S.B Sitrack]],[1]!Tempoviagem[DATA FIM],"<="&MIP[[#This Row],[C.B Sitrack]],[1]!Tempoviagem[PLACA],MIP[[#This Row],[Placa]],[1]!Tempoviagem[DISTANCIA (KM)],">0",[1]!Tempoviagem[VELOCIDADE MÉDIA (KM/H)],"<150") -> 0 | AM36: =SUMIFS('[1]Tempo parado'!J:J,'[1]Tempo parado'!H:H,">="&MIP[[#This Row],[S.B Sitrack]],'[1]Tempo parado'!I:I,"<="&MIP[[#This Row],[C.B Sitrack]],'[1]Tempo parado'!B:B,MIP[[#This Row],[Placa]]) -> 0 | AN36: =IFERROR(MIP[[#This Row],[Tempo parado]]/(MIP[[#This Row],[C.B Sitrack]]-MIP[[#This Row],[S.B Sitrack]]),"") | AP36: =IF(AND(MIP[Exc]=0,MIP[Previsto / Realizado]="Realizado"),MIP[Sem],0) -> 20 | AQ36: =IF(AND(MIP[Exc]=0,MIP[Previsto / Realizado]="Realizado",ISBLANK(MIP[[#This Row],[S.B Sitrack]])=FALSE,ISBLANK(MIP[[#This Row],[C.B Sitrack]])=FALSE),MIP[Sem],0) -> 0
B37: =WEEKNUM(MIP[[#This Row],[Data]]) -> 20 | C37: 42872 | E37: EDILTON / CLAUDINEY | F37: Previsto | H37: 2 | I37: 10 | J37: 1 | K37: 0 | L37: 0 | M37: 0.625 | N37: 0.64583333 | O37: =1+18/24/60 -> 1.0125 | P37: =1+48/24/60 -> 1.0333333 | S37: =MIP[[#This Row],[PT-1]]+MIP[[#This Row],[PT-2]]*2+MIP[[#This Row],[PT-3]]*3+MIP[[#This Row],[PT > 3 Pontos]] -> 12 | T37: =IF(MIP[[#This Row],[P.S]]-MIP[[#This Row],[U.P]]>=0,MIP[[#This Row],[P.S]]-MIP[[#This Row],[U.P]]+MIP[[#This Row],[S.B]]-MIP[[#This Row],[P.E]],1+MIP[[#This Row],[P.S]]-MIP[[#This Row],[U.P]]+MIP[[#This Row],[S.B]]-MIP[[#This Row],[P.E]])+MIP[[#This Row],[HH AC extra]] -> 0.041666667 | U37: =IF(MIP[[#This Row],[P.S]]-MIP[[#This Row],[U.P]]>=0,MIP[[#This Row],[P.S]]-MIP[[#This Row],[U.P]]+MIP[[#This Row],[S.B]]-MIP[[#This Row],[P.E]],1+MIP[[#This Row],[P.S]]-MIP[[#This Row],[U.P]]+MIP[[#This Row],[S.B]]-MIP[[#This Row],[P.E]]) -> 0.041666667 | V37: =MIP[[#This Row],[Eficiência]] -> 0.90513014 | W37: =SUMIFS([1]!Excecoes[Coluna1],[1]!Excecoes[Dia],MIP[[#This Row],[Data]],[1]!Excecoes[Equipe],MIP[[#This Row],[Equipe]],[1]!Excecoes[Previsto / Realizado],MIP[[#This Row],[Previsto / Realizado]])+IF(MIP[[#This Row],[HH AC TOT]]>0.5,1,0)+IF(AND(OR(ISBLANK(MIP[[#This Row],[P.E]]),ISBLANK(MIP[[#This Row],[S.B]]),ISBLANK(MIP[[#This Row],[U.P]]),ISBLANK(MIP[[#This Row],[P.S]])),ISTEXT(MIP[[#This Row],[Equipe]])),1,IF(MIP[[#This Row],[P.E]]>MIP[[#This Row],[S.B]],1,0)+IF([1]Excessões!$H$6="Ativadas",IF(MIP[[#This Row],[HH AC TOT]]<0.0083,1,0)+IF(OR(MIP[[#This Row],[Eficiência]]>2,MIP[[#This Row],[Eficiência]]<0.3),1,0),0)) -> 0 | X37: =IF(MIP[[#This Row],[P.S]]-MIP[[#This Row],[P.E]]<0,1+MIP[[#This Row],[P.S]]-MIP[[#This Row],[P.E]]-1/24,MIP[[#This Row],[P.S]]-MIP[[#This Row],[P.E]]-1/24) -> 0.36666667 | Y37: =MIP[[#This Row],[PT-1]]*$S$3+MIP[[#This Row],[PT-2]]*$T$3+MIP[[#This Row],[PT-3]]*$U$3+MIP[[#This Row],[PT > 3 Pontos]]*$V$3 -> 0.2941673 | Z37: =MIP[[#This Row],[HH disponível]]-MIP[[#This Row],[HH AC TOT]] -> 0.325 | AA37: =MIP[[#This Row],[HH Produtivo Total]]/MIP[[#This Row],[HH Trabalhado]] -> 0.90513014 | AB37: =MIP[[#This Row],[HH Produtivo Total]]/MIP[[#This Row],[HH disponível]] -> 0.80227444 | AC37: =MIP[[#This Row],[HH Trabalhado]]/MIP[[#This Row],[HH disponível]] -> 0.88636364 | AD37: =LEFT(MIP[[#This Row],[Equipe]], SEARCH("/",MIP[[#This Row],[Equipe]],1)-1) -> EDILTON | AE37: =RIGHT(MIP[[#This Row],[Equipe]], LEN(MIP[[#This Row],[Equipe]])-SEARCH("/",MIP[[#This Row],[Equipe]],1)) -> CLAUDINEY | AF37: =COUNTIFS('[1]Tempo parado'!H:H,">="&MIP[[#This Row],[S.B Sitrack]],'[1]Tempo parado'!I:I,"<="&MIP[[#This Row],[C.B Sitrack]],'[1]Tempo parado'!B:B,MIP[[#This Row],[Placa]]) -> 0 | AK37: =IF(OR(MIP[[#This Row],[S.B Sitrack]]="",MIP[[#This Row],[C.B Sitrack]]=""),"-",IF(TIME(HOUR(MIP[[#This Row],[C.B Sitrack]]),MINUTE(MIP[[#This Row],[C.B Sitrack]]),SECOND(HOUR(MIP[[#This Row],[C.B Sitrack]])))-(MIP[[#This Row],[U.P]]-TRUNC(MIP[[#This Row],[U.P]],0))<0,(TIME(HOUR(MIP[[#This Row],[C.B Sitrack]]),MINUTE(MIP[[#This Row],[C.B Sitrack]]),SECOND(HOUR(MIP[[#This Row],[C.B Sitrack]])))-(MIP[[#This Row],[U.P]]-TRUNC(MIP[[#This Row],[U.P]],0)))*(-1),TIME(HOUR(MIP[[#This Row],[C.B Sitrack]]),MINUTE(MIP[[#This Row],[C.B Sitrack]]),SECOND(HOUR(MIP[[#This Row],[C.B Sitrack]])))-(MIP[[#This Row],[U.P]]-TRUNC(MIP[[#This Row],[U.P]],0)))+IF(TIME(HOUR(MIP[[#This Row],[S.B Sitrack]]),MINUTE(MIP[[#This Row],[S.B Sitrack]]),SECOND(HOUR(MIP[[#This Row],[S.B Sitrack]])))-(MIP[[#This Row],[S.B]]-TRUNC(MIP[[#This Row],[S.B]],0))<0,(TIME(HOUR(MIP[[#This Row],[S.B Sitrack]]),MINUTE(MIP[[#This Row],[S.B Sitrack]]),SECOND(HOUR(MIP[[#This Row],[S.B Sitrack]])))-(MIP[[#This Row],[S.B]]-TRUNC(MIP[[#This Row],[S.B]],0)))*(-1),TIME(HOUR(MIP[[#This Row],[S.B Sitrack]]),MINUTE(MIP[[#This Row],[S.B Sitrack]]),SECOND(HOUR(MIP[[#This Row],[S.B Sitrack]])))-(MIP[[#This Row],[S.B]]-TRUNC(MIP[[#This Row],[S.B]],0)))) -> - | AL37: =SUMIFS([1]!Tempoviagem[DISTANCIA (KM)],[1]!Tempoviagem[DATA INICIO],">="&MIP[[#This Row],[S.B Sitrack]],[1]!Tempoviagem[DATA FIM],"<="&MIP[[#This Row],[C.B Sitrack]],[1]!Tempoviagem[PLACA],MIP[[#This Row],[Placa]],[1]!Tempoviagem[DISTANCIA (KM)],">0",[1]!Tempoviagem[VELOCIDADE MÉDIA (KM/H)],"<150") -> 0 | AM37: =SUMIFS('[1]Tempo parado'!J:J,'[1]Tempo parado'!H:H,">="&MIP[[#This Row],[S.B Sitrack]],'[1]Tempo parado'!I:I,"<="&MIP[[#This Row],[C.B Sitrack]],'[1]Tempo parado'!B:B,MIP[[#This Row],[Placa]]) -> 0 | AN37: =IFERROR(MIP[[#This Row],[Tempo parado]]/(MIP[[#This Row],[C.B Sitrack]]-MIP[[#This Row],[S.B Sitrack]]),"") | AP37: =IF(AND(MIP[Exc]=0,MIP[Previsto / Realizado]="Realizado"),MIP[Sem],0) -> 0 | AQ37: =IF(AND(MIP[Exc]=0,MIP[Previsto / Realizado]="Realizado",ISBLANK(MIP[[#This Row],[S.B Sitrack]])=FALSE,ISBLANK(MIP[[#This Row],[C.B Sitrack]])=FALSE),MIP[Sem],0) -> 0
B38: =WEEKNUM(MIP[[#This Row],[Data]]) -> 20 | C38: 42872 | E38: EDILTON / CLAUDINEY | F38: Realizado | H38: 2 | I38: 7 | J38: 2 | K38: 0 | L38: 0 | M38: 0.62152778 | N38: 0.68541667 | O38: =1+20/24/60 -> 1.0138889 | P38: =1+50/24/60 -> 1.0347222 | R38: Equipe fez instalação de 01 evento das 16:40 às 17:26. 01 dos protocolos com 01 ponto aberto com logradouro, foi realizado manutenção de 02 pontos no mesmo. Houve atraso na saída da equipe pois, foi necessário identificar e solucionar um problema nos direcionadores de fluxo que não estavam funcionando. | S38: =MIP[[#This Row],[PT-1]]+MIP[[#This Row],[PT-2]]*2+MIP[[#This Row],[PT-3]]*3+MIP[[#This Row],[PT > 3 Pontos]] -> 11 | T38: =IF(MIP[[#This Row],[P.S]]-MIP[[#This Row],[U.P]]>=0,MIP[[#This Row],[P.S]]-MIP[[#This Row],[U.P]]+MIP[[#This Row],[S.B]]-MIP[[#This Row],[P.E]],1+MIP[[#This Row],[P.S]]-MIP[[#This Row],[U.P]]+MIP[[#This Row],[S.B]]-MIP[[#This Row],[P.E]])+MIP[[#This Row],[HH AC extra]] -> 0.084722222 | U38: =IF(MIP[[#This Row],[P.S]]-MIP[[#This Row],[U.P]]>=0,MIP[[#This Row],[P.S]]-MIP[[#This Row],[U.P]]+MIP[[#This Row],[S.B]]-MIP[[#This Row],[P.E]],1+MIP[[#This Row],[P.S]]-MIP[[#This Row],[U.P]]+MIP[[#This Row],[S.B]]-MIP[[#This Row],[P.E]]) -> 0.084722222 | V38: =MIP[[#This Row],[Eficiência]] -> 0.91699236 | W38: =SUMIFS([1]!Excecoes[Coluna1],[1]!Excecoes[Dia],MIP[[#This Row],[Data]],[1]!Excecoes[Equipe],MIP[[#This Row],[Equipe]],[1]!Excecoes[Previsto / Realizado],MIP[[#This Row],[Previsto / Realizado]])+IF(MIP[[#This Row],[HH AC TOT]]>0.5,1,0)+IF(AND(OR(ISBLANK(MIP[[#This Row],[P.E]]),ISBLANK(MIP[[#This Row],[S.B]]),ISBLANK(MIP[[#This Row],[U.P]]),ISBLANK(MIP[[#This Row],[P.S]])),ISTEXT(MIP[[#This Row],[Equipe]])),1,IF(MIP[[#This Row],[P.E]]>MIP[[#This Row],[S.B]],1,0)+IF([1]Excessões!$H$6="Ativadas",IF(MIP[[#This Row],[HH AC TOT]]<0.0083,1,0)+IF(OR(MIP[[#This Row],[Eficiência]]>2,MIP[[#This Row],[Eficiência]]<0.3),1,0),0)) -> 0 | X38: =IF(MIP[[#This Row],[P.S]]-MIP[[#This Row],[P.E]]<0,1+MIP[[#This Row],[P.S]]-MIP[[#This Row],[P.E]]-1/24,MIP[[#This Row],[P.S]]-MIP[[#This Row],[P.E]]-1/24) -> 0.37152778 | Y38: =MIP[[#This Row],[PT-1]]*$S$3+MIP[[#This Row],[PT-2]]*$T$3+MIP[[#This Row],[PT-3]]*$U$3+MIP[[#This Row],[PT > 3 Pontos]]*$V$3 -> 0.2629985 | Z38: =MIP[[#This Row],[HH disponível]]-MIP[[#This Row],[HH AC TOT]] -> 0.28680556 | AA38: =MIP[[#This Row],[HH Produtivo Total]]/MIP[[#This Row],[HH Trabalhado]] -> 0.91699236 | AB38: =MIP[[#This Row],[HH Produtivo Total]]/MIP[[#This Row],[HH disponível]] -> 0.70788382 | AC38: =MIP[[#This Row],[HH Trabalhado]]/MIP[[#This Row],[HH disponível]] -> 0.77196262 | AD38: =LEFT(MIP[[#This Row],[Equipe]], SEARCH("/",MIP[[#This Row],[Equipe]],1)-1) -> EDILTON | AE38: =RIGHT(MIP[[#This Row],[Equipe]], LEN(MIP[[#This Row],[Equipe]])-SEARCH("/",MIP[[#This Row],[Equipe]],1)) -> CLAUDINEY | AF38: =COUNTIFS('[1]Tempo parado'!H:H,">="&MIP[[#This Row],[S.B Sitrack]],'[1]Tempo parado'!I:I,"<="&MIP[[#This Row],[C.B Sitrack]],'[1]Tempo parado'!B:B,MIP[[#This Row],[Placa]]) -> 0 | AK38: =IF(OR(MIP[[#This Row],[S.B Sitrack]]="",MIP[[#This Row],[C.B Sitrack]]=""),"-",IF(TIME(HOUR(MIP[[#This Row],[C.B Sitrack]]),MINUTE(MIP[[#This Row],[C.B Sitrack]]),SECOND(HOUR(MIP[[#This Row],[C.B Sitrack]])))-(MIP[[#This Row],[U.P]]-TRUNC(MIP[[#This Row],[U.P]],0))<0,(TIME(HOUR(MIP[[#This Row],[C.B Sitrack]]),MINUTE(MIP[[#This Row],[C.B Sitrack]]),SECOND(HOUR(MIP[[#This Row],[C.B Sitrack]])))-(MIP[[#This Row],[U.P]]-TRUNC(MIP[[#This Row],[U.P]],0)))*(-1),TIME(HOUR(MIP[[#This Row],[C.B Sitrack]]),MINUTE(MIP[[#This Row],[C.B Sitrack]]),SECOND(HOUR(MIP[[#This Row],[C.B Sitrack]])))-(MIP[[#This Row],[U.P]]-TRUNC(MIP[[#This Row],[U.P]],0)))+IF(TIME(HOUR(MIP[[#This Row],[S.B Sitrack]]),MINUTE(MIP[[#This Row],[S.B Sitrack]]),SECOND(HOUR(MIP[[#This Row],[S.B Sitrack]])))-(MIP[[#This Row],[S.B]]-TRUNC(MIP[[#This Row],[S.B]],0))<0,(TIME(HOUR(MIP[[#This Row],[S.B Sitrack]]),MINUTE(MIP[[#This Row],[S.B Sitrack]]),SECOND(HOUR(MIP[[#This Row],[S.B Sitrack]])))-(MIP[[#This Row],[S.B]]-TRUNC(MIP[[#This Row],[S.B]],0)))*(-1),TIME(HOUR(MIP[[#This Row],[S.B Sitrack]]),MINUTE(MIP[[#This Row],[S.B Sitrack]]),SECOND(HOUR(MIP[[#This Row],[S.B Sitrack]])))-(MIP[[#This Row],[S.B]]-TRUNC(MIP[[#This Row],[S.B]],0)))) -> - | AL38: =SUMIFS([1]!Tempoviagem[DISTANCIA (KM)],[1]!Tempoviagem[DATA INICIO],">="&MIP[[#This Row],[S.B Sitrack]],[1]!Tempoviagem[DATA FIM],"<="&MIP[[#This Row],[C.B Sitrack]],[1]!Tempoviagem[PLACA],MIP[[#This Row],[Placa]],[1]!Tempoviagem[DISTANCIA (KM)],">0",[1]!Tempoviagem[VELOCIDADE MÉDIA (KM/H)],"<150") -> 0 | AM38: =SUMIFS('[1]Tempo parado'!J:J,'[1]Tempo parado'!H:H,">="&MIP[[#This Row],[S.B Sitrack]],'[1]Tempo parado'!I:I,"<="&MIP[[#This Row],[C.B Sitrack]],'[1]Tempo parado'!B:B,MIP[[#This Row],[Placa]]) -> 0 | AN38: =IFERROR(MIP[[#This Row],[Tempo parado]]/(MIP[[#This Row],[C.B Sitrack]]-MIP[[#This Row],[S.B Sitrack]]),"") | AP38: =IF(AND(MIP[Exc]=0,MIP[Previsto / Realizado]="Realizado"),MIP[Sem],0) -> 20 | AQ38: =IF(AND(MIP[Exc]=0,MIP[Previsto / Realizado]="Realizado",ISBLANK(MIP[[#This Row],[S.B Sitrack]])=FALSE,ISBLANK(MIP[[#This Row],[C.B Sitrack]])=FALSE),MIP[Sem],0) -> 0
B39: =WEEKNUM(MIP[[#This Row],[Data]]) -> 20 | C39: 42872 | E39: ADEMÁRIO / ANDERSON | F39: Previsto | H39: 2 | I39: 2 | J39: 1 | K39: 1 | L39: 8 | M39: 0.625 | N39: 0.64583333 | O39: =1+18/24/60 -> 1.0125 | P39: =1+48/24/60 -> 1.0333333 | S39: =MIP[[#This Row],[PT-1]]+MIP[[#This Row],[PT-2]]*2+MIP[[#This Row],[PT-3]]*3+MIP[[#This Row],[PT > 3 Pontos]] -> 15 | T39: =IF(MIP[[#This Row],[P.S]]-MIP[[#This Row],[U.P]]>=0,MIP[[#This Row],[P.S]]-MIP[[#This Row],[U.P]]+MIP[[#This Row],[S.B]]-MIP[[#This Row],[P.E]],1+MIP[[#This Row],[P.S]]-MIP[[#This Row],[U.P]]+MIP[[#This Row],[S.B]]-MIP[[#This Row],[P.E]])+MIP[[#This Row],[HH AC extra]] -> 0.041666667 | U39: =IF(MIP[[#This Row],[P.S]]-MIP[[#This Row],[U.P]]>=0,MIP[[#This Row],[P.S]]-MIP[[#This Row],[U.P]]+MIP[[#This Row],[S.B]]-MIP[[#This Row],[P.E]],1+MIP[[#This Row],[P.S]]-MIP[[#This Row],[U.P]]+MIP[[#This Row],[S.B]]-MIP[[#This Row],[P.E]]) -> 0.041666667 | V39: =MIP[[#This Row],[Eficiência]] -> 0.98072689 | W39: =SUMIFS([1]!Excecoes[Coluna1],[1]!Excecoes[Dia],MIP[[#This Row],[Data]],[1]!Excecoes[Equipe],MIP[[#This Row],[Equipe]],[1]!Excecoes[Previsto / Realizado],MIP[[#This Row],[Previsto / Realizado]])+IF(MIP[[#This Row],[HH AC TOT]]>0.5,1,0)+IF(AND(OR(ISBLANK(MIP[[#This Row],[P.E]]),ISBLANK(MIP[[#This Row],[S.B]]),ISBLANK(MIP[[#This Row],[U.P]]),ISBLANK(MIP[[#This Row],[P.S]])),ISTEXT(MIP[[#This Row],[Equipe]])),1,IF(MIP[[#This Row],[P.E]]>MIP[[#This Row],[S.B]],1,0)+IF([1]Excessões!$H$6="Ativadas",IF(MIP[[#This Row],[HH AC TOT]]<0.0083,1,0)+IF(OR(MIP[[#This Row],[Eficiência]]>2,MIP[[#This Row],[Eficiência]]<0.3),1,0),0)) -> 0 | X39: =IF(MIP[[#This Row],[P.S]]-MIP[[#This Row],[P.E]]<0,1+MIP[[#This Row],[P.S]]-MIP[[#This Row],[P.E]]-1/24,MIP[[#This Row],[P.S]]-MIP[[#This Row],[P.E]]-1/24) -> 0.36666667 | Y39: =MIP[[#This Row],[PT-1]]*$S$3+MIP[[#This Row],[PT-2]]*$T$3+MIP[[#This Row],[PT-3]]*$U$3+MIP[[#This Row],[PT > 3 Pontos]]*$V$3 -> 0.31873624 | Z39: =MIP[[#This Row],[HH disponível]]-MIP[[#This Row],[HH AC TOT]] -> 0.325 | AA39: =MIP[[#This Row],[HH Produtivo Total]]/MIP[[#This Row],[HH Trabalhado]] -> 0.98072689 | AB39: =MIP[[#This Row],[HH Produtivo Total]]/MIP[[#This Row],[HH disponível]] -> 0.86928065 | AC39: =MIP[[#This Row],[HH Trabalhado]]/MIP[[#This Row],[HH disponível]] -> 0.88636364 | AD39: =LEFT(MIP[[#This Row],[Equipe]], SEARCH("/",MIP[[#This Row],[Equipe]],1)-1) -> ADEMÁRIO | AE39: =RIGHT(MIP[[#This Row],[Equipe]], LEN(MIP[[#This Row],[Equipe]])-SEARCH("/",MIP[[#This Row],[Equipe]],1)) -> ANDERSON | AF39: =COUNTIFS('[1]Tempo parado'!H:H,">="&MIP[[#This Row],[S.B Sitrack]],'[1]Tempo parado'!I:I,"<="&MIP[[#This Row],[C.B Sitrack]],'[1]Tempo parado'!B:B,MIP[[#This Row],[Placa]]) -> 0 | AK39: =IF(OR(MIP[[#This Row],[S.B Sitrack]]="",MIP[[#This Row],[C.B Sitrack]]=""),"-",IF(TIME(HOUR(MIP[[#This Row],[C.B Sitrack]]),MINUTE(MIP[[#This Row],[C.B Sitrack]]),SECOND(HOUR(MIP[[#This Row],[C.B Sitrack]])))-(MIP[[#This Row],[U.P]]-TRUNC(MIP[[#This Row],[U.P]],0))<0,(TIME(HOUR(MIP[[#This Row],[C.B Sitrack]]),MINUTE(MIP[[#This Row],[C.B Sitrack]]),SECOND(HOUR(MIP[[#This Row],[C.B Sitrack]])))-(MIP[[#This Row],[U.P]]-TRUNC(MIP[[#This Row],[U.P]],0)))*(-1),TIME(HOUR(MIP[[#This Row],[C.B Sitrack]]),MINUTE(MIP[[#This Row],[C.B Sitrack]]),SECOND(HOUR(MIP[[#This Row],[C.B Sitrack]])))-(MIP[[#This Row],[U.P]]-TRUNC(MIP[[#This Row],[U.P]],0)))+IF(TIME(HOUR(MIP[[#This Row],[S.B Sitrack]]),MINUTE(MIP[[#This Row],[S.B Sitrack]]),SECOND(HOUR(MIP[[#This Row],[S.B Sitrack]])))-(MIP[[#This Row],[S.B]]-TRUNC(MIP[[#This Row],[S.B]],0))<0,(TIME(HOUR(MIP[[#This Row],[S.B Sitrack]]),MINUTE(MIP[[#This Row],[S.B Sitrack]]),SECOND(HOUR(MIP[[#This Row],[S.B Sitrack]])))-(MIP[[#This Row],[S.B]]-TRUNC(MIP[[#This Row],[S.B]],0)))*(-1),TIME(HOUR(MIP[[#This Row],[S.B Sitrack]]),MINUTE(MIP[[#This Row],[S.B Sitrack]]),SECOND(HOUR(MIP[[#This Row],[S.B Sitrack]])))-(MIP[[#This Row],[S.B]]-TRUNC(MIP[[#This Row],[S.B]],0)))) -> - | AL39: =SUMIFS([1]!Tempoviagem[DISTANCIA (KM)],[1]!Tempoviagem[DATA INICIO],">="&MIP[[#This Row],[S.B Sitrack]],[1]!Tempoviagem[DATA FIM],"<="&MIP[[#This Row],[C.B Sitrack]],[1]!Tempoviagem[PLACA],MIP[[#This Row],[Placa]],[1]!Tempoviagem[DISTANCIA (KM)],">0",[1]!Tempoviagem[VELOCIDADE MÉDIA (KM/H)],"<150") -> 0 | AM39: =SUMIFS('[1]Tempo parado'!J:J,'[1]Tempo parado'!H:H,">="&MIP[[#This Row],[S.B Sitrack]],'[1]Tempo parado'!I:I,"<="&MIP[[#This Row],[C.B Sitrack]],'[1]Tempo parado'!B:B,MIP[[#This Row],[Placa]]) -> 0 | AN39: =IFERROR(MIP[[#This Row],[Tempo parado]]/(MIP[[#This Row],[C.B Sitrack]]-MIP[[#This Row],[S.B Sitrack]]),"") | AP39: =IF(AND(MIP[Exc]=0,MIP[Previsto / Realizado]="Realizado"),MIP[Sem],0) -> 0 | AQ39: =IF(AND(MIP[Exc]=0,MIP[Previsto / Realizado]="Realizado",ISBLANK(MIP[[#This Row],[S.B Sitrack]])=FALSE,ISBLANK(MIP[[#This Row],[C.B Sitrack]])=FALSE),MIP[Sem],0) -> 0
B40: =WEEKNUM(MIP[[#This Row],[Data]]) -> 20 | C40: 42872 | E40: ADEMÁRIO / ANDERSON | F40: Realizado | H40: 2 | I40: 1 | J40: 1 | K40: 1 | L40: 8 | M40: 0.64097222 | N40: 0.66180556 | O40: =1+27/24/60 -> 1.01875 | P40: =1+50/24/60 -> 1.0347222 | R40: Equipe foi desviada no meio do turno para regularização de uma luminária com risco de queda. | S40: =MIP[[#This Row],[PT-1]]+MIP[[#This Row],[PT-2]]*2+MIP[[#This Row],[PT-3]]*3+MIP[[#This Row],[PT > 3 Pontos]] -> 14 | T40: =IF(MIP[[#This Row],[P.S]]-MIP[[#This Row],[U.P]]>=0,MIP[[#This Row],[P.S]]-MIP[[#This Row],[U.P]]+MIP[[#This Row],[S.B]]-MIP[[#This Row],[P.E]],1+MIP[[#This Row],[P.S]]-MIP[[#This Row],[U.P]]+MIP[[#This Row],[S.B]]-MIP[[#This Row],[P.E]])+MIP[[#This Row],[HH AC extra]] -> 0.036805556 | U40: =IF(MIP[[#This Row],[P.S]]-MIP[[#This Row],[U.P]]>=0,MIP[[#This Row],[P.S]]-MIP[[#This Row],[U.P]]+MIP[[#This Row],[S.B]]-MIP[[#This Row],[P.E]],1+MIP[[#This Row],[P.S]]-MIP[[#This Row],[U.P]]+MIP[[#This Row],[S.B]]-MIP[[#This Row],[P.E]]) -> 0.036805556 | V40: =MIP[[#This Row],[Eficiência]] -> 0.93159241 | W40: =SUMIFS([1]!Excecoes[Coluna1],[1]!Excecoes[Dia],MIP[[#This Row],[Data]],[1]!Excecoes[Equipe],MIP[[#This Row],[Equipe]],[1]!Excecoes[Previsto / Realizado],MIP[[#This Row],[Previsto / Realizado]])+IF(MIP[[#This Row],[HH AC TOT]]>0.5,1,0)+IF(AND(OR(ISBLANK(MIP[[#This Row],[P.E]]),ISBLANK(MIP[[#This Row],[S.B]]),ISBLANK(MIP[[#This Row],[U.P]]),ISBLANK(MIP[[#This Row],[P.S]])),ISTEXT(MIP[[#This Row],[Equipe]])),1,IF(MIP[[#This Row],[P.E]]>MIP[[#This Row],[S.B]],1,0)+IF([1]Excessões!$H$6="Ativadas",IF(MIP[[#This Row],[HH AC TOT]]<0.0083,1,0)+IF(OR(MIP[[#This Row],[Eficiência]]>2,MIP[[#This Row],[Eficiência]]<0.3),1,0),0)) -> 0 | X40: =IF(MIP[[#This Row],[P.S]]-MIP[[#This Row],[P.E]]<0,1+MIP[[#This Row],[P.S]]-MIP[[#This Row],[P.E]]-1/24,MIP[[#This Row],[P.S]]-MIP[[#This Row],[P.E]]-1/24) -> 0.35208333 | Y40: =MIP[[#This Row],[PT-1]]*$S$3+MIP[[#This Row],[PT-2]]*$T$3+MIP[[#This Row],[PT-3]]*$U$3+MIP[[#This Row],[PT > 3 Pontos]]*$V$3 -> 0.29371039 | Z40: =MIP[[#This Row],[HH disponível]]-MIP[[#This Row],[HH AC TOT]] -> 0.31527778 | AA40: =MIP[[#This Row],[HH Produtivo Total]]/MIP[[#This Row],[HH Trabalhado]] -> 0.93159241 | AB40: =MIP[[#This Row],[HH Produtivo Total]]/MIP[[#This Row],[HH disponível]] -> 0.83420701 | AC40: =MIP[[#This Row],[HH Trabalhado]]/MIP[[#This Row],[HH disponível]] -> 0.89546351 | AD40: =LEFT(MIP[[#This Row],[Equipe]], SEARCH("/",MIP[[#This Row],[Equipe]],1)-1) -> ADEMÁRIO | AE40: =RIGHT(MIP[[#This Row],[Equipe]], LEN(MIP[[#This Row],[Equipe]])-SEARCH("/",MIP[[#This Row],[Equipe]],1)) -> ANDERSON | AF40: =COUNTIFS('[1]Tempo parado'!H:H,">="&MIP[[#This Row],[S.B Sitrack]],'[1]Tempo parado'!I:I,"<="&MIP[[#This Row],[C.B Sitrack]],'[1]Tempo parado'!B:B,MIP[[#This Row],[Placa]]) -> 0 | AK40: =IF(OR(MIP[[#This Row],[S.B Sitrack]]="",MIP[[#This Row],[C.B Sitrack]]=""),"-",IF(TIME(HOUR(MIP[[#This Row],[C.B Sitrack]]),MINUTE(MIP[[#This Row],[C.B Sitrack]]),SECOND(HOUR(MIP[[#This Row],[C.B Sitrack]])))-(MIP[[#This Row],[U.P]]-TRUNC(MIP[[#This Row],[U.P]],0))<0,(TIME(HOUR(MIP[[#This Row],[C.B Sitrack]]),MINUTE(MIP[[#This Row],[C.B Sitrack]]),SECOND(HOUR(MIP[[#This Row],[C.B Sitrack]])))-(MIP[[#This Row],[U.P]]-TRUNC(MIP[[#This Row],[U.P]],0)))*(-1),TIME(HOUR(MIP[[#This Row],[C.B Sitrack]]),MINUTE(MIP[[#This Row],[C.B Sitrack]]),SECOND(HOUR(MIP[[#This Row],[C.B Sitrack]])))-(MIP[[#This Row],[U.P]]-TRUNC(MIP[[#This Row],[U.P]],0)))+IF(TIME(HOUR(MIP[[#This Row],[S.B Sitrack]]),MINUTE(MIP[[#This Row],[S.B Sitrack]]),SECOND(HOUR(MIP[[#This Row],[S.B Sitrack]])))-(MIP[[#This Row],[S.B]]-TRUNC(MIP[[#This Row],[S.B]],0))<0,(TIME(HOUR(MIP[[#This Row],[S.B Sitrack]]),MINUTE(MIP[[#This Row],[S.B Sitrack]]),SECOND(HOUR(MIP[[#This Row],[S.B Sitrack]])))-(MIP[[#This Row],[S.B]]-TRUNC(MIP[[#This Row],[S.B]],0)))*(-1),TIME(HOUR(MIP[[#This Row],[S.B Sitrack]]),MINUTE(MIP[[#This Row],[S.B Sitrack]]),SECOND(HOUR(MIP[[#This Row],[S.B Sitrack]])))-(MIP[[#This Row],[S.B]]-TRUNC(MIP[[#This Row],[S.B]],0)))) -> - | AL40: =SUMIFS([1]!Tempoviagem[DISTANCIA (KM)],[1]!Tempoviagem[DATA INICIO],">="&MIP[[#This Row],[S.B Sitrack]],[1]!Tempoviagem[DATA FIM],"<="&MIP[[#This Row],[C.B Sitrack]],[1]!Tempoviagem[PLACA],MIP[[#This Row],[Placa]],[1]!Tempoviagem[DISTANCIA (KM)],">0",[1]!Tempoviagem[VELOCIDADE MÉDIA (KM/H)],"<150") -> 0 | AM40: =SUMIFS('[1]Tempo parado'!J:J,'[1]Tempo parado'!H:H,">="&MIP[[#This Row],[S.B Sitrack]],'[1]Tempo parado'!I:I,"<="&MIP[[#This Row],[C.B Sitrack]],'[1]Tempo parado'!B:B,MIP[[#This Row],[Placa]]) -> 0 | AN40: =IFERROR(MIP[[#This Row],[Tempo parado]]/(MIP[[#This Row],[C.B Sitrack]]-MIP[[#This Row],[S.B Sitrack]]),"") | AP40: =IF(AND(MIP[Exc]=0,MIP[Previsto / Realizado]="Realizado"),MIP[Sem],0) -> 20 | AQ40: =IF(AND(MIP[Exc]=0,MIP[Previsto / Realizado]="Realizado",ISBLANK(MIP[[#This Row],[S.B Sitrack]])=FALSE,ISBLANK(MIP[[#This Row],[C.B Sitrack]])=FALSE),MIP[Sem],0) -> 0
B41: =WEEKNUM(MIP[[#This Row],[Data]]) -> 20 | C41: 42873 | E41: Joilson / Diego | F41: Previsto | H41: 2 | I41: 5 | J41: 2 | K41: 1 | L41: 4 | M41: 0.25 | N41: 0.27083333 | O41: 0.6375 | P41: 0.65833333 | S41: =MIP[[#This Row],[PT-1]]+MIP[[#This Row],[PT-2]]*2+MIP[[#This Row],[PT-3]]*3+MIP[[#This Row],[PT > 3 Pontos]] -> 16 | T41: =IF(MIP[[#This Row],[P.S]]-MIP[[#This Row],[U.P]]>=0,MIP[[#This Row],[P.S]]-MIP[[#This Row],[U.P]]+MIP[[#This Row],[S.B]]-MIP[[#This Row],[P.E]],1+MIP[[#This Row],[P.S]]-MIP[[#This Row],[U.P]]+MIP[[#This Row],[S.B]]-MIP[[#This Row],[P.E]])+MIP[[#This Row],[HH AC extra]] -> 0.041666667 | U41: =IF(MIP[[#This Row],[P.S]]-MIP[[#This Row],[U.P]]>=0,MIP[[#This Row],[P.S]]-MIP[[#This Row],[U.P]]+MIP[[#This Row],[S.B]]-MIP[[#This Row],[P.E]],1+MIP[[#This Row],[P.S]]-MIP[[#This Row],[U.P]]+MIP[[#This Row],[S.B]]-MIP[[#This Row],[P.E]]) -> 0.041666667 | V41: =MIP[[#This Row],[Eficiência]] -> 1.0976324 | W41: =SUMIFS([1]!Excecoes[Coluna1],[1]!Excecoes[Dia],MIP[[#This Row],[Data]],[1]!Excecoes[Equipe],MIP[[#This Row],[Equipe]],[1]!Excecoes[Previsto / Realizado],MIP[[#This Row],[Previsto / Realizado]])+IF(MIP[[#This Row],[HH AC TOT]]>0.5,1,0)+IF(AND(OR(ISBLANK(MIP[[#This Row],[P.E]]),ISBLANK(MIP[[#This Row],[S.B]]),ISBLANK(MIP[[#This Row],[U.P]]),ISBLANK(MIP[[#This Row],[P.S]])),ISTEXT(MIP[[#This Row],[Equipe]])),1,IF(MIP[[#This Row],[P.E]]>MIP[[#This Row],[S.B]],1,0)+IF([1]Excessões!$H$6="Ativadas",IF(MIP[[#This Row],[HH AC TOT]]<0.0083,1,0)+IF(OR(MIP[[#This Row],[Eficiência]]>2,MIP[[#This Row],[Eficiência]]<0.3),1,0),0)) -> 0 | X41: =IF(MIP[[#This Row],[P.S]]-MIP[[#This Row],[P.E]]<0,1+MIP[[#This Row],[P.S]]-MIP[[#This Row],[P.E]]-1/24,MIP[[#This Row],[P.S]]-MIP[[#This Row],[P.E]]-1/24) -> 0.36666667 | Y41: =MIP[[#This Row],[PT-1]]*$S$3+MIP[[#This Row],[PT-2]]*$T$3+MIP[[#This Row],[PT-3]]*$U$3+MIP[[#This Row],[PT > 3 Pontos]]*$V$3 -> 0.35673052 | Z41: =MIP[[#This Row],[HH disponível]]-MIP[[#This Row],[HH AC TOT]] -> 0.325 | AA41: =MIP[[#This Row],[HH Produtivo Total]]/MIP[[#This Row],[HH Trabalhado]] -> 1.0976324 | AB41: =MIP[[#This Row],[HH Produtivo Total]]/MIP[[#This Row],[HH disponível]] -> 0.97290142 | AC41: =MIP[[#This Row],[HH Trabalhado]]/MIP[[#This Row],[HH disponível]] -> 0.88636364 | AD41: =LEFT(MIP[[#This Row],[Equipe]], SEARCH("/",MIP[[#This Row],[Equipe]],1)-1) -> Joilson | AE41: =RIGHT(MIP[[#This Row],[Equipe]], LEN(MIP[[#This Row],[Equipe]])-SEARCH("/",MIP[[#This Row],[Equipe]],1)) -> Diego | AF41: =COUNTIFS('[1]Tempo parado'!H:H,">="&MIP[[#This Row],[S.B Sitrack]],'[1]Tempo parado'!I:I,"<="&MIP[[#This Row],[C.B Sitrack]],'[1]Tempo parado'!B:B,MIP[[#This Row],[Placa]]) -> 0 | AK41: =IF(OR(MIP[[#This Row],[S.B Sitrack]]="",MIP[[#This Row],[C.B Sitrack]]=""),"-",IF(TIME(HOUR(MIP[[#This Row],[C.B Sitrack]]),MINUTE(MIP[[#This Row],[C.B Sitrack]]),SECOND(HOUR(MIP[[#This Row],[C.B Sitrack]])))-(MIP[[#This Row],[U.P]]-TRUNC(MIP[[#This Row],[U.P]],0))<0,(TIME(HOUR(MIP[[#This Row],[C.B Sitrack]]),MINUTE(MIP[[#This Row],[C.B Sitrack]]),SECOND(HOUR(MIP[[#This Row],[C.B Sitrack]])))-(MIP[[#This Row],[U.P]]-TRUNC(MIP[[#This Row],[U.P]],0)))*(-1),TIME(HOUR(MIP[[#This Row],[C.B Sitrack]]),MINUTE(MIP[[#This Row],[C.B Sitrack]]),SECOND(HOUR(MIP[[#This Row],[C.B Sitrack]])))-(MIP[[#This Row],[U.P]]-TRUNC(MIP[[#This Row],[U.P]],0)))+IF(TIME(HOUR(MIP[[#This Row],[S.B Sitrack]]),MINUTE(MIP[[#This Row],[S.B Sitrack]]),SECOND(HOUR(MIP[[#This Row],[S.B Sitrack]])))-(MIP[[#This Row],[S.B]]-TRUNC(MIP[[#This Row],[S.B]],0))<0,(TIME(HOUR(MIP[[#This Row],[S.B Sitrack]]),MINUTE(MIP[[#This Row],[S.B Sitrack]]),SECOND(HOUR(MIP[[#This Row],[S.B Sitrack]])))-(MIP[[#This Row],[S.B]]-TRUNC(MIP[[#This Row],[S.B]],0)))*(-1),TIME(HOUR(MIP[[#This Row],[S.B Sitrack]]),MINUTE(MIP[[#This Row],[S.B Sitrack]]),SECOND(HOUR(MIP[[#This Row],[S.B Sitrack]])))-(MIP[[#This Row],[S.B]]-TRUNC(MIP[[#This Row],[S.B]],0)))) -> - | AL41: =SUMIFS([1]!Tempoviagem[DISTANCIA (KM)],[1]!Tempoviagem[DATA INICIO],">="&MIP[[#This Row],[S.B Sitrack]],[1]!Tempoviagem[DATA FIM],"<="&MIP[[#This Row],[C.B Sitrack]],[1]!Tempoviagem[PLACA],MIP[[#This Row],[Placa]],[1]!Tempoviagem[DISTANCIA (KM)],">0",[1]!Tempoviagem[VELOCIDADE MÉDIA (KM/H)],"<150") -> 0 | AM41: =SUMIFS('[1]Tempo parado'!J:J,'[1]Tempo parado'!H:H,">="&MIP[[#This Row],[S.B Sitrack]],'[1]Tempo parado'!I:I,"<="&MIP[[#This Row],[C.B Sitrack]],'[1]Tempo parado'!B:B,MIP[[#This Row],[Placa]]) -> 0 | AN41: =IFERROR(MIP[[#This Row],[Tempo parado]]/(MIP[[#This Row],[C.B Sitrack]]-MIP[[#This Row],[S.B Sitrack]]),"") | AP41: =IF(AND(MIP[Exc]=0,MIP[Previsto / Realizado]="Realizado"),MIP[Sem],0) -> 0 | AQ41: =IF(AND(MIP[Exc]=0,MIP[Previsto / Realizado]="Realizado",ISBLANK(MIP[[#This Row],[S.B Sitrack]])=FALSE,ISBLANK(MIP[[#This Row],[C.B Sitrack]])=FALSE),MIP[Sem],0) -> 0
B42: =WEEKNUM(MIP[[#This Row],[Data]]) -> 20 | C42: 42873 | E42: Joilson / Diego | F42: Realizado | H42: 2 | I42: 2 | J42: 2 | K42: 1 | L42: 3 | M42: 0.24513889 | N42: 0.30555556 | O42: 0.61666667 | P42: 0.66875 | R42: Choveu bastante durante o turno. Equipe retornou mais cedo devido a forte chuva no fim do turno. O protocolo com 04 pontos retornou com 01 sem executar manutenção, equipe relatou que o mesmo estava próximo à rede primária. | S42: =MIP[[#This Row],[PT-1]]+MIP[[#This Row],[PT-2]]*2+MIP[[#This Row],[PT-3]]*3+MIP[[#This Row],[PT > 3 Pontos]] -> 12 | T42: =IF(MIP[[#This Row],[P.S]]-MIP[[#This Row],[U.P]]>=0,MIP[[#This Row],[P.S]]-MIP[[#This Row],[U.P]]+MIP[[#This Row],[S.B]]-MIP[[#This Row],[P.E]],1+MIP[[#This Row],[P.S]]-MIP[[#This Row],[U.P]]+MIP[[#This Row],[S.B]]-MIP[[#This Row],[P.E]])+MIP[[#This Row],[HH AC extra]] -> 0.1125 | U42: =IF(MIP[[#This Row],[P.S]]-MIP[[#This Row],[U.P]]>=0,MIP[[#This Row],[P.S]]-MIP[[#This Row],[U.P]]+MIP[[#This Row],[S.B]]-MIP[[#This Row],[P.E]],1+MIP[[#This Row],[P.S]]-MIP[[#This Row],[U.P]]+MIP[[#This Row],[S.B]]-MIP[[#This Row],[P.E]]) -> 0.1125 | V42: =MIP[[#This Row],[Eficiência]] -> 0.9701627 | W42: =SUMIFS([1]!Excecoes[Coluna1],[1]!Excecoes[Dia],MIP[[#This Row],[Data]],[1]!Excecoes[Equipe],MIP[[#This Row],[Equipe]],[1]!Excecoes[Previsto / Realizado],MIP[[#This Row],[Previsto / Realizado]])+IF(MIP[[#This Row],[HH AC TOT]]>0.5,1,0)+IF(AND(OR(ISBLANK(MIP[[#This Row],[P.E]]),ISBLANK(MIP[[#This Row],[S.B]]),ISBLANK(MIP[[#This Row],[U.P]]),ISBLANK(MIP[[#This Row],[P.S]])),ISTEXT(MIP[[#This Row],[Equipe]])),1,IF(MIP[[#This Row],[P.E]]>MIP[[#This Row],[S.B]],1,0)+IF([1]Excessões!$H$6="Ativadas",IF(MIP[[#This Row],[HH AC TOT]]<0.0083,1,0)+IF(OR(MIP[[#This Row],[Eficiência]]>2,MIP[[#This Row],[Eficiência]]<0.3),1,0),0)) -> 0 | X42: =IF(MIP[[#This Row],[P.S]]-MIP[[#This Row],[P.E]]<0,1+MIP[[#This Row],[P.S]]-MIP[[#This Row],[P.E]]-1/24,MIP[[#This Row],[P.S]]-MIP[[#This Row],[P.E]]-1/24) -> 0.38194444 | Y42: =MIP[[#This Row],[PT-1]]*$S$3+MIP[[#This Row],[PT-2]]*$T$3+MIP[[#This Row],[PT-3]]*$U$3+MIP[[#This Row],[PT > 3 Pontos]]*$V$3 -> 0.26140495 | Z42: =MIP[[#This Row],[HH disponível]]-MIP[[#This Row],[HH AC TOT]] -> 0.26944444 | AA42: =MIP[[#This Row],[HH Produtivo Total]]/MIP[[#This Row],[HH Trabalhado]] -> 0.9701627 | AB42: =MIP[[#This Row],[HH Produtivo Total]]/MIP[[#This Row],[HH disponível]] -> 0.68440569 | AC42: =MIP[[#This Row],[HH Trabalhado]]/MIP[[#This Row],[HH disponível]] -> 0.70545455 | AD42: =LEFT(MIP[[#This Row],[Equipe]], SEARCH("/",MIP[[#This Row],[Equipe]],1)-1) -> Joilson | AE42: =RIGHT(MIP[[#This Row],[Equipe]], LEN(MIP[[#This Row],[Equipe]])-SEARCH("/",MIP[[#This Row],[Equipe]],1)) -> Diego | AF42: =COUNTIFS('[1]Tempo parado'!H:H,">="&MIP[[#This Row],[S.B Sitrack]],'[1]Tempo parado'!I:I,"<="&MIP[[#This Row],[C.B Sitrack]],'[1]Tempo parado'!B:B,MIP[[#This Row],[Placa]]) -> 0 | AK42: =IF(OR(MIP[[#This Row],[S.B Sitrack]]="",MIP[[#This Row],[C.B Sitrack]]=""),"-",IF(TIME(HOUR(MIP[[#This Row],[C.B Sitrack]]),MINUTE(MIP[[#This Row],[C.B Sitrack]]),SECOND(HOUR(MIP[[#This Row],[C.B Sitrack]])))-(MIP[[#This Row],[U.P]]-TRUNC(MIP[[#This Row],[U.P]],0))<0,(TIME(HOUR(MIP[[#This Row],[C.B Sitrack]]),MINUTE(MIP[[#This Row],[C.B Sitrack]]),SECOND(HOUR(MIP[[#This Row],[C.B Sitrack]])))-(MIP[[#This Row],[U.P]]-TRUNC(MIP[[#This Row],[U.P]],0)))*(-1),TIME(HOUR(MIP[[#This Row],[C.B Sitrack]]),MINUTE(MIP[[#This Row],[C.B Sitrack]]),SECOND(HOUR(MIP[[#This Row],[C.B Sitrack]])))-(MIP[[#This Row],[U.P]]-TRUNC(MIP[[#This Row],[U.P]],0)))+IF(TIME(HOUR(MIP[[#This Row],[S.B Sitrack]]),MINUTE(MIP[[#This Row],[S.B Sitrack]]),SECOND(HOUR(MIP[[#This Row],[S.B Sitrack]])))-(MIP[[#This Row],[S.B]]-TRUNC(MIP[[#This Row],[S.B]],0))<0,(TIME(HOUR(MIP[[#This Row],[S.B Sitrack]]),MINUTE(MIP[[#This Row],[S.B Sitrack]]),SECOND(HOUR(MIP[[#This Row],[S.B Sitrack]])))-(MIP[[#This Row],[S.B]]-TRUNC(MIP[[#This Row],[S.B]],0)))*(-1),TIME(HOUR(MIP[[#This Row],[S.B Sitrack]]),MINUTE(MIP[[#This Row],[S.B Sitrack]]),SECOND(HOUR(MIP[[#This Row],[S.B Sitrack]])))-(MIP[[#This Row],[S.B]]-TRUNC(MIP[[#This Row],[S.B]],0)))) -> - | AL42: =SUMIFS([1]!Tempoviagem[DISTANCIA (KM)],[1]!Tempoviagem[DATA INICIO],">="&MIP[[#This Row],[S.B Sitrack]],[1]!Tempoviagem[DATA FIM],"<="&MIP[[#This Row],[C.B Sitrack]],[1]!Tempoviagem[PLACA],MIP[[#This Row],[Placa]],[1]!Tempoviagem[DISTANCIA (KM)],">0",[1]!Tempoviagem[VELOCIDADE MÉDIA (KM/H)],"<150") -> 0 | AM42: =SUMIFS('[1]Tempo parado'!J:J,'[1]Tempo parado'!H:H,">="&MIP[[#This Row],[S.B Sitrack]],'[1]Tempo parado'!I:I,"<="&MIP[[#This Row],[C.B Sitrack]],'[1]Tempo parado'!B:B,MIP[[#This Row],[Placa]]) -> 0 | AN42: =IFERROR(MIP[[#This Row],[Tempo parado]]/(MIP[[#This Row],[C.B Sitrack]]-MIP[[#This Row],[S.B Sitrack]]),"") | AP42: =IF(AND(MIP[Exc]=0,MIP[Previsto / Realizado]="Realizado"),MIP[Sem],0) -> 20 | AQ42: =IF(AND(MIP[Exc]=0,MIP[Previsto / Realizado]="Realizado",ISBLANK(MIP[[#This Row],[S.B Sitrack]])=FALSE,ISBLANK(MIP[[#This Row],[C.B Sitrack]])=FALSE),MIP[Sem],0) -> 0
B43: =WEEKNUM(MIP[[#This Row],[Data]]) -> 20 | C43: 42873 | E43: EDILTON / CLAUDINEY | F43: Previsto | H43: 2 | I43: 6 | J43: 0 | K43: 0 | L43: 9 | M43: 0.625 | N43: 0.64583333 | O43: =1+18/24/60 -> 1.0125 | P43: =1+48/24/60 -> 1.0333333 | S43: =MIP[[#This Row],[PT-1]]+MIP[[#This Row],[PT-2]]*2+MIP[[#This Row],[PT-3]]*3+MIP[[#This Row],[PT > 3 Pontos]] -> 15 | T43: =IF(MIP[[#This Row],[P.S]]-MIP[[#This Row],[U.P]]>=0,MIP[[#This Row],[P.S]]-MIP[[#This Row],[U.P]]+MIP[[#This Row],[S.B]]-MIP[[#This Row],[P.E]],1+MIP[[#This Row],[P.S]]-MIP[[#This Row],[U.P]]+MIP[[#This Row],[S.B]]-MIP[[#This Row],[P.E]])+MIP[[#This Row],[HH AC extra]] -> 0.041666667 | U43: =IF(MIP[[#This Row],[P.S]]-MIP[[#This Row],[U.P]]>=0,MIP[[#This Row],[P.S]]-MIP[[#This Row],[U.P]]+MIP[[#This Row],[S.B]]-MIP[[#This Row],[P.E]],1+MIP[[#This Row],[P.S]]-MIP[[#This Row],[U.P]]+MIP[[#This Row],[S.B]]-MIP[[#This Row],[P.E]]) -> 0.041666667 | V43: =MIP[[#This Row],[Eficiência]] -> 1.0227299 | W43: =SUMIFS([1]!Excecoes[Coluna1],[1]!Excecoes[Dia],MIP[[#This Row],[Data]],[1]!Excecoes[Equipe],MIP[[#This Row],[Equipe]],[1]!Excecoes[Previsto / Realizado],MIP[[#This Row],[Previsto / Realizado]])+IF(MIP[[#This Row],[HH AC TOT]]>0.5,1,0)+IF(AND(OR(ISBLANK(MIP[[#This Row],[P.E]]),ISBLANK(MIP[[#This Row],[S.B]]),ISBLANK(MIP[[#This Row],[U.P]]),ISBLANK(MIP[[#This Row],[P.S]])),ISTEXT(MIP[[#This Row],[Equipe]])),1,IF(MIP[[#This Row],[P.E]]>MIP[[#This Row],[S.B]],1,0)+IF([1]Excessões!$H$6="Ativadas",IF(MIP[[#This Row],[HH AC TOT]]<0.0083,1,0)+IF(OR(MIP[[#This Row],[Eficiência]]>2,MIP[[#This Row],[Eficiência]]<0.3),1,0),0)) -> 0 | X43: =IF(MIP[[#This Row],[P.S]]-MIP[[#This Row],[P.E]]<0,1+MIP[[#This Row],[P.S]]-MIP[[#This Row],[P.E]]-1/24,MIP[[#This Row],[P.S]]-MIP[[#This Row],[P.E]]-1/24) -> 0.36666667 | Y43: =MIP[[#This Row],[PT-1]]*$S$3+MIP[[#This Row],[PT-2]]*$T$3+MIP[[#This Row],[PT-3]]*$U$3+MIP[[#This Row],[PT > 3 Pontos]]*$V$3 -> 0.33238722 | Z43: =MIP[[#This Row],[HH disponível]]-MIP[[#This Row],[HH AC TOT]] -> 0.325 | AA43: =MIP[[#This Row],[HH Produtivo Total]]/MIP[[#This Row],[HH Trabalhado]] -> 1.0227299 | AB43: =MIP[[#This Row],[HH Produtivo Total]]/MIP[[#This Row],[HH disponível]] -> 0.90651059 | AC43: =MIP[[#This Row],[HH Trabalhado]]/MIP[[#This Row],[HH disponível]] -> 0.88636364 | AD43: =LEFT(MIP[[#This Row],[Equipe]], SEARCH("/",MIP[[#This Row],[Equipe]],1)-1) -> EDILTON | AE43: =RIGHT(MIP[[#This Row],[Equipe]], LEN(MIP[[#This Row],[Equipe]])-SEARCH("/",MIP[[#This Row],[Equipe]],1)) -> CLAUDINEY | AF43: =COUNTIFS('[1]Tempo parado'!H:H,">="&MIP[[#This Row],[S.B Sitrack]],'[1]Tempo parado'!I:I,"<="&MIP[[#This Row],[C.B Sitrack]],'[1]Tempo parado'!B:B,MIP[[#This Row],[Placa]]) -> 0 | AK43: =IF(OR(MIP[[#This Row],[S.B Sitrack]]="",MIP[[#This Row],[C.B Sitrack]]=""),"-",IF(TIME(HOUR(MIP[[#This Row],[C.B Sitrack]]),MINUTE(MIP[[#This Row],[C.B Sitrack]]),SECOND(HOUR(MIP[[#This Row],[C.B Sitrack]])))-(MIP[[#This Row],[U.P]]-TRUNC(MIP[[#This Row],[U.P]],0))<0,(TIME(HOUR(MIP[[#This Row],[C.B Sitrack]]),MINUTE(MIP[[#This Row],[C.B Sitrack]]),SECOND(HOUR(MIP[[#This Row],[C.B Sitrack]])))-(MIP[[#This Row],[U.P]]-TRUNC(MIP[[#This Row],[U.P]],0)))*(-1),TIME(HOUR(MIP[[#This Row],[C.B Sitrack]]),MINUTE(MIP[[#This Row],[C.B Sitrack]]),SECOND(HOUR(MIP[[#This Row],[C.B Sitrack]])))-(MIP[[#This Row],[U.P]]-TRUNC(MIP[[#This Row],[U.P]],0)))+IF(TIME(HOUR(MIP[[#This Row],[S.B Sitrack]]),MINUTE(MIP[[#This Row],[S.B Sitrack]]),SECOND(HOUR(MIP[[#This Row],[S.B Sitrack]])))-(MIP[[#This Row],[S.B]]-TRUNC(MIP[[#This Row],[S.B]],0))<0,(TIME(HOUR(MIP[[#This Row],[S.B Sitrack]]),MINUTE(MIP[[#This Row],[S.B Sitrack]]),SECOND(HOUR(MIP[[#This Row],[S.B Sitrack]])))-(MIP[[#This Row],[S.B]]-TRUNC(MIP[[#This Row],[S.B]],0)))*(-1),TIME(HOUR(MIP[[#This Row],[S.B Sitrack]]),MINUTE(MIP[[#This Row],[S.B Sitrack]]),SECOND(HOUR(MIP[[#This Row],[S.B Sitrack]])))-(MIP[[#This Row],[S.B]]-TRUNC(MIP[[#This Row],[S.B]],0)))) -> - | AL43: =SUMIFS([1]!Tempoviagem[DISTANCIA (KM)],[1]!Tempoviagem[DATA INICIO],">="&MIP[[#This Row],[S.B Sitrack]],[1]!Tempoviagem[DATA FIM],"<="&MIP[[#This Row],[C.B Sitrack]],[1]!Tempoviagem[PLACA],MIP[[#This Row],[Placa]],[1]!Tempoviagem[DISTANCIA (KM)],">0",[1]!Tempoviagem[VELOCIDADE MÉDIA (KM/H)],"<150") -> 0 | AM43: =SUMIFS('[1]Tempo parado'!J:J,'[1]Tempo parado'!H:H,">="&MIP[[#This Row],[S.B Sitrack]],'[1]Tempo parado'!I:I,"<="&MIP[[#This Row],[C.B Sitrack]],'[1]Tempo parado'!B:B,MIP[[#This Row],[Placa]]) -> 0 | AN43: =IFERROR(MIP[[#This Row],[Tempo parado]]/(MIP[[#This Row],[C.B Sitrack]]-MIP[[#This Row],[S.B Sitrack]]),"") | AP43: =IF(AND(MIP[Exc]=0,MIP[Previsto / Realizado]="Realizado"),MIP[Sem],0) -> 0 | AQ43: =IF(AND(MIP[Exc]=0,MIP[Previsto / Realizado]="Realizado",ISBLANK(MIP[[#This Row],[S.B Sitrack]])=FALSE,ISBLANK(MIP[[#This Row],[C.B Sitrack]])=FALSE),MIP[Sem],0) -> 0
B44: =WEEKNUM(MIP[[#This Row],[Data]]) -> 20 | C44: 42873 | E44: EDILTON / CLAUDINEY | F44: Realizado | H44: 2 | I44: 4 | J44: 1 | K44: 2 | L44: 0 | M44: 0.64097222 | N44: 0.67361111 | O44: =1+20/24/60 -> 1.0138889 | P44: =1+48/24/60 -> 1.0333333 | R44: Choveu bastante durante o turno. Saída da turma atrasou devido a forte chuva no horário. Um protocolo com 01 ponto, tinham 02 pontos no mesmo logradouro. | S44: =MIP[[#This Row],[PT-1]]+MIP[[#This Row],[PT-2]]*2+MIP[[#This Row],[PT-3]]*3+MIP[[#This Row],[PT > 3 Pontos]] -> 12 | T44: =IF(MIP[[#This Row],[P.S]]-MIP[[#This Row],[U.P]]>=0,MIP[[#This Row],[P.S]]-MIP[[#This Row],[U.P]]+MIP[[#This Row],[S.B]]-MIP[[#This Row],[P.E]],1+MIP[[#This Row],[P.S]]-MIP[[#This Row],[U.P]]+MIP[[#This Row],[S.B]]-MIP[[#This Row],[P.E]])+MIP[[#This Row],[HH AC extra]] -> 0.052083333 | U44: =IF(MIP[[#This Row],[P.S]]-MIP[[#This Row],[U.P]]>=0,MIP[[#This Row],[P.S]]-MIP[[#This Row],[U.P]]+MIP[[#This Row],[S.B]]-MIP[[#This Row],[P.E]],1+MIP[[#This Row],[P.S]]-MIP[[#This Row],[U.P]]+MIP[[#This Row],[S.B]]-MIP[[#This Row],[P.E]]) -> 0.052083333 | V44: =MIP[[#This Row],[Eficiência]] -> 0.90283156 | W44: =SUMIFS([1]!Excecoes[Coluna1],[1]!Excecoes[Dia],MIP[[#This Row],[Data]],[1]!Excecoes[Equipe],MIP[[#This Row],[Equipe]],[1]!Excecoes[Previsto / Realizado],MIP[[#This Row],[Previsto / Realizado]])+IF(MIP[[#This Row],[HH AC TOT]]>0.5,1,0)+IF(AND(OR(ISBLANK(MIP[[#This Row],[P.E]]),ISBLANK(MIP[[#This Row],[S.B]]),ISBLANK(MIP[[#This Row],[U.P]]),ISBLANK(MIP[[#This Row],[P.S]])),ISTEXT(MIP[[#This Row],[Equipe]])),1,IF(MIP[[#This Row],[P.E]]>MIP[[#This Row],[S.B]],1,0)+IF([1]Excessões!$H$6="Ativadas",IF(MIP[[#This Row],[HH AC TOT]]<0.0083,1,0)+IF(OR(MIP[[#This Row],[Eficiência]]>2,MIP[[#This Row],[Eficiência]]<0.3),1,0),0)) -> 0 | X44: =IF(MIP[[#This Row],[P.S]]-MIP[[#This Row],[P.E]]<0,1+MIP[[#This Row],[P.S]]-MIP[[#This Row],[P.E]]-1/24,MIP[[#This Row],[P.S]]-MIP[[#This Row],[P.E]]-1/24) -> 0.35069444 | Y44: =MIP[[#This Row],[PT-1]]*$S$3+MIP[[#This Row],[PT-2]]*$T$3+MIP[[#This Row],[PT-3]]*$U$3+MIP[[#This Row],[PT > 3 Pontos]]*$V$3 -> 0.26959554 | Z44: =MIP[[#This Row],[HH disponível]]-MIP[[#This Row],[HH AC TOT]] -> 0.29861111 | AA44: =MIP[[#This Row],[HH Produtivo Total]]/MIP[[#This Row],[HH Trabalhado]] -> 0.90283156 | AB44: =MIP[[#This Row],[HH Produtivo Total]]/MIP[[#This Row],[HH disponível]] -> 0.76874767 | AC44: =MIP[[#This Row],[HH Trabalhado]]/MIP[[#This Row],[HH disponível]] -> 0.85148515 | AD44: =LEFT(MIP[[#This Row],[Equipe]], SEARCH("/",MIP[[#This Row],[Equipe]],1)-1) -> EDILTON | AE44: =RIGHT(MIP[[#This Row],[Equipe]], LEN(MIP[[#This Row],[Equipe]])-SEARCH("/",MIP[[#This Row],[Equipe]],1)) -> CLAUDINEY | AF44: =COUNTIFS('[1]Tempo parado'!H:H,">="&MIP[[#This Row],[S.B Sitrack]],'[1]Tempo parado'!I:I,"<="&MIP[[#This Row],[C.B Sitrack]],'[1]Tempo parado'!B:B,MIP[[#This Row],[Placa]]) -> 0 | AK44: =IF(OR(MIP[[#This Row],[S.B Sitrack]]="",MIP[[#This Row],[C.B Sitrack]]=""),"-",IF(TIME(HOUR(MIP[[#This Row],[C.B Sitrack]]),MINUTE(MIP[[#This Row],[C.B Sitrack]]),SECOND(HOUR(MIP[[#This Row],[C.B Sitrack]])))-(MIP[[#This Row],[U.P]]-TRUNC(MIP[[#This Row],[U.P]],0))<0,(TIME(HOUR(MIP[[#This Row],[C.B Sitrack]]),MINUTE(MIP[[#This Row],[C.B Sitrack]]),SECOND(HOUR(MIP[[#This Row],[C.B Sitrack]])))-(MIP[[#This Row],[U.P]]-TRUNC(MIP[[#This Row],[U.P]],0)))*(-1),TIME(HOUR(MIP[[#This Row],[C.B Sitrack]]),MINUTE(MIP[[#This Row],[C.B Sitrack]]),SECOND(HOUR(MIP[[#This Row],[C.B Sitrack]])))-(MIP[[#This Row],[U.P]]-TRUNC(MIP[[#This Row],[U.P]],0)))+IF(TIME(HOUR(MIP[[#This Row],[S.B Sitrack]]),MINUTE(MIP[[#This Row],[S.B Sitrack]]),SECOND(HOUR(MIP[[#This Row],[S.B Sitrack]])))-(MIP[[#This Row],[S.B]]-TRUNC(MIP[[#This Row],[S.B]],0))<0,(TIME(HOUR(MIP[[#This Row],[S.B Sitrack]]),MINUTE(MIP[[#This Row],[S.B Sitrack]]),SECOND(HOUR(MIP[[#This Row],[S.B Sitrack]])))-(MIP[[#This Row],[S.B]]-TRUNC(MIP[[#This Row],[S.B]],0)))*(-1),TIME(HOUR(MIP[[#This Row],[S.B Sitrack]]),MINUTE(MIP[[#This Row],[S.B Sitrack]]),SECOND(HOUR(MIP[[#This Row],[S.B Sitrack]])))-(MIP[[#This Row],[S.B]]-TRUNC(MIP[[#This Row],[S.B]],0)))) -> - | AL44: =SUMIFS([1]!Tempoviagem[DISTANCIA (KM)],[1]!Tempoviagem[DATA INICIO],">="&MIP[[#This Row],[S.B Sitrack]],[1]!Tempoviagem[DATA FIM],"<="&MIP[[#This Row],[C.B Sitrack]],[1]!Tempoviagem[PLACA],MIP[[#This Row],[Placa]],[1]!Tempoviagem[DISTANCIA (KM)],">0",[1]!Tempoviagem[VELOCIDADE MÉDIA (KM/H)],"<150") -> 0 | AM44: =SUMIFS('[1]Tempo parado'!J:J,'[1]Tempo parado'!H:H,">="&MIP[[#This Row],[S.B Sitrack]],'[1]Tempo parado'!I:I,"<="&MIP[[#This Row],[C.B Sitrack]],'[1]Tempo parado'!B:B,MIP[[#This Row],[Placa]]) -> 0 | AN44: =IFERROR(MIP[[#This Row],[Tempo parado]]/(MIP[[#This Row],[C.B Sitrack]]-MIP[[#This Row],[S.B Sitrack]]),"") | AP44: =IF(AND(MIP[Exc]=0,MIP[Previsto / Realizado]="Realizado"),MIP[Sem],0) -> 20 | AQ44: =IF(AND(MIP[Exc]=0,MIP[Previsto / Realizado]="Realizado",ISBLANK(MIP[[#This Row],[S.B Sitrack]])=FALSE,ISBLANK(MIP[[#This Row],[C.B Sitrack]])=FALSE),MIP[Sem],0) -> 0
B45: =WEEKNUM(MIP[[#This Row],[Data]]) -> 20 | C45: 42873 | E45: ADEMÁRIO / ANDERSON | F45: Previsto | H45: 2 | I45: 9 | J45: 0 | K45: 2 | L45: 0 | M45: 0.625 | N45: 0.64583333 | O45: =1+18/24/60 -> 1.0125 | P45: =1+48/24/60 -> 1.0333333 | S45: =MIP[[#This Row],[PT-1]]+MIP[[#This Row],[PT-2]]*2+MIP[[#This Row],[PT-3]]*3+MIP[[#This Row],[PT > 3 Pontos]] -> 15 | T45: =IF(MIP[[#This Row],[P.S]]-MIP[[#This Row],[U.P]]>=0,MIP[[#This Row],[P.S]]-MIP[[#This Row],[U.P]]+MIP[[#This Row],[S.B]]-MIP[[#This Row],[P.E]],1+MIP[[#This Row],[P.S]]-MIP[[#This Row],[U.P]]+MIP[[#This Row],[S.B]]-MIP[[#This Row],[P.E]])+MIP[[#This Row],[HH AC extra]] -> 0.041666667 | U45: =IF(MIP[[#This Row],[P.S]]-MIP[[#This Row],[U.P]]>=0,MIP[[#This Row],[P.S]]-MIP[[#This Row],[U.P]]+MIP[[#This Row],[S.B]]-MIP[[#This Row],[P.E]],1+MIP[[#This Row],[P.S]]-MIP[[#This Row],[U.P]]+MIP[[#This Row],[S.B]]-MIP[[#This Row],[P.E]]) -> 0.041666667 | V45: =MIP[[#This Row],[Eficiência]] -> 1.079434 | W45: =SUMIFS([1]!Excecoes[Coluna1],[1]!Excecoes[Dia],MIP[[#This Row],[Data]],[1]!Excecoes[Equipe],MIP[[#This Row],[Equipe]],[1]!Excecoes[Previsto / Realizado],MIP[[#This Row],[Previsto / Realizado]])+IF(MIP[[#This Row],[HH AC TOT]]>0.5,1,0)+IF(AND(OR(ISBLANK(MIP[[#This Row],[P.E]]),ISBLANK(MIP[[#This Row],[S.B]]),ISBLANK(MIP[[#This Row],[U.P]]),ISBLANK(MIP[[#This Row],[P.S]])),ISTEXT(MIP[[#This Row],[Equipe]])),1,IF(MIP[[#This Row],[P.E]]>MIP[[#This Row],[S.B]],1,0)+IF([1]Excessões!$H$6="Ativadas",IF(MIP[[#This Row],[HH AC TOT]]<0.0083,1,0)+IF(OR(MIP[[#This Row],[Eficiência]]>2,MIP[[#This Row],[Eficiência]]<0.3),1,0),0)) -> 0 | X45: =IF(MIP[[#This Row],[P.S]]-MIP[[#This Row],[P.E]]<0,1+MIP[[#This Row],[P.S]]-MIP[[#This Row],[P.E]]-1/24,MIP[[#This Row],[P.S]]-MIP[[#This Row],[P.E]]-1/24) -> 0.36666667 | Y45: =MIP[[#This Row],[PT-1]]*$S$3+MIP[[#This Row],[PT-2]]*$T$3+MIP[[#This Row],[PT-3]]*$U$3+MIP[[#This Row],[PT > 3 Pontos]]*$V$3 -> 0.35081604 | Z45: =MIP[[#This Row],[HH disponível]]-MIP[[#This Row],[HH AC TOT]] -> 0.325 | AA45: =MIP[[#This Row],[HH Produtivo Total]]/MIP[[#This Row],[HH Trabalhado]] -> 1.079434 | AB45: =MIP[[#This Row],[HH Produtivo Total]]/MIP[[#This Row],[HH disponível]] -> 0.956771 | AC45: =MIP[[#This Row],[HH Trabalhado]]/MIP[[#This Row],[HH disponível]] -> 0.88636364 | AD45: =LEFT(MIP[[#This Row],[Equipe]], SEARCH("/",MIP[[#This Row],[Equipe]],1)-1) -> ADEMÁRIO | AE45: =RIGHT(MIP[[#This Row],[Equipe]], LEN(MIP[[#This Row],[Equipe]])-SEARCH("/",MIP[[#This Row],[Equipe]],1)) -> ANDERSON | AF45: =COUNTIFS('[1]Tempo parado'!H:H,">="&MIP[[#This Row],[S.B Sitrack]],'[1]Tempo parado'!I:I,"<="&MIP[[#This Row],[C.B Sitrack]],'[1]Tempo parado'!B:B,MIP[[#This Row],[Placa]]) -> 0 | AK45: =IF(OR(MIP[[#This Row],[S.B Sitrack]]="",MIP[[#This Row],[C.B Sitrack]]=""),"-",IF(TIME(HOUR(MIP[[#This Row],[C.B Sitrack]]),MINUTE(MIP[[#This Row],[C.B Sitrack]]),SECOND(HOUR(MIP[[#This Row],[C.B Sitrack]])))-(MIP[[#This Row],[U.P]]-TRUNC(MIP[[#This Row],[U.P]],0))<0,(TIME(HOUR(MIP[[#This Row],[C.B Sitrack]]),MINUTE(MIP[[#This Row],[C.B Sitrack]]),SECOND(HOUR(MIP[[#This Row],[C.B Sitrack]])))-(MIP[[#This Row],[U.P]]-TRUNC(MIP[[#This Row],[U.P]],0)))*(-1),TIME(HOUR(MIP[[#This Row],[C.B Sitrack]]),MINUTE(MIP[[#This Row],[C.B Sitrack]]),SECOND(HOUR(MIP[[#This Row],[C.B Sitrack]])))-(MIP[[#This Row],[U.P]]-TRUNC(MIP[[#This Row],[U.P]],0)))+IF(TIME(HOUR(MIP[[#This Row],[S.B Sitrack]]),MINUTE(MIP[[#This Row],[S.B Sitrack]]),SECOND(HOUR(MIP[[#This Row],[S.B Sitrack]])))-(MIP[[#This Row],[S.B]]-TRUNC(MIP[[#This Row],[S.B]],0))<0,(TIME(HOUR(MIP[[#This Row],[S.B Sitrack]]),MINUTE(MIP[[#This Row],[S.B Sitrack]]),SECOND(HOUR(MIP[[#This Row],[S.B Sitrack]])))-(MIP[[#This Row],[S.B]]-TRUNC(MIP[[#This Row],[S.B]],0)))*(-1),TIME(HOUR(MIP[[#This Row],[S.B Sitrack]]),MINUTE(MIP[[#This Row],[S.B Sitrack]]),SECOND(HOUR(MIP[[#This Row],[S.B Sitrack]])))-(MIP[[#This Row],[S.B]]-TRUNC(MIP[[#This Row],[S.B]],0)))) -> - | AL45: =SUMIFS([1]!Tempoviagem[DISTANCIA (KM)],[1]!Tempoviagem[DATA INICIO],">="&MIP[[#This Row],[S.B Sitrack]],[1]!Tempoviagem[DATA FIM],"<="&MIP[[#This Row],[C.B Sitrack]],[1]!Tempoviagem[PLACA],MIP[[#This Row],[Placa]],[1]!Tempoviagem[DISTANCIA (KM)],">0",[1]!Tempoviagem[VELOCIDADE MÉDIA (KM/H)],"<150") -> 0 | AM45: =SUMIFS('[1]Tempo parado'!J:J,'[1]Tempo parado'!H:H,">="&MIP[[#This Row],[S.B Sitrack]],'[1]Tempo parado'!I:I,"<="&MIP[[#This Row],[C.B Sitrack]],'[1]Tempo parado'!B:B,MIP[[#This Row],[Placa]]) -> 0 | AN45: =IFERROR(MIP[[#This Row],[Tempo parado]]/(MIP[[#This Row],[C.B Sitrack]]-MIP[[#This Row],[S.B Sitrack]]),"") | AP45: =IF(AND(MIP[Exc]=0,MIP[Previsto / Realizado]="Realizado"),MIP[Sem],0) -> 0 | AQ45: =IF(AND(MIP[Exc]=0,MIP[Previsto / Realizado]="Realizado",ISBLANK(MIP[[#This Row],[S.B Sitrack]])=FALSE,ISBLANK(MIP[[#This Row],[C.B Sitrack]])=FALSE),MIP[Sem],0) -> 0
B46: =WEEKNUM(MIP[[#This Row],[Data]]) -> 20 | C46: 42873 | E46: ADEMÁRIO / ANDERSON | F46: Realizado | H46: 2 | I46: 2 | J46: 1 | K46: 0 | L46: 4 | M46: 0.63263889 | N46: 0.67916667 | O46: =1+26/24/60 -> 1.0180556 | P46: =1+57/24/60 -> 1.0395833 | R46: Choveu bastante durante o turno. Saída da turma atrasou devido a forte chuva no horário. Um protocolo aberto com logradouro 01 ponto, tinha 02 pontos apagados no mesmo logradouro. Equipe desviou a rota por solicitação do supervisor para executrar manutenção em um campo de futebol que iria ser utilizado a noite. Equipe também realizou programação do relógio na Praça da Matriz, Centro. | S46: =MIP[[#This Row],[PT-1]]+MIP[[#This Row],[PT-2]]*2+MIP[[#This Row],[PT-3]]*3+MIP[[#This Row],[PT > 3 Pontos]] -> 8 | T46: =IF(MIP[[#This Row],[P.S]]-MIP[[#This Row],[U.P]]>=0,MIP[[#This Row],[P.S]]-MIP[[#This Row],[U.P]]+MIP[[#This Row],[S.B]]-MIP[[#This Row],[P.E]],1+MIP[[#This Row],[P.S]]-MIP[[#This Row],[U.P]]+MIP[[#This Row],[S.B]]-MIP[[#This Row],[P.E]])+MIP[[#This Row],[HH AC extra]] -> 0.068055556 | U46: =IF(MIP[[#This Row],[P.S]]-MIP[[#This Row],[U.P]]>=0,MIP[[#This Row],[P.S]]-MIP[[#This Row],[U.P]]+MIP[[#This Row],[S.B]]-MIP[[#This Row],[P.E]],1+MIP[[#This Row],[P.S]]-MIP[[#This Row],[U.P]]+MIP[[#This Row],[S.B]]-MIP[[#This Row],[P.E]]) -> 0.068055556 | V46: =MIP[[#This Row],[Eficiência]] -> 0.58862529 | W46: =SUMIFS([1]!Excecoes[Coluna1],[1]!Excecoes[Dia],MIP[[#This Row],[Data]],[1]!Excecoes[Equipe],MIP[[#This Row],[Equipe]],[1]!Excecoes[Previsto / Realizado],MIP[[#This Row],[Previsto / Realizado]])+IF(MIP[[#This Row],[HH AC TOT]]>0.5,1,0)+IF(AND(OR(ISBLANK(MIP[[#This Row],[P.E]]),ISBLANK(MIP[[#This Row],[S.B]]),ISBLANK(MIP[[#This Row],[U.P]]),ISBLANK(MIP[[#This Row],[P.S]])),ISTEXT(MIP[[#This Row],[Equipe]])),1,IF(MIP[[#This Row],[P.E]]>MIP[[#This Row],[S.B]],1,0)+IF([1]Excessões!$H$6="Ativadas",IF(MIP[[#This Row],[HH AC TOT]]<0.0083,1,0)+IF(OR(MIP[[#This Row],[Eficiência]]>2,MIP[[#This Row],[Eficiência]]<0.3),1,0),0)) -> 0 | X46: =IF(MIP[[#This Row],[P.S]]-MIP[[#This Row],[P.E]]<0,1+MIP[[#This Row],[P.S]]-MIP[[#This Row],[P.E]]-1/24,MIP[[#This Row],[P.S]]-MIP[[#This Row],[P.E]]-1/24) -> 0.36527778 | Y46: =MIP[[#This Row],[PT-1]]*$S$3+MIP[[#This Row],[PT-2]]*$T$3+MIP[[#This Row],[PT-3]]*$U$3+MIP[[#This Row],[PT > 3 Pontos]]*$V$3 -> 0.17495252 | Z46: =MIP[[#This Row],[HH disponível]]-MIP[[#This Row],[HH AC TOT]] -> 0.29722222 | AA46: =MIP[[#This Row],[HH Produtivo Total]]/MIP[[#This Row],[HH Trabalhado]] -> 0.58862529 | AB46: =MIP[[#This Row],[HH Produtivo Total]]/MIP[[#This Row],[HH disponível]] -> 0.47895746 | AC46: =MIP[[#This Row],[HH Trabalhado]]/MIP[[#This Row],[HH disponível]] -> 0.81368821 | AD46: =LEFT(MIP[[#This Row],[Equipe]], SEARCH("/",MIP[[#This Row],[Equipe]],1)-1) -> ADEMÁRIO | AE46: =RIGHT(MIP[[#This Row],[Equipe]], LEN(MIP[[#This Row],[Equipe]])-SEARCH("/",MIP[[#This Row],[Equipe]],1)) -> ANDERSON | AF46: =COUNTIFS('[1]Tempo parado'!H:H,">="&MIP[[#This Row],[S.B Sitrack]],'[1]Tempo parado'!I:I,"<="&MIP[[#This Row],[C.B Sitrack]],'[1]Tempo parado'!B:B,MIP[[#This Row],[Placa]]) -> 0 | AK46: =IF(OR(MIP[[#This Row],[S.B Sitrack]]="",MIP[[#This Row],[C.B Sitrack]]=""),"-",IF(TIME(HOUR(MIP[[#This Row],[C.B Sitrack]]),MINUTE(MIP[[#This Row],[C.B Sitrack]]),SECOND(HOUR(MIP[[#This Row],[C.B Sitrack]])))-(MIP[[#This Row],[U.P]]-TRUNC(MIP[[#This Row],[U.P]],0))<0,(TIME(HOUR(MIP[[#This Row],[C.B Sitrack]]),MINUTE(MIP[[#This Row],[C.B Sitrack]]),SECOND(HOUR(MIP[[#This Row],[C.B Sitrack]])))-(MIP[[#This Row],[U.P]]-TRUNC(MIP[[#This Row],[U.P]],0)))*(-1),TIME(HOUR(MIP[[#This Row],[C.B Sitrack]]),MINUTE(MIP[[#This Row],[C.B Sitrack]]),SECOND(HOUR(MIP[[#This Row],[C.B Sitrack]])))-(MIP[[#This Row],[U.P]]-TRUNC(MIP[[#This Row],[U.P]],0)))+IF(TIME(HOUR(MIP[[#This Row],[S.B Sitrack]]),MINUTE(MIP[[#This Row],[S.B Sitrack]]),SECOND(HOUR(MIP[[#This Row],[S.B Sitrack]])))-(MIP[[#This Row],[S.B]]-TRUNC(MIP[[#This Row],[S.B]],0))<0,(TIME(HOUR(MIP[[#This Row],[S.B Sitrack]]),MINUTE(MIP[[#This Row],[S.B Sitrack]]),SECOND(HOUR(MIP[[#This Row],[S.B Sitrack]])))-(MIP[[#This Row],[S.B]]-TRUNC(MIP[[#This Row],[S.B]],0)))*(-1),TIME(HOUR(MIP[[#This Row],[S.B Sitrack]]),MINUTE(MIP[[#This Row],[S.B Sitrack]]),SECOND(HOUR(MIP[[#This Row],[S.B Sitrack]])))-(MIP[[#This Row],[S.B]]-TRUNC(MIP[[#This Row],[S.B]],0)))) -> - | AL46: =SUMIFS([1]!Tempoviagem[DISTANCIA (KM)],[1]!Tempoviagem[DATA INICIO],">="&MIP[[#This Row],[S.B Sitrack]],[1]!Tempoviagem[DATA FIM],"<="&MIP[[#This Row],[C.B Sitrack]],[1]!Tempoviagem[PLACA],MIP[[#This Row],[Placa]],[1]!Tempoviagem[DISTANCIA (KM)],">0",[1]!Tempoviagem[VELOCIDADE MÉDIA (KM/H)],"<150") -> 0 | AM46: =SUMIFS('[1]Tempo parado'!J:J,'[1]Tempo parado'!H:H,">="&MIP[[#This Row],[S.B Sitrack]],'[1]Tempo parado'!I:I,"<="&MIP[[#This Row],[C.B Sitrack]],'[1]Tempo parado'!B:B,MIP[[#This Row],[Placa]]) -> 0 | AN46: =IFERROR(MIP[[#This Row],[Tempo parado]]/(MIP[[#This Row],[C.B Sitrack]]-MIP[[#This Row],[S.B Sitrack]]),"") | AP46: =IF(AND(MIP[Exc]=0,MIP[Previsto / Realizado]="Realizado"),MIP[Sem],0) -> 20 | AQ46: =IF(AND(MIP[Exc]=0,MIP[Previsto / Realizado]="Realizado",ISBLANK(MIP[[#This Row],[S.B Sitrack]])=FALSE,ISBLANK(MIP[[#This Row],[C.B Sitrack]])=FALSE),MIP[Sem],0) -> 0
